BEGIN:VCALENDAR
VERSION:2.0
PRODID:-//Lake Sunapee Living - ECPv6.15.13//NONSGML v1.0//EN
CALSCALE:GREGORIAN
METHOD:PUBLISH
X-ORIGINAL-URL:https://lake-sunapee-living.com
X-WR-CALDESC:Events for Lake Sunapee Living
REFRESH-INTERVAL;VALUE=DURATION:PT1H
X-Robots-Tag:noindex
X-PUBLISHED-TTL:PT1H
BEGIN:VTIMEZONE
TZID:America/New_York
BEGIN:DAYLIGHT
TZOFFSETFROM:-0500
TZOFFSETTO:-0400
TZNAME:EDT
DTSTART:20170312T070000
END:DAYLIGHT
BEGIN:STANDARD
TZOFFSETFROM:-0400
TZOFFSETTO:-0500
TZNAME:EST
DTSTART:20171105T060000
END:STANDARD
BEGIN:DAYLIGHT
TZOFFSETFROM:-0500
TZOFFSETTO:-0400
TZNAME:EDT
DTSTART:20180311T070000
END:DAYLIGHT
BEGIN:STANDARD
TZOFFSETFROM:-0400
TZOFFSETTO:-0500
TZNAME:EST
DTSTART:20181104T060000
END:STANDARD
BEGIN:DAYLIGHT
TZOFFSETFROM:-0500
TZOFFSETTO:-0400
TZNAME:EDT
DTSTART:20190310T070000
END:DAYLIGHT
BEGIN:STANDARD
TZOFFSETFROM:-0400
TZOFFSETTO:-0500
TZNAME:EST
DTSTART:20191103T060000
END:STANDARD
END:VTIMEZONE
BEGIN:VEVENT
DTSTART;TZID=America/New_York:20180521T170000
DTEND;TZID=America/New_York:20180521T210000
DTSTAMP:20260424T214424
CREATED:20180402T223437Z
LAST-MODIFIED:20180402T223437Z
UID:10000224-1526922000-1526936400@lake-sunapee-living.com
SUMMARY:CLSRT Night at The Local in Warner
DESCRIPTION:CLSRT Night at The Local in Warner \nHosted by Concord – Lake Sunapee Rail Trail and The Local \nThe food at The Local is delicious and the team really supports the rail trail. Come enjoy a great meal and part of the proceeds will benefit the rail trail.
URL:https://lake-sunapee-living.com/event/clsrt-night-at-the-local-in-warner/
LOCATION:The Local\, 2 E Main St\, Warner\, NH\, 03278\, United States
CATEGORIES:Rails to Trails
GEO:43.2805622;-71.816465
X-APPLE-STRUCTURED-LOCATION;VALUE=URI;X-ADDRESS=The Local 2 E Main St Warner NH 03278 United States;X-APPLE-RADIUS=500;X-TITLE=2 E Main St:geo:-71.816465,43.2805622
END:VEVENT
END:VCALENDAR