BEGIN:VCALENDAR
VERSION:2.0
PRODID:-//Lake Sunapee Living - ECPv6.15.13//NONSGML v1.0//EN
CALSCALE:GREGORIAN
METHOD:PUBLISH
X-ORIGINAL-URL:https://lake-sunapee-living.com
X-WR-CALDESC:Events for Lake Sunapee Living
REFRESH-INTERVAL;VALUE=DURATION:PT1H
X-Robots-Tag:noindex
X-PUBLISHED-TTL:PT1H
BEGIN:VTIMEZONE
TZID:America/New_York
BEGIN:DAYLIGHT
TZOFFSETFROM:-0500
TZOFFSETTO:-0400
TZNAME:EDT
DTSTART:20190310T070000
END:DAYLIGHT
BEGIN:STANDARD
TZOFFSETFROM:-0400
TZOFFSETTO:-0500
TZNAME:EST
DTSTART:20191103T060000
END:STANDARD
BEGIN:DAYLIGHT
TZOFFSETFROM:-0500
TZOFFSETTO:-0400
TZNAME:EDT
DTSTART:20200308T070000
END:DAYLIGHT
BEGIN:STANDARD
TZOFFSETFROM:-0400
TZOFFSETTO:-0500
TZNAME:EST
DTSTART:20201101T060000
END:STANDARD
BEGIN:DAYLIGHT
TZOFFSETFROM:-0500
TZOFFSETTO:-0400
TZNAME:EDT
DTSTART:20210314T070000
END:DAYLIGHT
BEGIN:STANDARD
TZOFFSETFROM:-0400
TZOFFSETTO:-0500
TZNAME:EST
DTSTART:20211107T060000
END:STANDARD
END:VTIMEZONE
BEGIN:VEVENT
DTSTART;TZID=America/New_York:20200227T200000
DTEND;TZID=America/New_York:20200227T213000
DTSTAMP:20260424T232214
CREATED:20200119T003741Z
LAST-MODIFIED:20200119T003757Z
UID:10003928-1582833600-1582839000@lake-sunapee-living.com
SUMMARY:Live Music: Chris Smither at the Flying Goose Brew Pub
DESCRIPTION:Reservations required! Please call (603) 526-6899 to reserve your tickets. \n$40 \n8:00 pm show with the room opening at 6:00 pm for those interested in pre-show dinner seating. \nSeating is assigned by order of reservation and typically with smaller parties seated together.
URL:https://lake-sunapee-living.com/event/live-music-chris-smither-at-the-flying-goose-brew-pub/
LOCATION:The Flying Goose Pub\, 40 Andover Road\, New London\, NH\, 03257\, United States
CATEGORIES:Live Music
GEO:43.3994758;-71.9603714
X-APPLE-STRUCTURED-LOCATION;VALUE=URI;X-ADDRESS=The Flying Goose Pub 40 Andover Road New London NH 03257 United States;X-APPLE-RADIUS=500;X-TITLE=40 Andover Road:geo:-71.9603714,43.3994758
END:VEVENT
END:VCALENDAR