BEGIN:VCALENDAR
VERSION:2.0
PRODID:-//Lake Sunapee Living - ECPv6.15.13//NONSGML v1.0//EN
CALSCALE:GREGORIAN
METHOD:PUBLISH
X-ORIGINAL-URL:https://lake-sunapee-living.com
X-WR-CALDESC:Events for Lake Sunapee Living
REFRESH-INTERVAL;VALUE=DURATION:PT1H
X-Robots-Tag:noindex
X-PUBLISHED-TTL:PT1H
BEGIN:VTIMEZONE
TZID:America/New_York
BEGIN:DAYLIGHT
TZOFFSETFROM:-0500
TZOFFSETTO:-0400
TZNAME:EDT
DTSTART:20180311T070000
END:DAYLIGHT
BEGIN:STANDARD
TZOFFSETFROM:-0400
TZOFFSETTO:-0500
TZNAME:EST
DTSTART:20181104T060000
END:STANDARD
BEGIN:DAYLIGHT
TZOFFSETFROM:-0500
TZOFFSETTO:-0400
TZNAME:EDT
DTSTART:20190310T070000
END:DAYLIGHT
BEGIN:STANDARD
TZOFFSETFROM:-0400
TZOFFSETTO:-0500
TZNAME:EST
DTSTART:20191103T060000
END:STANDARD
BEGIN:DAYLIGHT
TZOFFSETFROM:-0500
TZOFFSETTO:-0400
TZNAME:EDT
DTSTART:20200308T070000
END:DAYLIGHT
BEGIN:STANDARD
TZOFFSETFROM:-0400
TZOFFSETTO:-0500
TZNAME:EST
DTSTART:20201101T060000
END:STANDARD
END:VTIMEZONE
BEGIN:VEVENT
DTSTART;TZID=America/New_York:20191215T160000
DTEND;TZID=America/New_York:20191215T170000
DTSTAMP:20260425T113350
CREATED:20191130T130228Z
LAST-MODIFIED:20191130T130228Z
UID:10000371-1576425600-1576429200@lake-sunapee-living.com
SUMMARY:Annual Children’s Christmas Party Hosted by Newbury Fire Rescue
DESCRIPTION:Save the date for the annual Newbury Fire Rescue Christmas party for the children of Newbury.
URL:https://lake-sunapee-living.com/event/annual-childrens-christmas-party-hosted-by-newbury-fire-rescue/
LOCATION:Newbury Fire Rescue\, 952 Route 103\, Newbury\, NH\, 03255\, United States
CATEGORIES:Christmas
GEO:43.321139;-72.0364825
X-APPLE-STRUCTURED-LOCATION;VALUE=URI;X-ADDRESS=Newbury Fire Rescue 952 Route 103 Newbury NH 03255 United States;X-APPLE-RADIUS=500;X-TITLE=952 Route 103:geo:-72.0364825,43.321139
END:VEVENT
END:VCALENDAR