BEGIN:VCALENDAR
VERSION:2.0
PRODID:-//Lake Sunapee Living - ECPv6.15.13//NONSGML v1.0//EN
CALSCALE:GREGORIAN
METHOD:PUBLISH
X-ORIGINAL-URL:https://lake-sunapee-living.com
X-WR-CALDESC:Events for Lake Sunapee Living
REFRESH-INTERVAL;VALUE=DURATION:PT1H
X-Robots-Tag:noindex
X-PUBLISHED-TTL:PT1H
BEGIN:VTIMEZONE
TZID:America/New_York
BEGIN:DAYLIGHT
TZOFFSETFROM:-0500
TZOFFSETTO:-0400
TZNAME:EDT
DTSTART:20160313T070000
END:DAYLIGHT
BEGIN:STANDARD
TZOFFSETFROM:-0400
TZOFFSETTO:-0500
TZNAME:EST
DTSTART:20161106T060000
END:STANDARD
BEGIN:DAYLIGHT
TZOFFSETFROM:-0500
TZOFFSETTO:-0400
TZNAME:EDT
DTSTART:20170312T070000
END:DAYLIGHT
BEGIN:STANDARD
TZOFFSETFROM:-0400
TZOFFSETTO:-0500
TZNAME:EST
DTSTART:20171105T060000
END:STANDARD
BEGIN:DAYLIGHT
TZOFFSETFROM:-0500
TZOFFSETTO:-0400
TZNAME:EDT
DTSTART:20180311T070000
END:DAYLIGHT
BEGIN:STANDARD
TZOFFSETFROM:-0400
TZOFFSETTO:-0500
TZNAME:EST
DTSTART:20181104T060000
END:STANDARD
END:VTIMEZONE
BEGIN:VEVENT
DTSTART;TZID=America/New_York:20171006T193000
DTEND;TZID=America/New_York:20171006T210000
DTSTAMP:20260425T165321
CREATED:20170908T001749Z
LAST-MODIFIED:20170908T001831Z
UID:10000008-1507318200-1507323600@lake-sunapee-living.com
SUMMARY:Social & Digital Media Business Growth Series at the Lake Sunapee CoC
DESCRIPTION:If you have a small business in NH\, silence – or lack of presence – is no longer an option! People are talking about YOUR business whether you are aware of it or not. If you don’t engage in these discussions\, you are probably losing customers! Come learn about some ways to engage with Facebook\, LinkedIn and YouTube. Speakers: Dan Evans\, Hydrate Marketing; Abby Peel\, Strategic Social Media; Jen Tockman\, Colby-Sawyer College
URL:https://lake-sunapee-living.com/event/business-growth-series-lake-sunapee-coc-using-social-digital-media/
CATEGORIES:Business
END:VEVENT
END:VCALENDAR