BEGIN:VCALENDAR
VERSION:2.0
PRODID:-//Lake Sunapee Living - ECPv6.15.13//NONSGML v1.0//EN
CALSCALE:GREGORIAN
METHOD:PUBLISH
X-ORIGINAL-URL:https://lake-sunapee-living.com
X-WR-CALDESC:Events for Lake Sunapee Living
REFRESH-INTERVAL;VALUE=DURATION:PT1H
X-Robots-Tag:noindex
X-PUBLISHED-TTL:PT1H
BEGIN:VTIMEZONE
TZID:America/New_York
BEGIN:DAYLIGHT
TZOFFSETFROM:-0500
TZOFFSETTO:-0400
TZNAME:EDT
DTSTART:20240310T070000
END:DAYLIGHT
BEGIN:STANDARD
TZOFFSETFROM:-0400
TZOFFSETTO:-0500
TZNAME:EST
DTSTART:20241103T060000
END:STANDARD
BEGIN:DAYLIGHT
TZOFFSETFROM:-0500
TZOFFSETTO:-0400
TZNAME:EDT
DTSTART:20250309T070000
END:DAYLIGHT
BEGIN:STANDARD
TZOFFSETFROM:-0400
TZOFFSETTO:-0500
TZNAME:EST
DTSTART:20251102T060000
END:STANDARD
BEGIN:DAYLIGHT
TZOFFSETFROM:-0500
TZOFFSETTO:-0400
TZNAME:EDT
DTSTART:20260308T070000
END:DAYLIGHT
BEGIN:STANDARD
TZOFFSETFROM:-0400
TZOFFSETTO:-0500
TZNAME:EST
DTSTART:20261101T060000
END:STANDARD
END:VTIMEZONE
BEGIN:VEVENT
DTSTART;TZID=America/New_York:20250822T193000
DTEND;TZID=America/New_York:20250822T210000
DTSTAMP:20260425T065719
CREATED:20250617T120454Z
LAST-MODIFIED:20250617T120454Z
UID:10004598-1755891000-1755896400@lake-sunapee-living.com
SUMMARY:Live Music: Friday Nights at The Livery with Cécilia
DESCRIPTION:Traditional music and French-Canadian step dancing that causes a wonderful stir and fills to overflowing at every venue – that is Cécilia! Widely recognized as three of Canada’s finest musicians\, it is a pleasure to see how much enjoyment Timi Turmel\, Erin Leahy\, and Louis Schryer find in playing together. While honoring their heritage as Cécilia\, their music making has an undeniably fresh and high-spirited sound. \nThey bring the best of many musical worlds together in their explorations of traditional\, Celtic and Quebecois music. Every one of their pieces is skillfully arranged and highlighted with influences from contemporary\, classical\, jazz and swing styles. Cécilia’s recent debut album Accent is an impressive offering full of vibrant rhythms and melodies\, all resonating with a unique warmth and richness of expression. \nEach performance by Cécilia is a call to come out and share – not only in the joy of three dedicated musicians making music together but also in creating with Timi\, Erin\, and Louis a unique and memorable musical experience. You’ll find yourself with a smile that lasts long after the final notes of Cécilia’s accordion\, piano\, and violin have melted away. \nFriday\, August 22nd\n7:30 pm. Doors open at 7:00 pm. BYOB\nCost: $20 per person \nPURCHASE TICKETS: Click Here \nWebsite: ceciliamusic.ca\nFacebook: https://www.facebook.com/ceciliamusic4u\nInstagram: https://www.instagram.com/ceciliamusic4u/?hl=en\nYouTube: https://www.youtube.com/channel/UC62_Yq4G8Yj_lxVws8igvDg
URL:https://lake-sunapee-living.com/event/live-music-friday-nights-at-the-livery-with-cecilia/
LOCATION:The Livery\, 58 Main St.\, Sunapee\, NH\, 03782\, United States
CATEGORIES:Live Music
GEO:43.3860983;-72.0826955
X-APPLE-STRUCTURED-LOCATION;VALUE=URI;X-ADDRESS=The Livery 58 Main St. Sunapee NH 03782 United States;X-APPLE-RADIUS=500;X-TITLE=58 Main St.:geo:-72.0826955,43.3860983
END:VEVENT
END:VCALENDAR