BEGIN:VCALENDAR
VERSION:2.0
PRODID:-//Lake Sunapee Living - ECPv6.15.13//NONSGML v1.0//EN
CALSCALE:GREGORIAN
METHOD:PUBLISH
X-ORIGINAL-URL:https://lake-sunapee-living.com
X-WR-CALDESC:Events for Lake Sunapee Living
REFRESH-INTERVAL;VALUE=DURATION:PT1H
X-Robots-Tag:noindex
X-PUBLISHED-TTL:PT1H
BEGIN:VTIMEZONE
TZID:America/New_York
BEGIN:DAYLIGHT
TZOFFSETFROM:-0500
TZOFFSETTO:-0400
TZNAME:EDT
DTSTART:20170312T070000
END:DAYLIGHT
BEGIN:STANDARD
TZOFFSETFROM:-0400
TZOFFSETTO:-0500
TZNAME:EST
DTSTART:20171105T060000
END:STANDARD
BEGIN:DAYLIGHT
TZOFFSETFROM:-0500
TZOFFSETTO:-0400
TZNAME:EDT
DTSTART:20180311T070000
END:DAYLIGHT
BEGIN:STANDARD
TZOFFSETFROM:-0400
TZOFFSETTO:-0500
TZNAME:EST
DTSTART:20181104T060000
END:STANDARD
BEGIN:DAYLIGHT
TZOFFSETFROM:-0500
TZOFFSETTO:-0400
TZNAME:EDT
DTSTART:20190310T070000
END:DAYLIGHT
BEGIN:STANDARD
TZOFFSETFROM:-0400
TZOFFSETTO:-0500
TZNAME:EST
DTSTART:20191103T060000
END:STANDARD
BEGIN:DAYLIGHT
TZOFFSETFROM:-0500
TZOFFSETTO:-0400
TZNAME:EDT
DTSTART:20200308T070000
END:DAYLIGHT
BEGIN:STANDARD
TZOFFSETFROM:-0400
TZOFFSETTO:-0500
TZNAME:EST
DTSTART:20201101T060000
END:STANDARD
END:VTIMEZONE
BEGIN:VEVENT
DTSTART;TZID=America/New_York:20180728T180000
DTEND;TZID=America/New_York:20180728T193000
DTSTAMP:20260424T232152
CREATED:20180705T162542Z
LAST-MODIFIED:20180705T162542Z
UID:10000192-1532800800-1532806200@lake-sunapee-living.com
SUMMARY:Live Music at the Wilmot Bandstand: Canyon Run
DESCRIPTION:Canyon Run\, country\, folk & Americana \nMore information is available at www.wilmotWCA.org\, at 526-7934 or follow the WCA on Facebook.
URL:https://lake-sunapee-living.com/event/live-music-at-the-wilmot-bandstand-canyon-run/
LOCATION:Wilmot Bandstand\, 1 Kearsarge Valley Road\, Wilmot\, NH\, 03287\, United States
CATEGORIES:Free Outdoor Concert
GEO:43.3535433;-71.9151439
X-APPLE-STRUCTURED-LOCATION;VALUE=URI;X-ADDRESS=Wilmot Bandstand 1 Kearsarge Valley Road Wilmot NH 03287 United States;X-APPLE-RADIUS=500;X-TITLE=1 Kearsarge Valley Road:geo:-71.9151439,43.3535433
END:VEVENT
BEGIN:VEVENT
DTSTART;TZID=America/New_York:20180809T193000
DTEND;TZID=America/New_York:20180809T210000
DTSTAMP:20260424T232152
CREATED:20180606T232209Z
LAST-MODIFIED:20180606T232209Z
UID:10000429-1533843000-1533848400@lake-sunapee-living.com
SUMMARY:Newbury Gazebo Concert: Canyon Run
DESCRIPTION:Canyon Run (American Country) \nRemember to bring a chair or blanket for sitting.
URL:https://lake-sunapee-living.com/event/newbury-gazebo-concert-canyon-run/
LOCATION:Newbury Gazebo\, 980 Rt 103\, Newbury\, NH\, 03255\, United States
CATEGORIES:Free Outdoor Concert
GEO:43.331756;-72.0444459
X-APPLE-STRUCTURED-LOCATION;VALUE=URI;X-ADDRESS=Newbury Gazebo 980 Rt 103 Newbury NH 03255 United States;X-APPLE-RADIUS=500;X-TITLE=980 Rt 103:geo:-72.0444459,43.331756
END:VEVENT
BEGIN:VEVENT
DTSTART;TZID=America/New_York:20190628T183000
DTEND;TZID=America/New_York:20190628T200000
DTSTAMP:20260424T232152
CREATED:20190628T000038Z
LAST-MODIFIED:20190628T000100Z
UID:10003829-1561746600-1561752000@lake-sunapee-living.com
SUMMARY:Free Outdoor Concert: The Canyon Run at the New London Bandstand
DESCRIPTION:On the Town Common green in between NL Town Office & Whipple Hall. In the event of rain concert will be moved to the Whipple Memorial Town Hall adjacent to the common. \n 
URL:https://lake-sunapee-living.com/event/free-outdoor-concert-the-canyon-run-at-the-new-london-bandstand/
LOCATION:Haddad Bandstand\, 401 Main Street\, New London\, NH\, 03257\, United States
CATEGORIES:Free Outdoor Concert
GEO:43.4406908;-72.0244582
X-APPLE-STRUCTURED-LOCATION;VALUE=URI;X-ADDRESS=Haddad Bandstand 401 Main Street New London NH 03257 United States;X-APPLE-RADIUS=500;X-TITLE=401 Main Street:geo:-72.0244582,43.4406908
END:VEVENT
BEGIN:VEVENT
DTSTART;TZID=America/New_York:20190711T190000
DTEND;TZID=America/New_York:20190711T203000
DTSTAMP:20260424T232152
CREATED:20190505T130013Z
LAST-MODIFIED:20190505T130351Z
UID:10003698-1562871600-1562877000@lake-sunapee-living.com
SUMMARY:Live Music: Canyon Run at Newbury Harbor Gazebo
DESCRIPTION:Canyon Run at Newbury Harbor Gazebo \nAmerican Country Band
URL:https://lake-sunapee-living.com/event/live-music-canyon-run-at-newbury-harbor-gazebo/
LOCATION:Newbury Gazebo\, 980 Rt 103\, Newbury\, NH\, 03255\, United States
CATEGORIES:Live Music
GEO:43.331756;-72.0444459
X-APPLE-STRUCTURED-LOCATION;VALUE=URI;X-ADDRESS=Newbury Gazebo 980 Rt 103 Newbury NH 03255 United States;X-APPLE-RADIUS=500;X-TITLE=980 Rt 103:geo:-72.0444459,43.331756
END:VEVENT
END:VCALENDAR