BEGIN:VCALENDAR
VERSION:2.0
PRODID:-//Lake Sunapee Living - ECPv6.15.13//NONSGML v1.0//EN
CALSCALE:GREGORIAN
METHOD:PUBLISH
X-ORIGINAL-URL:https://lake-sunapee-living.com
X-WR-CALDESC:Events for Lake Sunapee Living
REFRESH-INTERVAL;VALUE=DURATION:PT1H
X-Robots-Tag:noindex
X-PUBLISHED-TTL:PT1H
BEGIN:VTIMEZONE
TZID:America/New_York
BEGIN:DAYLIGHT
TZOFFSETFROM:-0500
TZOFFSETTO:-0400
TZNAME:EDT
DTSTART:20170312T070000
END:DAYLIGHT
BEGIN:STANDARD
TZOFFSETFROM:-0400
TZOFFSETTO:-0500
TZNAME:EST
DTSTART:20171105T060000
END:STANDARD
BEGIN:DAYLIGHT
TZOFFSETFROM:-0500
TZOFFSETTO:-0400
TZNAME:EDT
DTSTART:20180311T070000
END:DAYLIGHT
BEGIN:STANDARD
TZOFFSETFROM:-0400
TZOFFSETTO:-0500
TZNAME:EST
DTSTART:20181104T060000
END:STANDARD
BEGIN:DAYLIGHT
TZOFFSETFROM:-0500
TZOFFSETTO:-0400
TZNAME:EDT
DTSTART:20190310T070000
END:DAYLIGHT
BEGIN:STANDARD
TZOFFSETFROM:-0400
TZOFFSETTO:-0500
TZNAME:EST
DTSTART:20191103T060000
END:STANDARD
END:VTIMEZONE
BEGIN:VEVENT
DTSTART;TZID=America/New_York:20180721T190000
DTEND;TZID=America/New_York:20180721T210000
DTSTAMP:20260424T204254
CREATED:20180701T145530Z
LAST-MODIFIED:20180701T145530Z
UID:10000594-1532199600-1532206800@lake-sunapee-living.com
SUMMARY:Live Music: New Orleans Night at The Old Courthouse
DESCRIPTION:Join us under the tent for a fabulous buffet\, prepared by our Chef\, Robert\, and designed by former New Orleans resident\, Priscilla Hagebusch. \nLive Dixieland quartet. \nCall 863-8360 for reservations.
URL:https://lake-sunapee-living.com/event/live-music-new-orleans-night-at-the-old-courthouse/
LOCATION:The Old Courthouse Restaurant\, 30 Main St\, Newport\, NH\, 03773\, United States
CATEGORIES:Live Music
GEO:43.3623236;-72.1711152
X-APPLE-STRUCTURED-LOCATION;VALUE=URI;X-ADDRESS=The Old Courthouse Restaurant 30 Main St Newport NH 03773 United States;X-APPLE-RADIUS=500;X-TITLE=30 Main St:geo:-72.1711152,43.3623236
END:VEVENT
BEGIN:VEVENT
DTSTART;TZID=America/New_York:20180804T190000
DTEND;TZID=America/New_York:20180804T210000
DTSTAMP:20260424T204254
CREATED:20180701T145731Z
LAST-MODIFIED:20180701T150314Z
UID:10000596-1533409200-1533416400@lake-sunapee-living.com
SUMMARY:Live Music: Caribbean Night at The Old Courthouse
DESCRIPTION:Monadnock Island Steel Drum Band returns for their tenth year!! \nChef Robert’s amazing Caribbean buffet compliments the music for a wonderful evening under the tent. \nCall 863-8360 for reservations
URL:https://lake-sunapee-living.com/event/live-music-caribbean-night-at-the-old-courthouse/
LOCATION:The Old Courthouse Restaurant\, 30 Main St\, Newport\, NH\, 03773\, United States
CATEGORIES:Live Music
GEO:43.3623236;-72.1711152
X-APPLE-STRUCTURED-LOCATION;VALUE=URI;X-ADDRESS=The Old Courthouse Restaurant 30 Main St Newport NH 03773 United States;X-APPLE-RADIUS=500;X-TITLE=30 Main St:geo:-72.1711152,43.3623236
END:VEVENT
BEGIN:VEVENT
DTSTART;TZID=America/New_York:20180818T190000
DTEND;TZID=America/New_York:20180818T210000
DTSTAMP:20260424T204254
CREATED:20180701T145022Z
LAST-MODIFIED:20180701T145052Z
UID:10000592-1534618800-1534626000@lake-sunapee-living.com
SUMMARY:Live Music: Elisabeth Von Trapp at The Old Courthouse
DESCRIPTION:Join us under the tent for a fabulous Austrian Buffet and an evening of music with Elisabeth Von Trapp. \nShe will be singing some favorite Rogers and Hammerstein show tunes along with some of her own favorites. \nCall 863-8360 for reservations.
URL:https://lake-sunapee-living.com/event/live-music-elisabeth-von-trapp-at-the-old-courthouse/
LOCATION:The Old Courthouse Restaurant\, 30 Main St\, Newport\, NH\, 03773\, United States
CATEGORIES:Live Theater
GEO:43.3623236;-72.1711152
X-APPLE-STRUCTURED-LOCATION;VALUE=URI;X-ADDRESS=The Old Courthouse Restaurant 30 Main St Newport NH 03773 United States;X-APPLE-RADIUS=500;X-TITLE=30 Main St:geo:-72.1711152,43.3623236
END:VEVENT
END:VCALENDAR