BEGIN:VCALENDAR
VERSION:2.0
PRODID:-//Lake Sunapee Living - ECPv6.15.13//NONSGML v1.0//EN
CALSCALE:GREGORIAN
METHOD:PUBLISH
X-ORIGINAL-URL:https://lake-sunapee-living.com
X-WR-CALDESC:Events for Lake Sunapee Living
REFRESH-INTERVAL;VALUE=DURATION:PT1H
X-Robots-Tag:noindex
X-PUBLISHED-TTL:PT1H
BEGIN:VTIMEZONE
TZID:America/New_York
BEGIN:DAYLIGHT
TZOFFSETFROM:-0500
TZOFFSETTO:-0400
TZNAME:EDT
DTSTART:20210314T070000
END:DAYLIGHT
BEGIN:STANDARD
TZOFFSETFROM:-0400
TZOFFSETTO:-0500
TZNAME:EST
DTSTART:20211107T060000
END:STANDARD
BEGIN:DAYLIGHT
TZOFFSETFROM:-0500
TZOFFSETTO:-0400
TZNAME:EDT
DTSTART:20220313T070000
END:DAYLIGHT
BEGIN:STANDARD
TZOFFSETFROM:-0400
TZOFFSETTO:-0500
TZNAME:EST
DTSTART:20221106T060000
END:STANDARD
BEGIN:DAYLIGHT
TZOFFSETFROM:-0500
TZOFFSETTO:-0400
TZNAME:EDT
DTSTART:20230312T070000
END:DAYLIGHT
BEGIN:STANDARD
TZOFFSETFROM:-0400
TZOFFSETTO:-0500
TZNAME:EST
DTSTART:20231105T060000
END:STANDARD
END:VTIMEZONE
BEGIN:VEVENT
DTSTART;TZID=America/New_York:20220814T180000
DTEND;TZID=America/New_York:20220814T200000
DTSTAMP:20260424T214359
CREATED:20220731T165406Z
LAST-MODIFIED:20220731T165406Z
UID:10004152-1660500000-1660507200@lake-sunapee-living.com
SUMMARY:Free Live Music: Brian Devenger on The Newport Common
DESCRIPTION:FREE to the public. Bring your lawn chair\, blanket\, and your entire family for this wonderful summer tradition every Sunday from 6-8pm. In the event of rain\, the concerts will be canceled.
URL:https://lake-sunapee-living.com/event/free-live-music-brian-devenger-on-the-newport-common/
LOCATION:Newport Town Common\, 15 Park St\, Newport\, NH\, 03773\, United States
CATEGORIES:Free Outdoor Concert
GEO:43.3659042;-72.1734984
X-APPLE-STRUCTURED-LOCATION;VALUE=URI;X-ADDRESS=Newport Town Common 15 Park St Newport NH 03773 United States;X-APPLE-RADIUS=500;X-TITLE=15 Park St:geo:-72.1734984,43.3659042
END:VEVENT
END:VCALENDAR