BEGIN:VCALENDAR
VERSION:2.0
PRODID:-//Lake Sunapee Living - ECPv6.15.13//NONSGML v1.0//EN
CALSCALE:GREGORIAN
METHOD:PUBLISH
X-ORIGINAL-URL:https://lake-sunapee-living.com
X-WR-CALDESC:Events for Lake Sunapee Living
REFRESH-INTERVAL;VALUE=DURATION:PT1H
X-Robots-Tag:noindex
X-PUBLISHED-TTL:PT1H
BEGIN:VTIMEZONE
TZID:America/New_York
BEGIN:DAYLIGHT
TZOFFSETFROM:-0500
TZOFFSETTO:-0400
TZNAME:EDT
DTSTART:20160313T070000
END:DAYLIGHT
BEGIN:STANDARD
TZOFFSETFROM:-0400
TZOFFSETTO:-0500
TZNAME:EST
DTSTART:20161106T060000
END:STANDARD
BEGIN:DAYLIGHT
TZOFFSETFROM:-0500
TZOFFSETTO:-0400
TZNAME:EDT
DTSTART:20170312T070000
END:DAYLIGHT
BEGIN:STANDARD
TZOFFSETFROM:-0400
TZOFFSETTO:-0500
TZNAME:EST
DTSTART:20171105T060000
END:STANDARD
BEGIN:DAYLIGHT
TZOFFSETFROM:-0500
TZOFFSETTO:-0400
TZNAME:EDT
DTSTART:20180311T070000
END:DAYLIGHT
BEGIN:STANDARD
TZOFFSETFROM:-0400
TZOFFSETTO:-0500
TZNAME:EST
DTSTART:20181104T060000
END:STANDARD
BEGIN:DAYLIGHT
TZOFFSETFROM:-0500
TZOFFSETTO:-0400
TZNAME:EDT
DTSTART:20190310T070000
END:DAYLIGHT
BEGIN:STANDARD
TZOFFSETFROM:-0400
TZOFFSETTO:-0500
TZNAME:EST
DTSTART:20191103T060000
END:STANDARD
END:VTIMEZONE
BEGIN:VEVENT
DTSTART;VALUE=DATE:20171007
DTEND;VALUE=DATE:20171008
DTSTAMP:20260424T232226
CREATED:20170908T235101Z
LAST-MODIFIED:20170908T235345Z
UID:10000004-1507334400-1507420799@lake-sunapee-living.com
SUMMARY:Sunapee-Ragged-Kearsarge Greenway Hike Over Bog Mountain
DESCRIPTION:Pick up near the end of Sooze’s hike (9/23) when Anne Hewitt leads a hike starting on Rte 4A in Wilmot. This route takes you east up and over Bog Mountain and ends up in Wilmot Center. \nThis is a moderate 4.5 mile hike with some significant changes in elevation. It should take 3-4 hours. For more information contact Anne Hewitt 848-5792.
URL:https://lake-sunapee-living.com/event/sunapee-ragged-kearsarge-greenway-hike-bog-mountain/
LOCATION:NH
CATEGORIES:Hike
END:VEVENT
BEGIN:VEVENT
DTSTART;TZID=America/New_York:20180722T080000
DTEND;TZID=America/New_York:20180722T170000
DTSTAMP:20260424T232226
CREATED:20180610T040254Z
LAST-MODIFIED:20180610T040254Z
UID:10000169-1532246400-1532278800@lake-sunapee-living.com
SUMMARY:Summer Hike on the SRK Greenway: Bog Mountain Hike
DESCRIPTION:Join Anne Hewitt on a great 5-mile hike with nice views up on Bog Mountain in Wilmot\, NH. \nThis is a fun\, Summer hike with moderate elevation. \nFor more information contact Anne at (603) 848-5762. \nBe sure to contact the trip leader at least one day in advance to register your interest and get the details on meeting place and time. \nAlways carry a substantial supply of water\, a snack\, and layers of clothing to prepare for possible weather conditions.
URL:https://lake-sunapee-living.com/event/summer-hike-on-the-srk-greenway-bog-mountain-hike/
LOCATION:Bog Mountain Trailhead\, 1 School House Rd\, Wilmot\, NH\, 03287\, United States
CATEGORIES:Guided Hike
GEO:43.4632923;-71.9579862
X-APPLE-STRUCTURED-LOCATION;VALUE=URI;X-ADDRESS=Bog Mountain Trailhead 1 School House Rd Wilmot NH 03287 United States;X-APPLE-RADIUS=500;X-TITLE=1 School House Rd:geo:-71.9579862,43.4632923
END:VEVENT
END:VCALENDAR