BEGIN:VCALENDAR
VERSION:2.0
PRODID:-//Lake Sunapee Living - ECPv6.15.13//NONSGML v1.0//EN
CALSCALE:GREGORIAN
METHOD:PUBLISH
X-ORIGINAL-URL:https://lake-sunapee-living.com
X-WR-CALDESC:Events for Lake Sunapee Living
REFRESH-INTERVAL;VALUE=DURATION:PT1H
X-Robots-Tag:noindex
X-PUBLISHED-TTL:PT1H
BEGIN:VTIMEZONE
TZID:America/New_York
BEGIN:DAYLIGHT
TZOFFSETFROM:-0500
TZOFFSETTO:-0400
TZNAME:EDT
DTSTART:20170312T070000
END:DAYLIGHT
BEGIN:STANDARD
TZOFFSETFROM:-0400
TZOFFSETTO:-0500
TZNAME:EST
DTSTART:20171105T060000
END:STANDARD
BEGIN:DAYLIGHT
TZOFFSETFROM:-0500
TZOFFSETTO:-0400
TZNAME:EDT
DTSTART:20180311T070000
END:DAYLIGHT
BEGIN:STANDARD
TZOFFSETFROM:-0400
TZOFFSETTO:-0500
TZNAME:EST
DTSTART:20181104T060000
END:STANDARD
BEGIN:DAYLIGHT
TZOFFSETFROM:-0500
TZOFFSETTO:-0400
TZNAME:EDT
DTSTART:20190310T070000
END:DAYLIGHT
BEGIN:STANDARD
TZOFFSETFROM:-0400
TZOFFSETTO:-0500
TZNAME:EST
DTSTART:20191103T060000
END:STANDARD
BEGIN:DAYLIGHT
TZOFFSETFROM:-0500
TZOFFSETTO:-0400
TZNAME:EDT
DTSTART:20200308T070000
END:DAYLIGHT
BEGIN:STANDARD
TZOFFSETFROM:-0400
TZOFFSETTO:-0500
TZNAME:EST
DTSTART:20201101T060000
END:STANDARD
END:VTIMEZONE
BEGIN:VEVENT
DTSTART;TZID=America/New_York:20180528T090000
DTEND;TZID=America/New_York:20180528T113000
DTSTAMP:20260424T204211
CREATED:20180410T012517Z
LAST-MODIFIED:20180516T001726Z
UID:10000242-1527498000-1527507000@lake-sunapee-living.com
SUMMARY:WCA 14th annual Black Fly Blitz 5K
DESCRIPTION:Black Fly Blitz 5K  \nThe Wilmot Community Association (WCA) will sponsor its 14th annual Black Fly Blitz 5K starting at 9 a.m. on Memorial Day\, Monday\, May 28 in Wilmot Flat. \nOnline registration closes Friday\, May 25 and is available at www.wilmotWCA.org. \nRunners who register by May 1 will receive a free Black Fly Blitz T-shirt. \nCheck-in and day-of-race registration opens at 7:30 a.m. under the tent on the town green at the intersection of Kearsarge Valley and Village roads in Wilmot Flat. \nMore information is available at www.wilmotWCA.org.
URL:https://lake-sunapee-living.com/event/wca-14th-annual-black-fly-blitz/
LOCATION:NH
CATEGORIES:5k Road Race
END:VEVENT
BEGIN:VEVENT
DTSTART;TZID=America/New_York:20190527T090000
DTEND;TZID=America/New_York:20190527T103000
DTSTAMP:20260424T204211
CREATED:20190525T125133Z
LAST-MODIFIED:20190525T125133Z
UID:10003739-1558947600-1558953000@lake-sunapee-living.com
SUMMARY:15th annual Black Fly Blitz 5K Run/Walk
DESCRIPTION:WILMOT – The Wilmot Community Association (WCA) will sponsor its 15th annual Black Fly Blitz 5K starting at 9 a.m. on Memorial Day\, Monday\, May 27. The 5K begins and ends at the Wilmot Town Green at the intersection of Kearsarge Valley and Village roads.
URL:https://lake-sunapee-living.com/event/15th-annual-black-fly-blitz-5k-run-walk/
LOCATION:Wilmot Bandstand\, 1 Kearsarge Valley Road\, Wilmot\, NH\, 03287\, United States
CATEGORIES:5k Road Race
GEO:43.3535433;-71.9151439
X-APPLE-STRUCTURED-LOCATION;VALUE=URI;X-ADDRESS=Wilmot Bandstand 1 Kearsarge Valley Road Wilmot NH 03287 United States;X-APPLE-RADIUS=500;X-TITLE=1 Kearsarge Valley Road:geo:-71.9151439,43.3535433
END:VEVENT
END:VCALENDAR