BEGIN:VCALENDAR
VERSION:2.0
PRODID:-//Lake Sunapee Living - ECPv6.15.13//NONSGML v1.0//EN
CALSCALE:GREGORIAN
METHOD:PUBLISH
X-ORIGINAL-URL:https://lake-sunapee-living.com
X-WR-CALDESC:Events for Lake Sunapee Living
REFRESH-INTERVAL;VALUE=DURATION:PT1H
X-Robots-Tag:noindex
X-PUBLISHED-TTL:PT1H
BEGIN:VTIMEZONE
TZID:America/New_York
BEGIN:DAYLIGHT
TZOFFSETFROM:-0500
TZOFFSETTO:-0400
TZNAME:EDT
DTSTART:20160313T070000
END:DAYLIGHT
BEGIN:STANDARD
TZOFFSETFROM:-0400
TZOFFSETTO:-0500
TZNAME:EST
DTSTART:20161106T060000
END:STANDARD
BEGIN:DAYLIGHT
TZOFFSETFROM:-0500
TZOFFSETTO:-0400
TZNAME:EDT
DTSTART:20170312T070000
END:DAYLIGHT
BEGIN:STANDARD
TZOFFSETFROM:-0400
TZOFFSETTO:-0500
TZNAME:EST
DTSTART:20171105T060000
END:STANDARD
BEGIN:DAYLIGHT
TZOFFSETFROM:-0500
TZOFFSETTO:-0400
TZNAME:EDT
DTSTART:20180311T070000
END:DAYLIGHT
BEGIN:STANDARD
TZOFFSETFROM:-0400
TZOFFSETTO:-0500
TZNAME:EST
DTSTART:20181104T060000
END:STANDARD
END:VTIMEZONE
BEGIN:VEVENT
DTSTART;TZID=America/New_York:20170929T190000
DTEND;TZID=America/New_York:20170929T210000
DTSTAMP:20260425T093018
CREATED:20170921T234155Z
LAST-MODIFIED:20170921T234745Z
UID:10000015-1506711600-1506718800@lake-sunapee-living.com
SUMMARY:The Social Black Bear: Lecture by Ben Kilham
DESCRIPTION:ECFNH Annual Fall Forum Presents: Ben Kilham \n“The Social Black Bear: What Bears Have Taught Me About Being Human” \nAt the Grantham Town Hall\, 300 Rt 10 South \nBlack bears\, thought to be solitary\, have a different type of social behavior that possibly parallels early human behavior. They show evidence of reciprocal altruism\, matri-linear hierarchy\, and a mix of intentional and emotional communication. Bears can live for as many as forty years\, which allows them long-term benefits from forming relationships with fellow cooperators. \nBen Kilham\, Ph.D is a wildlife biologist based in Lyme\, New Hampshire. His love of and devotion to black bears has enabled him to study their habits and interact with them for more than two decades. He\, his wife Debra and sister Phoebe have accepted orphaned bear cubs into their home and enabled them to successfully return to the wild. Ben has been the focus of several news articles and documentaries\, including National Geographic’s A Man Among Bears and Animal Planet’s Papa Bear. He is also author of the books Among the Bears: Raising Orphaned Cubs in the Wild and Out on a Limb: Origins of Intuition and Intelligence.
URL:https://lake-sunapee-living.com/event/social-black-bear-lecture-ben-kilham/
CATEGORIES:Lecture
END:VEVENT
END:VCALENDAR