BEGIN:VCALENDAR
VERSION:2.0
PRODID:-//Lake Sunapee Living - ECPv6.15.13//NONSGML v1.0//EN
CALSCALE:GREGORIAN
METHOD:PUBLISH
X-ORIGINAL-URL:https://lake-sunapee-living.com
X-WR-CALDESC:Events for Lake Sunapee Living
REFRESH-INTERVAL;VALUE=DURATION:PT1H
X-Robots-Tag:noindex
X-PUBLISHED-TTL:PT1H
BEGIN:VTIMEZONE
TZID:America/New_York
BEGIN:DAYLIGHT
TZOFFSETFROM:-0500
TZOFFSETTO:-0400
TZNAME:EDT
DTSTART:20200308T070000
END:DAYLIGHT
BEGIN:STANDARD
TZOFFSETFROM:-0400
TZOFFSETTO:-0500
TZNAME:EST
DTSTART:20201101T060000
END:STANDARD
BEGIN:DAYLIGHT
TZOFFSETFROM:-0500
TZOFFSETTO:-0400
TZNAME:EDT
DTSTART:20210314T070000
END:DAYLIGHT
BEGIN:STANDARD
TZOFFSETFROM:-0400
TZOFFSETTO:-0500
TZNAME:EST
DTSTART:20211107T060000
END:STANDARD
BEGIN:DAYLIGHT
TZOFFSETFROM:-0500
TZOFFSETTO:-0400
TZNAME:EDT
DTSTART:20220313T070000
END:DAYLIGHT
BEGIN:STANDARD
TZOFFSETFROM:-0400
TZOFFSETTO:-0500
TZNAME:EST
DTSTART:20221106T060000
END:STANDARD
BEGIN:DAYLIGHT
TZOFFSETFROM:-0500
TZOFFSETTO:-0400
TZNAME:EDT
DTSTART:20230312T070000
END:DAYLIGHT
BEGIN:STANDARD
TZOFFSETFROM:-0400
TZOFFSETTO:-0500
TZNAME:EST
DTSTART:20231105T060000
END:STANDARD
BEGIN:DAYLIGHT
TZOFFSETFROM:-0500
TZOFFSETTO:-0400
TZNAME:EDT
DTSTART:20240310T070000
END:DAYLIGHT
BEGIN:STANDARD
TZOFFSETFROM:-0400
TZOFFSETTO:-0500
TZNAME:EST
DTSTART:20241103T060000
END:STANDARD
BEGIN:DAYLIGHT
TZOFFSETFROM:-0500
TZOFFSETTO:-0400
TZNAME:EDT
DTSTART:20250309T070000
END:DAYLIGHT
BEGIN:STANDARD
TZOFFSETFROM:-0400
TZOFFSETTO:-0500
TZNAME:EST
DTSTART:20251102T060000
END:STANDARD
END:VTIMEZONE
BEGIN:VEVENT
DTSTART;TZID=America/New_York:20211217T180000
DTEND;TZID=America/New_York:20211217T210000
DTSTAMP:20260424T175134
CREATED:20211212T230537Z
LAST-MODIFIED:20211212T230608Z
UID:10004104-1639764000-1639774800@lake-sunapee-living.com
SUMMARY:Live Music: Better Days Band at The Anchorage
DESCRIPTION:Better Days Band is LIVE at The Anchorage!
URL:https://lake-sunapee-living.com/event/live-music-better-days-band-at-the-anchorage/
LOCATION:The Anchorage\, 71 Main St\, Sunapee\, NH\, 03782\, United States
CATEGORIES:Live Music
GEO:43.385932;-72.081281
X-APPLE-STRUCTURED-LOCATION;VALUE=URI;X-ADDRESS=The Anchorage 71 Main St Sunapee NH 03782 United States;X-APPLE-RADIUS=500;X-TITLE=71 Main St:geo:-72.081281,43.385932
END:VEVENT
BEGIN:VEVENT
DTSTART;TZID=America/New_York:20240731T183000
DTEND;TZID=America/New_York:20240731T200000
DTSTAMP:20260424T175134
CREATED:20240724T152449Z
LAST-MODIFIED:20240728T200940Z
UID:10004308-1722450600-1722456000@lake-sunapee-living.com
SUMMARY:Live Music: Better Days Band at Ben Mere Bandstand
DESCRIPTION:BETTER DAYS BAND is the continuation of a band from 1970s with three of the founding members; Steve Hirsch on guitar; Mike Colburn on guitar and vocals; Bobby Gagnier on drums and vocals; and Skip Truman on bass and vocals.
URL:https://lake-sunapee-living.com/event/live-music-better-days-band-at-ben-mere-bandstand/
LOCATION:Ben Mere Bandstand\, 2 Lake Ave\, Sunapee\, NH\, 03782\, United States
CATEGORIES:Live Music
GEO:43.3849832;-72.0801034
X-APPLE-STRUCTURED-LOCATION;VALUE=URI;X-ADDRESS=Ben Mere Bandstand 2 Lake Ave Sunapee NH 03782 United States;X-APPLE-RADIUS=500;X-TITLE=2 Lake Ave:geo:-72.0801034,43.3849832
END:VEVENT
BEGIN:VEVENT
DTSTART;TZID=America/New_York:20240803T150000
DTEND;TZID=America/New_York:20240803T170000
DTSTAMP:20260424T175134
CREATED:20240723T120452Z
LAST-MODIFIED:20240728T201413Z
UID:10004305-1722697200-1722704400@lake-sunapee-living.com
SUMMARY:Live Music: Better Days Band at Flanders Stage\, Sunapee Harbor
DESCRIPTION:BETTER DAYS BAND is the continuation of a band from\n1970s with three of the founding members; Steve Hirsch on guitar;\nMike Colburn on guitar and vocals; Bobby Gagnier on drums and\nvocals; and Skip Truman on bass and vocals.
URL:https://lake-sunapee-living.com/event/live-music-better-days-band-at-flanders-stage-sunapee-harbor/
LOCATION:Flanders Stage\, 125 Main St\, Sunapee\, NH\, 03782\, United States
CATEGORIES:Live Music
GEO:43.3852084;-72.0809835
X-APPLE-STRUCTURED-LOCATION;VALUE=URI;X-ADDRESS=Flanders Stage 125 Main St Sunapee NH 03782 United States;X-APPLE-RADIUS=500;X-TITLE=125 Main St:geo:-72.0809835,43.3852084
END:VEVENT
END:VCALENDAR