BEGIN:VCALENDAR
VERSION:2.0
PRODID:-//Lake Sunapee Living - ECPv6.15.13//NONSGML v1.0//EN
CALSCALE:GREGORIAN
METHOD:PUBLISH
X-ORIGINAL-URL:https://lake-sunapee-living.com
X-WR-CALDESC:Events for Lake Sunapee Living
REFRESH-INTERVAL;VALUE=DURATION:PT1H
X-Robots-Tag:noindex
X-PUBLISHED-TTL:PT1H
BEGIN:VTIMEZONE
TZID:America/New_York
BEGIN:DAYLIGHT
TZOFFSETFROM:-0500
TZOFFSETTO:-0400
TZNAME:EDT
DTSTART:20240310T070000
END:DAYLIGHT
BEGIN:STANDARD
TZOFFSETFROM:-0400
TZOFFSETTO:-0500
TZNAME:EST
DTSTART:20241103T060000
END:STANDARD
BEGIN:DAYLIGHT
TZOFFSETFROM:-0500
TZOFFSETTO:-0400
TZNAME:EDT
DTSTART:20250309T070000
END:DAYLIGHT
BEGIN:STANDARD
TZOFFSETFROM:-0400
TZOFFSETTO:-0500
TZNAME:EST
DTSTART:20251102T060000
END:STANDARD
BEGIN:DAYLIGHT
TZOFFSETFROM:-0500
TZOFFSETTO:-0400
TZNAME:EDT
DTSTART:20260308T070000
END:DAYLIGHT
BEGIN:STANDARD
TZOFFSETFROM:-0400
TZOFFSETTO:-0500
TZNAME:EST
DTSTART:20261101T060000
END:STANDARD
END:VTIMEZONE
BEGIN:VEVENT
DTSTART;TZID=America/New_York:20250719T190000
DTEND;TZID=America/New_York:20250719T210000
DTSTAMP:20260425T150921
CREATED:20250704T115656Z
LAST-MODIFIED:20250704T115656Z
UID:10004612-1752951600-1752958800@lake-sunapee-living.com
SUMMARY:Behind the Lyrics: Discover the Stories Behind the Music
DESCRIPTION:Step into the heart of the music at Behind the Lyrics—an intimate evening with singer/songwriters Tom Pirozolli\, Click Horning\, Grace Rapetti\, and Colin Nevins as they share the personal stories\, moments of inspiration\, and creative journeys behind their songs. \nTickets: $15 (Members) | $20 (Nonmembers) \nLearn More
URL:https://lake-sunapee-living.com/event/behind-the-lyrics-discover-the-stories-behind-the-music/
LOCATION:The Livery\, 58 Main St.\, Sunapee\, NH\, 03782\, United States
CATEGORIES:Live Music
GEO:43.3860983;-72.0826955
X-APPLE-STRUCTURED-LOCATION;VALUE=URI;X-ADDRESS=The Livery 58 Main St. Sunapee NH 03782 United States;X-APPLE-RADIUS=500;X-TITLE=58 Main St.:geo:-72.0826955,43.3860983
END:VEVENT
END:VCALENDAR