BEGIN:VCALENDAR
VERSION:2.0
PRODID:-//Lake Sunapee Living - ECPv6.15.13//NONSGML v1.0//EN
CALSCALE:GREGORIAN
METHOD:PUBLISH
X-ORIGINAL-URL:https://lake-sunapee-living.com
X-WR-CALDESC:Events for Lake Sunapee Living
REFRESH-INTERVAL;VALUE=DURATION:PT1H
X-Robots-Tag:noindex
X-PUBLISHED-TTL:PT1H
BEGIN:VTIMEZONE
TZID:America/New_York
BEGIN:DAYLIGHT
TZOFFSETFROM:-0500
TZOFFSETTO:-0400
TZNAME:EDT
DTSTART:20170312T070000
END:DAYLIGHT
BEGIN:STANDARD
TZOFFSETFROM:-0400
TZOFFSETTO:-0500
TZNAME:EST
DTSTART:20171105T060000
END:STANDARD
BEGIN:DAYLIGHT
TZOFFSETFROM:-0500
TZOFFSETTO:-0400
TZNAME:EDT
DTSTART:20180311T070000
END:DAYLIGHT
BEGIN:STANDARD
TZOFFSETFROM:-0400
TZOFFSETTO:-0500
TZNAME:EST
DTSTART:20181104T060000
END:STANDARD
BEGIN:DAYLIGHT
TZOFFSETFROM:-0500
TZOFFSETTO:-0400
TZNAME:EDT
DTSTART:20190310T070000
END:DAYLIGHT
BEGIN:STANDARD
TZOFFSETFROM:-0400
TZOFFSETTO:-0500
TZNAME:EST
DTSTART:20191103T060000
END:STANDARD
END:VTIMEZONE
BEGIN:VEVENT
DTSTART;TZID=America/New_York:20180804T100000
DTEND;TZID=America/New_York:20180804T170000
DTSTAMP:20260424T164210
CREATED:20180728T232328Z
LAST-MODIFIED:20180728T232328Z
UID:10000620-1533376800-1533402000@lake-sunapee-living.com
SUMMARY:Opening Day of Balthazar's Ice Shack in Goshen
DESCRIPTION:Balthazar’s Ice Shack features ice cream\, cold drinks & specialty sodas\, cotton candy\, and ice cream cookie sandwiches handmade at Blake’s Creamery.
URL:https://lake-sunapee-living.com/event/opening-day-of-balthazars-ice-shack-in-goshen/
LOCATION:Balthazar’s Ice Shack\, 367 Washington Rd.\, Goshen\, NH\, 03752\, United States
CATEGORIES:Opening Day
GEO:43.2844421;-72.1377604
X-APPLE-STRUCTURED-LOCATION;VALUE=URI;X-ADDRESS=Balthazar’s Ice Shack 367 Washington Rd. Goshen NH 03752 United States;X-APPLE-RADIUS=500;X-TITLE=367 Washington Rd.:geo:-72.1377604,43.2844421
END:VEVENT
END:VCALENDAR