BEGIN:VCALENDAR
VERSION:2.0
PRODID:-//Lake Sunapee Living - ECPv6.15.13//NONSGML v1.0//EN
CALSCALE:GREGORIAN
METHOD:PUBLISH
X-ORIGINAL-URL:https://lake-sunapee-living.com
X-WR-CALDESC:Events for Lake Sunapee Living
REFRESH-INTERVAL;VALUE=DURATION:PT1H
X-Robots-Tag:noindex
X-PUBLISHED-TTL:PT1H
BEGIN:VTIMEZONE
TZID:America/New_York
BEGIN:DAYLIGHT
TZOFFSETFROM:-0500
TZOFFSETTO:-0400
TZNAME:EDT
DTSTART:20220313T070000
END:DAYLIGHT
BEGIN:STANDARD
TZOFFSETFROM:-0400
TZOFFSETTO:-0500
TZNAME:EST
DTSTART:20221106T060000
END:STANDARD
BEGIN:DAYLIGHT
TZOFFSETFROM:-0500
TZOFFSETTO:-0400
TZNAME:EDT
DTSTART:20230312T070000
END:DAYLIGHT
BEGIN:STANDARD
TZOFFSETFROM:-0400
TZOFFSETTO:-0500
TZNAME:EST
DTSTART:20231105T060000
END:STANDARD
BEGIN:DAYLIGHT
TZOFFSETFROM:-0500
TZOFFSETTO:-0400
TZNAME:EDT
DTSTART:20240310T070000
END:DAYLIGHT
BEGIN:STANDARD
TZOFFSETFROM:-0400
TZOFFSETTO:-0500
TZNAME:EST
DTSTART:20241103T060000
END:STANDARD
END:VTIMEZONE
BEGIN:VEVENT
DTSTART;TZID=America/New_York:20230316T193000
DTEND;TZID=America/New_York:20230316T210000
DTSTAMP:20260424T204130
CREATED:20230122T223720Z
LAST-MODIFIED:20230122T223720Z
UID:10004158-1678995000-1679000400@lake-sunapee-living.com
SUMMARY:Live Music: Aztec Two Step at the Flying Goose Brew Pub
DESCRIPTION:Aztec Two-Step 2.0 featuring Rex Fowler\, Dodie Pettit & Friends \nThe story of Rex Fowler and Aztec Two-Step is intertwined with the history of folk/rock music in America. Originating from a chance meeting at an “open mic night” in Boston in 1971\, Rex and Neal Shulman went on to record four albums on Elektra & RCA Records. Performing worldwide\, they were critically acclaimed in newspapers\, reviewed in Rolling Stone Magazine\, and appeared on radio and TV including The King Biscuit Flower Hour\, World Cafe Live and David Letterman. They appeared in concert with The Band\, Bruce Springsteen\, Bonnie Raitt\, Jackson Browne\, Carly Simon\, The Beach Boys and so many more\, and have recently been inducted into the New England Music Hall of Fame\, receiving a Lifetime Achievement Award. \nflyinggoose.com/events/aztec-two-step/
URL:https://lake-sunapee-living.com/event/live-music-aztec-two-step-at-the-flying-goose-brew-pub/
LOCATION:The Flying Goose Pub\, 40 Andover Road\, New London\, NH\, 03257\, United States
CATEGORIES:Live Music
GEO:43.3994758;-71.9603714
X-APPLE-STRUCTURED-LOCATION;VALUE=URI;X-ADDRESS=The Flying Goose Pub 40 Andover Road New London NH 03257 United States;X-APPLE-RADIUS=500;X-TITLE=40 Andover Road:geo:-71.9603714,43.3994758
END:VEVENT
END:VCALENDAR