BEGIN:VCALENDAR
VERSION:2.0
PRODID:-//Lake Sunapee Living - ECPv6.15.13//NONSGML v1.0//EN
CALSCALE:GREGORIAN
METHOD:PUBLISH
X-ORIGINAL-URL:https://lake-sunapee-living.com
X-WR-CALDESC:Events for Lake Sunapee Living
REFRESH-INTERVAL;VALUE=DURATION:PT1H
X-Robots-Tag:noindex
X-PUBLISHED-TTL:PT1H
BEGIN:VTIMEZONE
TZID:America/New_York
BEGIN:DAYLIGHT
TZOFFSETFROM:-0500
TZOFFSETTO:-0400
TZNAME:EDT
DTSTART:20180311T070000
END:DAYLIGHT
BEGIN:STANDARD
TZOFFSETFROM:-0400
TZOFFSETTO:-0500
TZNAME:EST
DTSTART:20181104T060000
END:STANDARD
BEGIN:DAYLIGHT
TZOFFSETFROM:-0500
TZOFFSETTO:-0400
TZNAME:EDT
DTSTART:20190310T070000
END:DAYLIGHT
BEGIN:STANDARD
TZOFFSETFROM:-0400
TZOFFSETTO:-0500
TZNAME:EST
DTSTART:20191103T060000
END:STANDARD
BEGIN:DAYLIGHT
TZOFFSETFROM:-0500
TZOFFSETTO:-0400
TZNAME:EDT
DTSTART:20200308T070000
END:DAYLIGHT
BEGIN:STANDARD
TZOFFSETFROM:-0400
TZOFFSETTO:-0500
TZNAME:EST
DTSTART:20201101T060000
END:STANDARD
BEGIN:DAYLIGHT
TZOFFSETFROM:-0500
TZOFFSETTO:-0400
TZNAME:EDT
DTSTART:20210314T070000
END:DAYLIGHT
BEGIN:STANDARD
TZOFFSETFROM:-0400
TZOFFSETTO:-0500
TZNAME:EST
DTSTART:20211107T060000
END:STANDARD
BEGIN:DAYLIGHT
TZOFFSETFROM:-0500
TZOFFSETTO:-0400
TZNAME:EDT
DTSTART:20220313T070000
END:DAYLIGHT
BEGIN:STANDARD
TZOFFSETFROM:-0400
TZOFFSETTO:-0500
TZNAME:EST
DTSTART:20221106T060000
END:STANDARD
END:VTIMEZONE
BEGIN:VEVENT
DTSTART;TZID=America/New_York:20190713T100000
DTEND;TZID=America/New_York:20190713T163000
DTSTAMP:20260424T164709
CREATED:20181118T143549Z
LAST-MODIFIED:20181122T173207Z
UID:10003606-1563012000-1563035400@lake-sunapee-living.com
SUMMARY:Fine Arts and Crafts Show in Sunapee Harbor
DESCRIPTION:Arts on the Green in Sunapee Harbor! \nFREE \nFine Arts and Crafts Show “Rain or Shine” \nFor more information about artists and events visit the website \nwww.CenterForTheArtsNH.org
URL:https://lake-sunapee-living.com/event/fine-arts-and-crafts-show-on-the-green-in-sunapee-harbor/
LOCATION:Sunapee Harbor\, 67 Main Street\, Sunapee\, NH\, 03782\, United States
CATEGORIES:Art Exhibition,Crafts
GEO:43.3856379;-72.0816099
X-APPLE-STRUCTURED-LOCATION;VALUE=URI;X-ADDRESS=Sunapee Harbor 67 Main Street Sunapee NH 03782 United States;X-APPLE-RADIUS=500;X-TITLE=67 Main Street:geo:-72.0816099,43.3856379
END:VEVENT
BEGIN:VEVENT
DTSTART;TZID=America/New_York:20200718T100000
DTEND;TZID=America/New_York:20200718T160000
DTSTAMP:20260424T164709
CREATED:20200105T151116Z
LAST-MODIFIED:20200105T151116Z
UID:10003864-1595066400-1595088000@lake-sunapee-living.com
SUMMARY:Arts on the Green in Sunapee Harbor
DESCRIPTION:Arts on the Green in Sunapee Harbor!  \nFREE \nFine Arts and Crafts Show “Rain or Shine” \nFor more information about artists and events visit the website \nhttps://centerfortheartsnh.org/art-on-the-green
URL:https://lake-sunapee-living.com/event/arts-on-the-green-in-sunapee-harbor/
LOCATION:Sunapee Harbor\, 67 Main Street\, Sunapee\, NH\, 03782\, United States
CATEGORIES:Art Exhibition
GEO:43.3856379;-72.0816099
X-APPLE-STRUCTURED-LOCATION;VALUE=URI;X-ADDRESS=Sunapee Harbor 67 Main Street Sunapee NH 03782 United States;X-APPLE-RADIUS=500;X-TITLE=67 Main Street:geo:-72.0816099,43.3856379
END:VEVENT
BEGIN:VEVENT
DTSTART;TZID=America/New_York:20210717T100000
DTEND;TZID=America/New_York:20210717T160000
DTSTAMP:20260424T164709
CREATED:20210607T001036Z
LAST-MODIFIED:20210607T225809Z
UID:10000453-1626516000-1626537600@lake-sunapee-living.com
SUMMARY:Arts on the Green in Sunapee Harbor
DESCRIPTION:This is the tenth year CFA has sponsored the event and in the words of CFA Board Chair\, Jean Connolly\, “We are thrilled to bring this show to Sunapee Harbor once again. \nThe beautiful outdoor space provides an excellent backdrop to view the work of these amazing artists and craftsmen.” \nThis year’s arts and crafts people include painters (pastel\, oil\, and watercolor)\, potters\, artisan jewelers\, stained glass makers\, bead workers\, photographers\, and metal crafters. \nThe show will be a bit larger than last year\, but no one needs to worry as we will still follow Covid-19 guidelines in keeping the artists and public safe. \nThe fifteen booths will face beautiful Sunapee Harbor and be open from 10:00 a.m. to 4:00 p.m.\nKathleen Barris\, a jeweler\, returns this year and says\, “I can’t wait for the Arts on the Green show in July. It will be a pleasure to be in the company of such talented artists and artisans at Sunapee Harbor. Please stop by…I have much new work to show you!” \nThe entire day promises to be one filled with exquisitely crafted and beautifully visioned works of art with an unbeatable backdrop. And once you are done perusing the art at Arts on the Green why not head up the street to the Livery for Naturally New England another CFA sponsored event featuring 50 juried regional artists in their one-week show. \nFor more information contact: info@centerfortheartsnh.org
URL:https://lake-sunapee-living.com/event/arts-on-the-green/
LOCATION:Sunapee Harbor\, 67 Main Street\, Sunapee\, NH\, 03782\, United States
CATEGORIES:Art Exhibition
GEO:43.3856379;-72.0816099
X-APPLE-STRUCTURED-LOCATION;VALUE=URI;X-ADDRESS=Sunapee Harbor 67 Main Street Sunapee NH 03782 United States;X-APPLE-RADIUS=500;X-TITLE=67 Main Street:geo:-72.0816099,43.3856379
END:VEVENT
END:VCALENDAR