BEGIN:VCALENDAR
VERSION:2.0
PRODID:-//Lake Sunapee Living - ECPv6.15.13//NONSGML v1.0//EN
CALSCALE:GREGORIAN
METHOD:PUBLISH
X-ORIGINAL-URL:https://lake-sunapee-living.com
X-WR-CALDESC:Events for Lake Sunapee Living
REFRESH-INTERVAL;VALUE=DURATION:PT1H
X-Robots-Tag:noindex
X-PUBLISHED-TTL:PT1H
BEGIN:VTIMEZONE
TZID:America/New_York
BEGIN:DAYLIGHT
TZOFFSETFROM:-0500
TZOFFSETTO:-0400
TZNAME:EDT
DTSTART:20190310T070000
END:DAYLIGHT
BEGIN:STANDARD
TZOFFSETFROM:-0400
TZOFFSETTO:-0500
TZNAME:EST
DTSTART:20191103T060000
END:STANDARD
BEGIN:DAYLIGHT
TZOFFSETFROM:-0500
TZOFFSETTO:-0400
TZNAME:EDT
DTSTART:20200308T070000
END:DAYLIGHT
BEGIN:STANDARD
TZOFFSETFROM:-0400
TZOFFSETTO:-0500
TZNAME:EST
DTSTART:20201101T060000
END:STANDARD
BEGIN:DAYLIGHT
TZOFFSETFROM:-0500
TZOFFSETTO:-0400
TZNAME:EDT
DTSTART:20210314T070000
END:DAYLIGHT
BEGIN:STANDARD
TZOFFSETFROM:-0400
TZOFFSETTO:-0500
TZNAME:EST
DTSTART:20211107T060000
END:STANDARD
END:VTIMEZONE
BEGIN:VEVENT
DTSTART;TZID=America/New_York:20200926T133000
DTEND;TZID=America/New_York:20200926T150000
DTSTAMP:20260424T235237
CREATED:20200916T004529Z
LAST-MODIFIED:20200916T004529Z
UID:10003982-1601127000-1601132400@lake-sunapee-living.com
SUMMARY:An Afternoon of Sculpture\, Art and Dance at The Fells
DESCRIPTION:Reflecting this summer’s art theme of Stillness and Motion\, dancers from the professional dance company Ballet Misha (of Manchester) will perform an exploratory collaboration between sculpture and dance at the John Hay Estate at The Fells in Newbury\, NH. \nVisitors follow a self-guided tour of the grounds where they will see dancers performing improvisational dance inspired by the sculptures.  Dancers will interact with the sculptures\, exploring the dynamics of stillness and motion.  Several of the sculptors and gallery artists will be present to discuss their work.  Guests can move through the galleries and outdoor exhibit at their leisure to see the dancers\, sculptures and art\, and meet the artists. \nBring a picnic to enjoy in the garden\, on the veranda\, or in the pavilion. \nMembers: free\, Non-Members: included in regular admission fee
URL:https://lake-sunapee-living.com/event/an-afternoon-of-sculpture-art-and-dance-at-the-fells/
LOCATION:The Fells\, 456 Route 103A\, Newbury\, 03255\, United States
CATEGORIES:Art Exhibition
GEO:43.3526822;-72.0460611
X-APPLE-STRUCTURED-LOCATION;VALUE=URI;X-ADDRESS=The Fells 456 Route 103A Newbury 03255 United States;X-APPLE-RADIUS=500;X-TITLE=456 Route 103A:geo:-72.0460611,43.3526822
END:VEVENT
END:VCALENDAR