BEGIN:VCALENDAR
VERSION:2.0
PRODID:-//Lake Sunapee Living - ECPv6.15.13//NONSGML v1.0//EN
CALSCALE:GREGORIAN
METHOD:PUBLISH
X-ORIGINAL-URL:https://lake-sunapee-living.com
X-WR-CALDESC:Events for Lake Sunapee Living
REFRESH-INTERVAL;VALUE=DURATION:PT1H
X-Robots-Tag:noindex
X-PUBLISHED-TTL:PT1H
BEGIN:VTIMEZONE
TZID:America/New_York
BEGIN:DAYLIGHT
TZOFFSETFROM:-0500
TZOFFSETTO:-0400
TZNAME:EDT
DTSTART:20210314T070000
END:DAYLIGHT
BEGIN:STANDARD
TZOFFSETFROM:-0400
TZOFFSETTO:-0500
TZNAME:EST
DTSTART:20211107T060000
END:STANDARD
BEGIN:DAYLIGHT
TZOFFSETFROM:-0500
TZOFFSETTO:-0400
TZNAME:EDT
DTSTART:20220313T070000
END:DAYLIGHT
BEGIN:STANDARD
TZOFFSETFROM:-0400
TZOFFSETTO:-0500
TZNAME:EST
DTSTART:20221106T060000
END:STANDARD
BEGIN:DAYLIGHT
TZOFFSETFROM:-0500
TZOFFSETTO:-0400
TZNAME:EDT
DTSTART:20230312T070000
END:DAYLIGHT
BEGIN:STANDARD
TZOFFSETFROM:-0400
TZOFFSETTO:-0500
TZNAME:EST
DTSTART:20231105T060000
END:STANDARD
END:VTIMEZONE
BEGIN:VEVENT
DTSTART;TZID=America/New_York:20220304T190000
DTEND;TZID=America/New_York:20220304T203000
DTSTAMP:20260424T192538
CREATED:20220223T012807Z
LAST-MODIFIED:20220223T012807Z
UID:10000534-1646420400-1646425800@lake-sunapee-living.com
SUMMARY:First Fridays! KCPA presents “Art in Motion & Friends”
DESCRIPTION:An evening of all things dance !\n\nJoin us for an evening of dance as the Kearsarge Conservatory of the Performing Arts share their talents. \n\nFirst Fridays! KCPA presents “Art in Motion & Friends” at Warner Town Hall\, Warner. \nwww.centerfortheartsnh.org/first-fridays
URL:https://lake-sunapee-living.com/event/first-fridays-kcpa-presents-art-in-motion-friends/
LOCATION:Warner Town Hall\, 5 E. Main St.\, Warner\, NH\, 03278\, United States
CATEGORIES:Art Exhibition
GEO:43.281051;-71.815856
X-APPLE-STRUCTURED-LOCATION;VALUE=URI;X-ADDRESS=Warner Town Hall 5 E. Main St. Warner NH 03278 United States;X-APPLE-RADIUS=500;X-TITLE=5 E. Main St.:geo:-71.815856,43.281051
END:VEVENT
END:VCALENDAR