BEGIN:VCALENDAR
VERSION:2.0
PRODID:-//Lake Sunapee Living - ECPv6.15.13//NONSGML v1.0//EN
CALSCALE:GREGORIAN
METHOD:PUBLISH
X-ORIGINAL-URL:https://lake-sunapee-living.com
X-WR-CALDESC:Events for Lake Sunapee Living
REFRESH-INTERVAL;VALUE=DURATION:PT1H
X-Robots-Tag:noindex
X-PUBLISHED-TTL:PT1H
BEGIN:VTIMEZONE
TZID:America/New_York
BEGIN:DAYLIGHT
TZOFFSETFROM:-0500
TZOFFSETTO:-0400
TZNAME:EDT
DTSTART:20240310T070000
END:DAYLIGHT
BEGIN:STANDARD
TZOFFSETFROM:-0400
TZOFFSETTO:-0500
TZNAME:EST
DTSTART:20241103T060000
END:STANDARD
BEGIN:DAYLIGHT
TZOFFSETFROM:-0500
TZOFFSETTO:-0400
TZNAME:EDT
DTSTART:20250309T070000
END:DAYLIGHT
BEGIN:STANDARD
TZOFFSETFROM:-0400
TZOFFSETTO:-0500
TZNAME:EST
DTSTART:20251102T060000
END:STANDARD
BEGIN:DAYLIGHT
TZOFFSETFROM:-0500
TZOFFSETTO:-0400
TZNAME:EDT
DTSTART:20260308T070000
END:DAYLIGHT
BEGIN:STANDARD
TZOFFSETFROM:-0400
TZOFFSETTO:-0500
TZNAME:EST
DTSTART:20261101T060000
END:STANDARD
END:VTIMEZONE
BEGIN:VEVENT
DTSTART;TZID=America/New_York:20250711T193000
DTEND;TZID=America/New_York:20250711T210000
DTSTAMP:20260426T002957
CREATED:20250617T115602Z
LAST-MODIFIED:20250617T115602Z
UID:10004592-1752262200-1752267600@lake-sunapee-living.com
SUMMARY:Live Music: Friday Nights at The Livery with Ari Hest
DESCRIPTION:Grammy-nominated singer-songwriter Ari Hest is known for his soulful voice\, poetic lyrics\, and deeply introspective songs. Blending folk\, rock\, and pop influences\, Hest has built a devoted following through his emotive storytelling and prolific catalog. With critically acclaimed releases like The Break-In\, The Fire Plays\, and his Grammy-nominated album Silver Skies Blue with Judy Collins\, he has toured internationally and shared stages with artists like Suzanne Vega and Ani DiFranco. Hest’s music\, featured in TV and film\, resonates with honesty and depth\, offering listeners a powerful and personal journey with every performance. \nFriday\, July 11th\n7:30 pm. Doors open at 7:00 pm. BYOB\nCost: $20 per person \nPURCHASE TICKETS: Click Here \nWebsite: www.arihest.com\nFacebook: facebook.com/arihestmusic\nInstagram: instagram.com/ahest\nBandcamp: arihest.bandcamp.com\nYouTube: Ari Hest on YouTube\nSpotify: Ari Hest on Spotify
URL:https://lake-sunapee-living.com/event/live-music-friday-nights-at-the-livery-with-ari-hest/
LOCATION:The Livery\, 58 Main St.\, Sunapee\, NH\, 03782\, United States
CATEGORIES:Live Music
GEO:43.3860983;-72.0826955
X-APPLE-STRUCTURED-LOCATION;VALUE=URI;X-ADDRESS=The Livery 58 Main St. Sunapee NH 03782 United States;X-APPLE-RADIUS=500;X-TITLE=58 Main St.:geo:-72.0826955,43.3860983
END:VEVENT
END:VCALENDAR