BEGIN:VCALENDAR
VERSION:2.0
PRODID:-//Lake Sunapee Living - ECPv6.15.13//NONSGML v1.0//EN
CALSCALE:GREGORIAN
METHOD:PUBLISH
X-ORIGINAL-URL:https://lake-sunapee-living.com
X-WR-CALDESC:Events for Lake Sunapee Living
REFRESH-INTERVAL;VALUE=DURATION:PT1H
X-Robots-Tag:noindex
X-PUBLISHED-TTL:PT1H
BEGIN:VTIMEZONE
TZID:America/New_York
BEGIN:DAYLIGHT
TZOFFSETFROM:-0500
TZOFFSETTO:-0400
TZNAME:EDT
DTSTART:20170312T070000
END:DAYLIGHT
BEGIN:STANDARD
TZOFFSETFROM:-0400
TZOFFSETTO:-0500
TZNAME:EST
DTSTART:20171105T060000
END:STANDARD
BEGIN:DAYLIGHT
TZOFFSETFROM:-0500
TZOFFSETTO:-0400
TZNAME:EDT
DTSTART:20180311T070000
END:DAYLIGHT
BEGIN:STANDARD
TZOFFSETFROM:-0400
TZOFFSETTO:-0500
TZNAME:EST
DTSTART:20181104T060000
END:STANDARD
BEGIN:DAYLIGHT
TZOFFSETFROM:-0500
TZOFFSETTO:-0400
TZNAME:EDT
DTSTART:20190310T070000
END:DAYLIGHT
BEGIN:STANDARD
TZOFFSETFROM:-0400
TZOFFSETTO:-0500
TZNAME:EST
DTSTART:20191103T060000
END:STANDARD
END:VTIMEZONE
BEGIN:VEVENT
DTSTART;TZID=America/New_York:20180105T190000
DTEND;TZID=America/New_York:20180105T220000
DTSTAMP:20260424T202735
CREATED:20170930T003233Z
LAST-MODIFIED:20170930T003440Z
UID:10000160-1515178800-1515189600@lake-sunapee-living.com
SUMMARY:Live Music at the Appleseed: Andrew Merzi
DESCRIPTION:Andrew Merzi live at the Appleseed in Bradford – January 5th – 7pm – 10pm \nAndrewMerzi.com
URL:https://lake-sunapee-living.com/event/live-music-appleseed-andrew-merzi/
LOCATION:The Appleseed Restaurant\, 63 High Street\, Bradford\, NH\, 03221\, United States
CATEGORIES:Concert
GEO:43.2742069;-71.9690077
X-APPLE-STRUCTURED-LOCATION;VALUE=URI;X-ADDRESS=The Appleseed Restaurant 63 High Street Bradford NH 03221 United States;X-APPLE-RADIUS=500;X-TITLE=63 High Street:geo:-71.9690077,43.2742069
END:VEVENT
BEGIN:VEVENT
DTSTART;TZID=America/New_York:20180510T180000
DTEND;TZID=America/New_York:20180510T200000
DTSTAMP:20260424T202735
CREATED:20180508T233508Z
LAST-MODIFIED:20180508T233531Z
UID:10000250-1525975200-1525982400@lake-sunapee-living.com
SUMMARY:Live Music: Andrew Merzi at Tavern On The Square in Claremont\, NH
DESCRIPTION:Andrew Merzi has a show on 05/10/2018 at 06:00 PM @ Tavern On The Square in Claremont\, NH
URL:https://lake-sunapee-living.com/event/live-music-andrew-merzi-at-tavern-on-the-square-in-claremont-nh/
CATEGORIES:Concert
END:VEVENT
END:VCALENDAR