BEGIN:VCALENDAR
VERSION:2.0
PRODID:-//Lake Sunapee Living - ECPv6.15.13//NONSGML v1.0//EN
CALSCALE:GREGORIAN
METHOD:PUBLISH
X-ORIGINAL-URL:https://lake-sunapee-living.com
X-WR-CALDESC:Events for Lake Sunapee Living
REFRESH-INTERVAL;VALUE=DURATION:PT1H
X-Robots-Tag:noindex
X-PUBLISHED-TTL:PT1H
BEGIN:VTIMEZONE
TZID:America/New_York
BEGIN:DAYLIGHT
TZOFFSETFROM:-0500
TZOFFSETTO:-0400
TZNAME:EDT
DTSTART:20210314T070000
END:DAYLIGHT
BEGIN:STANDARD
TZOFFSETFROM:-0400
TZOFFSETTO:-0500
TZNAME:EST
DTSTART:20211107T060000
END:STANDARD
BEGIN:DAYLIGHT
TZOFFSETFROM:-0500
TZOFFSETTO:-0400
TZNAME:EDT
DTSTART:20220313T070000
END:DAYLIGHT
BEGIN:STANDARD
TZOFFSETFROM:-0400
TZOFFSETTO:-0500
TZNAME:EST
DTSTART:20221106T060000
END:STANDARD
BEGIN:DAYLIGHT
TZOFFSETFROM:-0500
TZOFFSETTO:-0400
TZNAME:EDT
DTSTART:20230312T070000
END:DAYLIGHT
BEGIN:STANDARD
TZOFFSETFROM:-0400
TZOFFSETTO:-0500
TZNAME:EST
DTSTART:20231105T060000
END:STANDARD
END:VTIMEZONE
BEGIN:VEVENT
DTSTART;TZID=America/New_York:20220806T100000
DTEND;TZID=America/New_York:20220814T170000
DTSTAMP:20260424T220505
CREATED:20220714T034903Z
LAST-MODIFIED:20220714T034903Z
UID:10004128-1659780000-1660496400@lake-sunapee-living.com
SUMMARY:9th Annual Craftsmen’s Fair at the Mount Sunapee Resort
DESCRIPTION:Tickets for this iconic arts event are now available online (ticket sales at the gate will still be available—but advance purchase will provide faster entry). A convenience fee and credit card processing fee will apply to all online and in-person credit card sales. \n \n\nJoin us in 2022 for the 89th Annual Craftsmen’s Fair—August 6–14 at the Mount Sunapee Resort in Newbury\, NH! Open daily from 10:00 AM to 5:00 PM.
URL:https://lake-sunapee-living.com/event/9th-annual-craftsmens-fair-at-the-mount-sunapee-resort/
LOCATION:Mount Sunapee\, 1398 ROUTE 103\, Newbury\, NH\, 03255\, United States
CATEGORIES:Art Exhibition,Craftsmen's Fair
GEO:43.3260437;-72.0644669
X-APPLE-STRUCTURED-LOCATION;VALUE=URI;X-ADDRESS=Mount Sunapee 1398 ROUTE 103 Newbury NH 03255 United States;X-APPLE-RADIUS=500;X-TITLE=1398 ROUTE 103:geo:-72.0644669,43.3260437
END:VEVENT
END:VCALENDAR