BEGIN:VCALENDAR
VERSION:2.0
PRODID:-//Lake Sunapee Living - ECPv6.15.13//NONSGML v1.0//EN
CALSCALE:GREGORIAN
METHOD:PUBLISH
X-WR-CALNAME:Lake Sunapee Living
X-ORIGINAL-URL:https://lake-sunapee-living.com
X-WR-CALDESC:Events for Lake Sunapee Living
REFRESH-INTERVAL;VALUE=DURATION:PT1H
X-Robots-Tag:noindex
X-PUBLISHED-TTL:PT1H
BEGIN:VTIMEZONE
TZID:America/New_York
BEGIN:DAYLIGHT
TZOFFSETFROM:-0500
TZOFFSETTO:-0400
TZNAME:EDT
DTSTART:20240310T070000
END:DAYLIGHT
BEGIN:STANDARD
TZOFFSETFROM:-0400
TZOFFSETTO:-0500
TZNAME:EST
DTSTART:20241103T060000
END:STANDARD
BEGIN:DAYLIGHT
TZOFFSETFROM:-0500
TZOFFSETTO:-0400
TZNAME:EDT
DTSTART:20250309T070000
END:DAYLIGHT
BEGIN:STANDARD
TZOFFSETFROM:-0400
TZOFFSETTO:-0500
TZNAME:EST
DTSTART:20251102T060000
END:STANDARD
BEGIN:DAYLIGHT
TZOFFSETFROM:-0500
TZOFFSETTO:-0400
TZNAME:EDT
DTSTART:20260308T070000
END:DAYLIGHT
BEGIN:STANDARD
TZOFFSETFROM:-0400
TZOFFSETTO:-0500
TZNAME:EST
DTSTART:20261101T060000
END:STANDARD
END:VTIMEZONE
BEGIN:VEVENT
DTSTART;TZID=America/New_York:20251115T130000
DTEND;TZID=America/New_York:20251115T150000
DTSTAMP:20260424T232212
CREATED:20251114T122804Z
LAST-MODIFIED:20251114T140344Z
UID:10004620-1763211600-1763218800@lake-sunapee-living.com
SUMMARY:Succulent and indoor plants planting workshop hosted by Golden Garden Designs
DESCRIPTION:Indoor Gardening Class\nSaturday\, Nov. 15th 1-3 PM \nWhipple Hall \n25 Seamans Road $20 Residents \n$25 Non-Residents \nHave you always wanted to grow beautiful\, thriving succulents for your home and outdoor gardens in the summer\, but just can’t seem to get it right? Are you a more advanced succulent grower looking to get out into the community and spend time with others with similar interests? Golden Garden Designs (GGD) will be holding this class\, where you will learn how to properly plant\, transplant and care for a succulent so that they will have a long and thriving life. \nAfter this workshop\, you will also get to bring home a potted succulent you planted\, in a succulent soil recipe you mixed by hand! You will also leave with some new knowledge and tips to help that succulent hopefully blossom for years to come. Bring some life into your house this winter with a beautiful succulent and join the community for some fun! \nVisit the Rec. Website to Register: https://newlondon.nh.gov/recreation
URL:https://lake-sunapee-living.com/event/succulent-and-indoor-plants-planting-workshop-hosted-by-golden-garden-designs/
LOCATION:Whipple Hall\, 429 Main Street\, New London\, NH\, 03257\, United States
ATTACH;FMTTYPE=image/png:https://lake-sunapee-living.com/wp-content/uploads/2025/11/igc.png
GEO:43.4130294;-71.9807053
X-APPLE-STRUCTURED-LOCATION;VALUE=URI;X-ADDRESS=Whipple Hall 429 Main Street New London NH 03257 United States;X-APPLE-RADIUS=500;X-TITLE=429 Main Street:geo:-71.9807053,43.4130294
END:VEVENT
BEGIN:VEVENT
DTSTART;TZID=America/New_York:20251127T090000
DTEND;TZID=America/New_York:20251127T110000
DTSTAMP:20260424T232212
CREATED:20251122T134749Z
LAST-MODIFIED:20251122T134749Z
UID:10004622-1764234000-1764241200@lake-sunapee-living.com
SUMMARY:Lake Sunapee Turkey Trot
DESCRIPTION:Now in its 19th year\, the Lake Sunapee Turkey Trot has become a wonderful family tradition for more than 800 racers. Grab your family and friends\, throw on a costume (optional\, but really fun and highly encouraged)\, work off some calories\, and make this great event a part of your Thanksgiving tradition! \nThis year\, proceeds will go toward supporting the Recreation Department’s mission to enhance community facilities\, with funds evenly distributed among Dewey Field\, Veterans Field\, and Tilton Park. \n*ONLINE REGISTRATION IS NOW OPEN*\nRacers can also register in person on the evening before the race Every racer needs to fill out a race application\, sign a waiver form\, and collect a bib and pins in order to receive a time.
URL:https://lake-sunapee-living.com/event/lake-sunapee-turkey-trot/
LOCATION:Sunapee Harbor\, 67 Main Street\, Sunapee\, NH\, 03782\, United States
CATEGORIES:Sunapee Harbor
GEO:43.3856379;-72.0816099
X-APPLE-STRUCTURED-LOCATION;VALUE=URI;X-ADDRESS=Sunapee Harbor 67 Main Street Sunapee NH 03782 United States;X-APPLE-RADIUS=500;X-TITLE=67 Main Street:geo:-72.0816099,43.3856379
END:VEVENT
END:VCALENDAR