BEGIN:VCALENDAR
VERSION:2.0
PRODID:-//Lake Sunapee Living - ECPv6.15.13//NONSGML v1.0//EN
CALSCALE:GREGORIAN
METHOD:PUBLISH
X-WR-CALNAME:Lake Sunapee Living
X-ORIGINAL-URL:https://lake-sunapee-living.com
X-WR-CALDESC:Events for Lake Sunapee Living
REFRESH-INTERVAL;VALUE=DURATION:PT1H
X-Robots-Tag:noindex
X-PUBLISHED-TTL:PT1H
BEGIN:VTIMEZONE
TZID:America/New_York
BEGIN:DAYLIGHT
TZOFFSETFROM:-0500
TZOFFSETTO:-0400
TZNAME:EDT
DTSTART:20160313T070000
END:DAYLIGHT
BEGIN:STANDARD
TZOFFSETFROM:-0400
TZOFFSETTO:-0500
TZNAME:EST
DTSTART:20161106T060000
END:STANDARD
BEGIN:DAYLIGHT
TZOFFSETFROM:-0500
TZOFFSETTO:-0400
TZNAME:EDT
DTSTART:20170312T070000
END:DAYLIGHT
BEGIN:STANDARD
TZOFFSETFROM:-0400
TZOFFSETTO:-0500
TZNAME:EST
DTSTART:20171105T060000
END:STANDARD
BEGIN:DAYLIGHT
TZOFFSETFROM:-0500
TZOFFSETTO:-0400
TZNAME:EDT
DTSTART:20180311T070000
END:DAYLIGHT
BEGIN:STANDARD
TZOFFSETFROM:-0400
TZOFFSETTO:-0500
TZNAME:EST
DTSTART:20181104T060000
END:STANDARD
BEGIN:DAYLIGHT
TZOFFSETFROM:-0500
TZOFFSETTO:-0400
TZNAME:EDT
DTSTART:20190310T070000
END:DAYLIGHT
BEGIN:STANDARD
TZOFFSETFROM:-0400
TZOFFSETTO:-0500
TZNAME:EST
DTSTART:20191103T060000
END:STANDARD
END:VTIMEZONE
BEGIN:VEVENT
DTSTART;TZID=America/New_York:20171103T170000
DTEND;TZID=America/New_York:20171103T190000
DTSTAMP:20260425T105447
CREATED:20170812T015754Z
LAST-MODIFIED:20170812T015754Z
UID:10000073-1509728400-1509735600@lake-sunapee-living.com
SUMMARY:First Fridays! Gallery Night
DESCRIPTION:Opening Receptions for new exhibits at Lake Sunapee Bank\, and Whipple Hall!\nPLUS The Regional Juried Show at the New London Inn\nAll on Main Street New London\nwww.CenterForTheArtsNH.org or call 526-4444
URL:https://lake-sunapee-living.com/event/first-fridays-gallery-night/
CATEGORIES:Art Exhibition
END:VEVENT
BEGIN:VEVENT
DTSTART;TZID=America/New_York:20171103T190000
DTEND;TZID=America/New_York:20171103T210000
DTSTAMP:20260425T105447
CREATED:20170921T020718Z
LAST-MODIFIED:20170921T021525Z
UID:10000143-1509735600-1509742800@lake-sunapee-living.com
SUMMARY:Robyn Macy & the CH Crew at the Sunapee Community CoffeeHouse
DESCRIPTION:
URL:https://lake-sunapee-living.com/event/robyn-macy-ch-crew-sunapee-community-coffeehouse/
LOCATION:Sunapee Community CoffeeHouse\, 9 Lower Main Street\, Sunapee\, NH\, United States
CATEGORIES:Concert
GEO:43.3868056;-72.0886178
X-APPLE-STRUCTURED-LOCATION;VALUE=URI;X-ADDRESS=Sunapee Community CoffeeHouse 9 Lower Main Street Sunapee NH United States;X-APPLE-RADIUS=500;X-TITLE=9 Lower Main Street:geo:-72.0886178,43.3868056
END:VEVENT
BEGIN:VEVENT
DTSTART;TZID=America/New_York:20171109T170000
DTEND;TZID=America/New_York:20171109T190000
DTSTAMP:20260425T105447
CREATED:20171107T010626Z
LAST-MODIFIED:20171107T010626Z
UID:10000178-1510246800-1510254000@lake-sunapee-living.com
SUMMARY:Newport Library Arts Center Gallery of Gifts  Preview Party
DESCRIPTION:Gallery of Gifts  \nPreview Party\n\nTHURSDAY\, November 9th – 5-7 pm\nthe night before the wildly popular Opening Reception\, Nov.10th\n \nBe the first to shop pieces from more than 100 artists!  \n*limited to 50 guests for a relaxed shopping experience\n \nwith elegant passed hors d’oeuvres from the \nOld Courthouse Restaurant  +  festive live music\n \n\nTICKETS:  $15 per person\nTickets should be purchased IN ADVANCE at the Library Arts Center or at libraryartscenter.org
URL:https://lake-sunapee-living.com/event/newport-library-arts-center-gallery-gifts-preview-party/
CATEGORIES:Art Exhibition
END:VEVENT
BEGIN:VEVENT
DTSTART;TZID=America/New_York:20171110T190000
DTEND;TZID=America/New_York:20171110T210000
DTSTAMP:20260425T105447
CREATED:20170921T020831Z
LAST-MODIFIED:20170921T021621Z
UID:10000144-1510340400-1510347600@lake-sunapee-living.com
SUMMARY:Open Mic Night at the Sunapee Community CoffeeHouse
DESCRIPTION:The Tradition continues\, Stop by to listen or join in. Sign up on site with the host for your 15 min or three songs. Storytellers also welcome!
URL:https://lake-sunapee-living.com/event/open-mic-night-sunapee-community-coffeehouse-2/
LOCATION:Sunapee Community CoffeeHouse\, 9 Lower Main Street\, Sunapee\, NH\, United States
CATEGORIES:Concert
GEO:43.3868056;-72.0886178
X-APPLE-STRUCTURED-LOCATION;VALUE=URI;X-ADDRESS=Sunapee Community CoffeeHouse 9 Lower Main Street Sunapee NH United States;X-APPLE-RADIUS=500;X-TITLE=9 Lower Main Street:geo:-72.0886178,43.3868056
END:VEVENT
BEGIN:VEVENT
DTSTART;TZID=America/New_York:20171110T190000
DTEND;TZID=America/New_York:20171110T220000
DTSTAMP:20260425T105447
CREATED:20170930T003744Z
LAST-MODIFIED:20170930T003840Z
UID:10000164-1510340400-1510351200@lake-sunapee-living.com
SUMMARY:Live Music at the Appleseed: Tyler Road
DESCRIPTION:Tyler Road – November 10th – 7pm – 10pm;
URL:https://lake-sunapee-living.com/event/live-music-appleseed-tyler-road/
LOCATION:The Appleseed Restaurant\, 63 High Street\, Bradford\, NH\, 03221\, United States
CATEGORIES:Concert
GEO:43.2742069;-71.9690077
X-APPLE-STRUCTURED-LOCATION;VALUE=URI;X-ADDRESS=The Appleseed Restaurant 63 High Street Bradford NH 03221 United States;X-APPLE-RADIUS=500;X-TITLE=63 High Street:geo:-71.9690077,43.2742069
END:VEVENT
BEGIN:VEVENT
DTSTART;TZID=America/New_York:20171112T120000
DTEND;TZID=America/New_York:20171112T150000
DTSTAMP:20260425T105447
CREATED:20171108T234326Z
LAST-MODIFIED:20171108T234443Z
UID:10000182-1510488000-1510498800@lake-sunapee-living.com
SUMMARY:Fall Antique Auction in Warner by R.H. Putnam Auctions
DESCRIPTION:Sale Location:\n139 Kearsarge Mountain Road 139 Kearsarge Mountain Road\, Warner\, NH 03278 \nLive Auction\nTerms & Conditions:\nBuyer’s Premium will be charged \nRoscoe Putnam\, NH Auctioneer’s Lic. #5034 \nAll Sold As Is Where Is\nListing Details:\nJoin us at our Grand Opening Auction at Keasarge Business Center. This will be a Lunch Auction held at seated dining tables with a lunch menu available while you bid on antiques\, collectibles and rarities we have lined up for this sale. A chef menu lunch will be offered and a “good-time country auction” will be offered up by Roscoe and his staff. \nRHPutnamAuctions.com \n 
URL:https://lake-sunapee-living.com/event/fall-antique-auction-r-h-putnam-auctions-warner/
CATEGORIES:Antiques Auction
END:VEVENT
BEGIN:VEVENT
DTSTART;TZID=America/New_York:20171118T190000
DTEND;TZID=America/New_York:20171118T203000
DTSTAMP:20260425T105447
CREATED:20171107T011301Z
LAST-MODIFIED:20171107T011301Z
UID:10000180-1511031600-1511037000@lake-sunapee-living.com
SUMMARY:Buster Keaton at the WCA - Two Comedies will be Screened with Live Music
DESCRIPTION:WILMOT – The Wilmot Community Association (WCA) invites everyone to an evening of silent film and music. The program\, which includes Keaton’s ‘Sherlock Jr.’ (1924) and ‘The General’ (1926)\, is free and open to the public. Composer and pianist Jeff Rapsis will create live music for a program. The free film and concert will take place on Saturday\, November 18 at 7 p.m. at the Red Barn\, 64 Village Road. More information online at www.WilmotWCA.org and on the WCA Facebook page.
URL:https://lake-sunapee-living.com/event/buster-keaton-wca-two-comedies-will-screened-live-music/
CATEGORIES:Concert
END:VEVENT
BEGIN:VEVENT
DTSTART;TZID=America/New_York:20171201T170000
DTEND;TZID=America/New_York:20171201T190000
DTSTAMP:20260425T105447
CREATED:20170812T020152Z
LAST-MODIFIED:20170812T020152Z
UID:10000074-1512147600-1512154800@lake-sunapee-living.com
SUMMARY:First Fridays! Holiday Concert
DESCRIPTION:Santa\, Tree Lighting\, and Holiday Music for all ages!\nFeaturing The KRES Chime Tones\, The Exit 13 Tuba Quartet\, and the Sunapee Flute Choir…plus a community sing along\nwww.CenterForTheArtsNH.org or call 526-4444
URL:https://lake-sunapee-living.com/event/first-fridays-holiday-concert/
CATEGORIES:Concert
END:VEVENT
BEGIN:VEVENT
DTSTART;TZID=America/New_York:20171201T190000
DTEND;TZID=America/New_York:20171201T210000
DTSTAMP:20260425T105447
CREATED:20170921T020959Z
LAST-MODIFIED:20170921T020959Z
UID:10000145-1512154800-1512162000@lake-sunapee-living.com
SUMMARY:Crowes Pasture at the Sunapee Community CoffeeHouse
DESCRIPTION:Crowes Pasture is the Boston-based acoustic duo of Monique Byrne and Andy Rogovin. \nThe duo brings leather and lace harmonies to classic and contemporary folk music in a style that draws from old-time\, folk and bluegrass traditions\, including such artists as Gillian Welch/David Rawlings\, Ian & Sylvia and the Civil Wars.
URL:https://lake-sunapee-living.com/event/crowes-pasture-sunapee-community-coffeehouse/
CATEGORIES:Concert
END:VEVENT
BEGIN:VEVENT
DTSTART;TZID=America/New_York:20171202T090000
DTEND;TZID=America/New_York:20171202T150000
DTSTAMP:20260425T105447
CREATED:20171127T014616Z
LAST-MODIFIED:20171127T014616Z
UID:10000037-1512205200-1512226800@lake-sunapee-living.com
SUMMARY:WCA Holiday Craft Fair in Andover\, NH
DESCRIPTION:Date: December\, 2nd 2017 9:00 am – 3:00 pm\nWCA HOLIDAY CRAFT FAIR 2017 \nSaturday\, December 2nd\, 9 AM – 3 PM \nLOCATION: Andover Elementary/Middle School Gym – 20 School Street in Andover
URL:https://lake-sunapee-living.com/event/wca-holiday-craft-fair-andover-nh/
CATEGORIES:Crafts
END:VEVENT
BEGIN:VEVENT
DTSTART;TZID=America/New_York:20171202T100000
DTEND;TZID=America/New_York:20171202T160000
DTSTAMP:20260425T105447
CREATED:20170812T020429Z
LAST-MODIFIED:20170812T020429Z
UID:10000131-1512208800-1512230400@lake-sunapee-living.com
SUMMARY:The Third Annual Holiday Fine Arts and Crafts Fair
DESCRIPTION:Holiday Fair at Whipple Hall 10-4\nMain Street\, New London\n15 Fine Artists and Craftsmen show and sell their original items for your Holiday Shopping!\nwww.CenterForTheArtsNH.org or call 526-4444
URL:https://lake-sunapee-living.com/event/third-annual-holiday-fine-arts-crafts-fair/
CATEGORIES:Art Exhibition,Crafts
END:VEVENT
BEGIN:VEVENT
DTSTART;TZID=America/New_York:20171203T160000
DTEND;TZID=America/New_York:20171203T190000
DTSTAMP:20260425T105447
CREATED:20170923T012835Z
LAST-MODIFIED:20170923T012835Z
UID:10000019-1512316800-1512327600@lake-sunapee-living.com
SUMMARY:Jazz on a Sunday Afternoon: Giacomo Gates
DESCRIPTION:Jazz on a Sunday Afternoon at the Center at Eastman\, Grantham NH \nRenowned International Vocalist Giacomo Gates \nwww.giacomogates.com \njosajazz.com
URL:https://lake-sunapee-living.com/event/jazz-sunday-afternoon-giacomo-gates/
CATEGORIES:Concert
END:VEVENT
BEGIN:VEVENT
DTSTART;TZID=America/New_York:20171207T170000
DTEND;TZID=America/New_York:20171207T190000
DTSTAMP:20260425T105447
CREATED:20171119T151716Z
LAST-MODIFIED:20171119T151716Z
UID:10000043-1512666000-1512673200@lake-sunapee-living.com
SUMMARY:LAC Gallery of Gifts Wine & Chocolate Ladies Night
DESCRIPTION:Featuring a holiday Bling competition with prizes!  Raffles & more. Sip\, shop and enjoy the season.
URL:https://lake-sunapee-living.com/event/lac-gallery-gifts-wine-chocolate-ladies-night/
LOCATION:Library Arts Center\, 58 N. Main Street\, Newport\, NH\, 03773\, United States
CATEGORIES:Crafts
GEO:43.3662756;-72.1758121
X-APPLE-STRUCTURED-LOCATION;VALUE=URI;X-ADDRESS=Library Arts Center 58 N. Main Street Newport NH 03773 United States;X-APPLE-RADIUS=500;X-TITLE=58 N. Main Street:geo:-72.1758121,43.3662756
END:VEVENT
BEGIN:VEVENT
DTSTART;TZID=America/New_York:20171207T200000
DTEND;TZID=America/New_York:20171207T213000
DTSTAMP:20260425T105447
CREATED:20171109T003628Z
LAST-MODIFIED:20171109T003704Z
UID:10000041-1512676800-1512682200@lake-sunapee-living.com
SUMMARY:Live Music at the The Flying Goose: Larry Allen Brown
DESCRIPTION:LARRY ALLEN BROWN & THE ACOUSTIC EARTH TRIO\nReservations required! Please call (603) 526-6899 to reserve your tickets. 8:00pm show with the room opening at 6:00pm for those interested in pre-show dinner seating. Seating is assigned by order of reservation and typically with smaller parties seated together. \nBorn and raised in Chicago\, Larry attended High School with John Prine\, and has had a long career as lead guitarist for a variety of groups. Heavily influenced by Dave Van Ronk\, Bob Dylan\, Paul Simon\, and Townes Van Zandt\, Larry embarked upon a solo career as a composer and performer on the acoustic guitar in 2000. \nA Berklee College of Music Alumni\, Larry released two instrumental albums: Cobb Lane in 2000\, followed by his second CD\, Music for the High Country – The Soundtrack of Blowing Rock. The music is a blend of original compositions\, as well as traditional classics\, arranged in Larry’s unique style\, encompassing both his solo acoustic guitar\, and his outstanding chamber ensemble\, known as the Acoustic Earth Orchestra. Music for the High Country has been endorsed by the Chamber of Commerce of Blowing Rock\, NC as their official soundtrack. Most recently Larry has included vocals as a singer/songwriter in a folk/Americana style that has expanded his audience. His recent recording is Covered Bridges and features the latest incarnation of the Acoustic Earth Orchestra. \n 
URL:https://lake-sunapee-living.com/event/live-music-flying-goose-larry-allen-brown/
CATEGORIES:Concert
END:VEVENT
BEGIN:VEVENT
DTSTART;TZID=America/New_York:20171208T190000
DTEND;TZID=America/New_York:20171208T210000
DTSTAMP:20260425T105447
CREATED:20171206T233804Z
LAST-MODIFIED:20171206T233804Z
UID:10000036-1512759600-1512766800@lake-sunapee-living.com
SUMMARY:Live Music at the Appleseed: Beechwood
DESCRIPTION:Appleseed Restaurant & Catering \n63 High Street\nBradford\, NH 03221\nP: 603-938-2100\nappleseedrestaurant.com
URL:https://lake-sunapee-living.com/event/live-music-appleseed-beechwood/
CATEGORIES:Concert
END:VEVENT
BEGIN:VEVENT
DTSTART;TZID=America/New_York:20171208T190000
DTEND;TZID=America/New_York:20171208T210000
DTSTAMP:20260425T105447
CREATED:20170921T021225Z
LAST-MODIFIED:20170921T021225Z
UID:10000146-1512759600-1512766800@lake-sunapee-living.com
SUMMARY:Harmony Hotel at the Sunapee Community CoffeeHouse
DESCRIPTION:Harmony Hotel “soothes the soul with unique blends of voices\, instruments\, and musical styles” and combines the talents of five of the Upper Valley’s best loved musicians. Cindy Mahler Geilich\, singer/songwriter/guitar and uke player\, was voted one of the Upper Valley’s Music Legends for having the most listened to and downloaded original music on the YHMedia website.
URL:https://lake-sunapee-living.com/event/harmony-hotel-sunapee-community-coffeehouse/
CATEGORIES:Concert
END:VEVENT
BEGIN:VEVENT
DTSTART;TZID=America/New_York:20171208T210000
DTEND;TZID=America/New_York:20171208T223000
DTSTAMP:20260425T105447
CREATED:20171206T234259Z
LAST-MODIFIED:20171206T234531Z
UID:10000185-1512766800-1512772200@lake-sunapee-living.com
SUMMARY:Live Music at the Shanty: Chris Powers
DESCRIPTION:Salt Hill Pub Shanty\n1407 Rt. 103\nNewbury\, NH\n603-763-2667
URL:https://lake-sunapee-living.com/event/live-music-shanty-chris-powers/
CATEGORIES:Concert
END:VEVENT
BEGIN:VEVENT
DTSTART;TZID=America/New_York:20171209T120000
DTEND;TZID=America/New_York:20171209T150000
DTSTAMP:20260425T105447
CREATED:20171204T015004Z
LAST-MODIFIED:20171204T015038Z
UID:10000039-1512820800-1512831600@lake-sunapee-living.com
SUMMARY:Antiques Auction in Warner by R. H. Putnam Auctions
DESCRIPTION:Saturday\, December 9 at 12 PM – 3 PM \n139 Kearsarge Mountain Rd\, Warner\, NH \nTickets Available\nwww.rhputnamauctions.com
URL:https://lake-sunapee-living.com/event/antiques-auction-warner-r-h-putnam-auctions/
CATEGORIES:Antiques Auction
END:VEVENT
BEGIN:VEVENT
DTSTART;TZID=America/New_York:20171214T170000
DTEND;TZID=America/New_York:20171214T190000
DTSTAMP:20260425T105447
CREATED:20171119T152037Z
LAST-MODIFIED:20171119T152037Z
UID:10000045-1513270800-1513278000@lake-sunapee-living.com
SUMMARY:LAC Gallery of Gifts: Men's Night
DESCRIPTION:Beer & pretzels while you shop! Shop handmade “wish list” items for your special lady
URL:https://lake-sunapee-living.com/event/lac-gallery-gifts-mens-night/
LOCATION:Library Arts Center\, 58 N. Main Street\, Newport\, NH\, 03773\, United States
CATEGORIES:Crafts
GEO:43.3662756;-72.1758121
X-APPLE-STRUCTURED-LOCATION;VALUE=URI;X-ADDRESS=Library Arts Center 58 N. Main Street Newport NH 03773 United States;X-APPLE-RADIUS=500;X-TITLE=58 N. Main Street:geo:-72.1758121,43.3662756
END:VEVENT
BEGIN:VEVENT
DTSTART;TZID=America/New_York:20171215T190000
DTEND;TZID=America/New_York:20171215T210000
DTSTAMP:20260425T105447
CREATED:20170921T021411Z
LAST-MODIFIED:20170921T021430Z
UID:10000147-1513364400-1513371600@lake-sunapee-living.com
SUMMARY:Christmas Open Mic  & Sing-Along at the Sunapee Community CoffeeHouse
DESCRIPTION:Tonight‘s Emcees: \nAl Carruth & EJ Tretter
URL:https://lake-sunapee-living.com/event/christmas-open-mic-sing-along-sunapee-community-coffeehouse/
LOCATION:Sunapee Community CoffeeHouse\, 9 Lower Main Street\, Sunapee\, NH\, United States
CATEGORIES:Concert
GEO:43.3868056;-72.0886178
X-APPLE-STRUCTURED-LOCATION;VALUE=URI;X-ADDRESS=Sunapee Community CoffeeHouse 9 Lower Main Street Sunapee NH United States;X-APPLE-RADIUS=500;X-TITLE=9 Lower Main Street:geo:-72.0886178,43.3868056
END:VEVENT
BEGIN:VEVENT
DTSTART;VALUE=DATE:20171217
DTEND;VALUE=DATE:20171218
DTSTAMP:20260425T105447
CREATED:20171206T231924Z
LAST-MODIFIED:20171206T232335Z
UID:10000028-1513468800-1513555199@lake-sunapee-living.com
SUMMARY:Pine Hill XC Ski Club: Last Day of EARLY BIRD Seasons Pass offer
DESCRIPTION:Last Day of Pine Hill XC Ski Club EARLY BIRD Seasons Pass offer \n220 Mt. Road in New London\, NH \nX-C ski Rentals are available at Village Sports at 394 Main St. across from town green in New London (603-526-4948). \nClick here for form
URL:https://lake-sunapee-living.com/event/pine-hill-xc-ski-club-last-day-early-bird-seasons-pass-offer/
LOCATION:Pine Hill XC Ski\, 220 Mt. Road\, New London\, NH\, 03257\, United States
CATEGORIES:Sale
GEO:43.4265225;-71.9951441
X-APPLE-STRUCTURED-LOCATION;VALUE=URI;X-ADDRESS=Pine Hill XC Ski 220 Mt. Road New London NH 03257 United States;X-APPLE-RADIUS=500;X-TITLE=220 Mt. Road:geo:-71.9951441,43.4265225
END:VEVENT
BEGIN:VEVENT
DTSTART;TZID=America/New_York:20171217T160000
DTEND;TZID=America/New_York:20171217T190000
DTSTAMP:20260425T105447
CREATED:20170923T013112Z
LAST-MODIFIED:20170923T013112Z
UID:10000020-1513526400-1513537200@lake-sunapee-living.com
SUMMARY:Jazz on a Sunday Afternoon: Saxophonist Richie Cole
DESCRIPTION:Jazz on a Sunday Afternoon at the Center at Eastman\, Grantham NH \nSaxophonist Richie Cole \n\n\n\nwww.richiecole.com \n\n\n\n  \njosajazz.com
URL:https://lake-sunapee-living.com/event/jazz-sunday-afternoon-saxophonist-richie-cole/
CATEGORIES:Concert
END:VEVENT
BEGIN:VEVENT
DTSTART;VALUE=DATE:20171228
DTEND;VALUE=DATE:20171229
DTSTAMP:20260425T105447
CREATED:20171212T233913Z
LAST-MODIFIED:20171212T233913Z
UID:10000187-1514419200-1514505599@lake-sunapee-living.com
SUMMARY:Ugly Sweater Day at Mt. Sunapee
DESCRIPTION:December 28\, Thursday – Ugly Sweater Day \nPut on your best (ugliest) ugly sweater and hit the slopes in style! Prizes and awards will be given out for kids and adults after a group run down from the Summit. \nMore info: \nmountsunapee.com/mtsunapeewinter/onthemountain/events/
URL:https://lake-sunapee-living.com/event/ugly-sweater-day-mt-sunapee/
CATEGORIES:Ski
END:VEVENT
BEGIN:VEVENT
DTSTART;VALUE=DATE:20171229
DTEND;VALUE=DATE:20171231
DTSTAMP:20260425T105447
CREATED:20171206T232653Z
LAST-MODIFIED:20171206T232653Z
UID:10000030-1514505600-1514678399@lake-sunapee-living.com
SUMMARY:Pine Hill XC Ski Club: Try Our Trails Day
DESCRIPTION:December 29 ( Fri) & Dec 30 (Sat.) : Try Our Trails Day\, If ski conditions allow\, try our trail system as our guest. \nwww.pinehillskiclub.com/
URL:https://lake-sunapee-living.com/event/pine-hill-xc-ski-club-try-trails-day/
CATEGORIES:XC Ski
END:VEVENT
BEGIN:VEVENT
DTSTART;TZID=America/New_York:20180105T190000
DTEND;TZID=America/New_York:20180105T220000
DTSTAMP:20260425T105447
CREATED:20170930T003233Z
LAST-MODIFIED:20170930T003440Z
UID:10000160-1515178800-1515189600@lake-sunapee-living.com
SUMMARY:Live Music at the Appleseed: Andrew Merzi
DESCRIPTION:Andrew Merzi live at the Appleseed in Bradford – January 5th – 7pm – 10pm \nAndrewMerzi.com
URL:https://lake-sunapee-living.com/event/live-music-appleseed-andrew-merzi/
LOCATION:The Appleseed Restaurant\, 63 High Street\, Bradford\, NH\, 03221\, United States
CATEGORIES:Concert
GEO:43.2742069;-71.9690077
X-APPLE-STRUCTURED-LOCATION;VALUE=URI;X-ADDRESS=The Appleseed Restaurant 63 High Street Bradford NH 03221 United States;X-APPLE-RADIUS=500;X-TITLE=63 High Street:geo:-71.9690077,43.2742069
END:VEVENT
BEGIN:VEVENT
DTSTART;TZID=America/New_York:20180106T120000
DTEND;TZID=America/New_York:20180106T140000
DTSTAMP:20260425T105447
CREATED:20171206T232918Z
LAST-MODIFIED:20171206T232918Z
UID:10000032-1515240000-1515247200@lake-sunapee-living.com
SUMMARY:Pine Hill XC Ski Club: Robb's  Warming Hut Opens for the Season
DESCRIPTION:January 6\, 2018:  Saturday\,  Robb’s  Warming Hut Opens for the Season. Check ski conditions page\,  Open noon to 2 pm. \n  \nwww.pinehillskiclub.com/
URL:https://lake-sunapee-living.com/event/pine-hill-xc-ski-club-robbs-warming-hut-opens-season/
CATEGORIES:Recreation
END:VEVENT
BEGIN:VEVENT
DTSTART;VALUE=DATE:20180114
DTEND;VALUE=DATE:20180115
DTSTAMP:20260425T105447
CREATED:20180107T212618Z
LAST-MODIFIED:20180107T212638Z
UID:10000208-1515888000-1515974399@lake-sunapee-living.com
SUMMARY:SRKG Winter Hike: Snowshoe Bushwack with Nick Baer
DESCRIPTION:Snowshoe Bushwack with Nick Baer \nJanuary is the time to look for moose antlers in the woods. Join Nick Baer on a bushwack snowshoe/ski looking for antlers\, animal tracks\, and other winter field biology signs. Expect a 4-5 mile snowshoe hike. For more information contact Nick Baer at (603) 526-8233. \nwww.srkg.com
URL:https://lake-sunapee-living.com/event/srkg-winter-hike-snowshoe-bushwack-nick-baer/
CATEGORIES:Hike
END:VEVENT
BEGIN:VEVENT
DTSTART;TZID=America/New_York:20180120T130000
DTEND;TZID=America/New_York:20180120T153000
DTSTAMP:20260425T105447
CREATED:20180106T010206Z
LAST-MODIFIED:20180106T010206Z
UID:10000199-1516453200-1516462200@lake-sunapee-living.com
SUMMARY:Wilmot Community Association Annual Meeting
DESCRIPTION:WCA Annual Meeting and special presentation for dog lovers \nJoin the board of directors of the Wilmot Community Association (WCA) for an action-packed Annual Meeting at 1 p.m. on Saturday\, January 20. The meeting will take place at the WCA’s  Red Barn at 64 Village Road in Wilmot. All are welcome and WCA members are encouraged to attend. Meet with friends and neighbors\, cheer 2017 successes and learn about plans for 2018. Make sure you stick around for refreshments and a great presentation on New Hampshire’s state dog by Bob Cottrell. \nmore info: \nhttp://www.WilmotWCA.org
URL:https://lake-sunapee-living.com/event/wilmot-community-association-annual-meeting/
CATEGORIES:Community Event
ATTACH;FMTTYPE=image/jpeg:https://lake-sunapee-living.com/wp-content/uploads/2018/01/chinook.jpg
END:VEVENT
BEGIN:VEVENT
DTSTART;TZID=America/New_York:20180121T090000
DTEND;TZID=America/New_York:20180121T170000
DTSTAMP:20260425T105447
CREATED:20180111T001142Z
LAST-MODIFIED:20180111T001142Z
UID:10000216-1516525200-1516554000@lake-sunapee-living.com
SUMMARY:Ice Day at Muster Field Farm
DESCRIPTION:Gather the family\, bundle up and share a New England tradition at Kezar Lake and Muster Field Farm Museum\n~ Admission is free ~\n~ 9:00 am – until the ice is in ~ \nIce cutting by gas powered saw and finished by hand will be demonstrated by volunteers.\nIce harvest will be loaded by our ice block fulcrum onto wagons and vehicles\, then hauled to the Farm. Our Ice House\, c.1890\, will be fully stacked with block ice for use at our summer events. \nRyder Corner School House\, c.1810\, will be warm and welcoming with hot beverages\, homemade baked goods and hot soups. \nAntique cars\, converted into snowmobiles\, will be on display at the farm.
URL:https://lake-sunapee-living.com/event/ice-day-muster-field-farm/
CATEGORIES:Farm Festival
END:VEVENT
BEGIN:VEVENT
DTSTART;VALUE=DATE:20180127
DTEND;VALUE=DATE:20180128
DTSTAMP:20260425T105447
CREATED:20180107T212954Z
LAST-MODIFIED:20180107T212954Z
UID:10000210-1517011200-1517097599@lake-sunapee-living.com
SUMMARY:SRKG Winter XC Ski: Star Lake
DESCRIPTION:Star Lake XC Ski \nWHEN: January 27\, 2018 all-day\nExplore the Springfield section of the Greenway. Join Nathan Richer on a XC ski on the Protectworth trail near Star Lake. This will be a 4-mile trip with some moderate elevation gain and loss.  \nTo find out more contact Nathan Richer at (603) 344-0287.
URL:https://lake-sunapee-living.com/event/srkg-winter-xc-ski-star-lake/
LOCATION:SRKG
CATEGORIES:Hike
END:VEVENT
END:VCALENDAR