BEGIN:VCALENDAR
VERSION:2.0
PRODID:-//Lake Sunapee Living - ECPv6.15.13//NONSGML v1.0//EN
CALSCALE:GREGORIAN
METHOD:PUBLISH
X-ORIGINAL-URL:https://lake-sunapee-living.com
X-WR-CALDESC:Events for Lake Sunapee Living
REFRESH-INTERVAL;VALUE=DURATION:PT1H
X-Robots-Tag:noindex
X-PUBLISHED-TTL:PT1H
BEGIN:VTIMEZONE
TZID:America/New_York
BEGIN:DAYLIGHT
TZOFFSETFROM:-0500
TZOFFSETTO:-0400
TZNAME:EDT
DTSTART:20160313T070000
END:DAYLIGHT
BEGIN:STANDARD
TZOFFSETFROM:-0400
TZOFFSETTO:-0500
TZNAME:EST
DTSTART:20161106T060000
END:STANDARD
BEGIN:DAYLIGHT
TZOFFSETFROM:-0500
TZOFFSETTO:-0400
TZNAME:EDT
DTSTART:20170312T070000
END:DAYLIGHT
BEGIN:STANDARD
TZOFFSETFROM:-0400
TZOFFSETTO:-0500
TZNAME:EST
DTSTART:20171105T060000
END:STANDARD
BEGIN:DAYLIGHT
TZOFFSETFROM:-0500
TZOFFSETTO:-0400
TZNAME:EDT
DTSTART:20180311T070000
END:DAYLIGHT
BEGIN:STANDARD
TZOFFSETFROM:-0400
TZOFFSETTO:-0500
TZNAME:EST
DTSTART:20181104T060000
END:STANDARD
END:VTIMEZONE
BEGIN:VEVENT
DTSTART;TZID=America/New_York:20170820T130000
DTEND;TZID=America/New_York:20170820T150000
DTSTAMP:20260424T180426
CREATED:20170815T232145Z
LAST-MODIFIED:20170815T232145Z
UID:10000125-1503234000-1503241200@lake-sunapee-living.com
SUMMARY:Pete Merrigan at Flanders Stage in Sunapee Harbor
DESCRIPTION:Pete Merrigan at Flanders Stage in Sunapee Harbor\n\nSunday\, August 20 2017\n1:00pm – 3:00pm\n\nPeteMerrigan.com
URL:https://lake-sunapee-living.com/event/pete-merrigan-flanders-stage-sunapee-harbor/
LOCATION:NH
CATEGORIES:Concert
END:VEVENT
BEGIN:VEVENT
DTSTART;TZID=America/New_York:20170820T150000
DTEND;TZID=America/New_York:20170820T190000
DTSTAMP:20260424T180426
CREATED:20170816T211412Z
LAST-MODIFIED:20170816T211412Z
UID:10000027-1503241200-1503255600@lake-sunapee-living.com
SUMMARY:Parkers Groove Duo at The Anchorage
DESCRIPTION:Parkers Groove Duo at The Anchorage in Sunapee Harbor \n3-7pm \nTheAnchorageAtSunapeeHarbor.com
URL:https://lake-sunapee-living.com/event/parkers-groove-duo-anchorage/
LOCATION:NH
CATEGORIES:Concert
END:VEVENT
BEGIN:VEVENT
DTSTART;TZID=America/New_York:20170824T190000
DTEND;TZID=America/New_York:20170824T220000
DTSTAMP:20260424T180426
CREATED:20170815T231543Z
LAST-MODIFIED:20170815T231543Z
UID:10000116-1503601200-1503612000@lake-sunapee-living.com
SUMMARY:Pete Merrigan at the Salt Hill Pub Shanty
DESCRIPTION:Pete Merrigan at the Salt Hill Pub Shanty in Sunapee\, NH\n\nPeteMerrigan.com
URL:https://lake-sunapee-living.com/event/pete-merrigan-salt-hill-pub-shanty/
LOCATION:NH
CATEGORIES:Concert
END:VEVENT
BEGIN:VEVENT
DTSTART;TZID=America/New_York:20170825T090000
DTEND;TZID=America/New_York:20170825T140000
DTSTAMP:20260424T180426
CREATED:20170812T021534Z
LAST-MODIFIED:20170812T021701Z
UID:10000129-1503651600-1503669600@lake-sunapee-living.com
SUMMARY:Wilmot Community Association Blood Drive
DESCRIPTION:Give the gift of life\n\nThe Wilmot Community Association (WCA) wants your blood!\nThe WCA will host a Red Cross Blood Drive on Friday\, August 25. The blood drive takes place from 9 a.m. to 2 p.m. at the WCA’s Red Barn at 64 Village Road in Wilmot.
URL:https://lake-sunapee-living.com/event/wilmot-community-association-blood-drive/
LOCATION:NH
CATEGORIES:Blood Drive
END:VEVENT
BEGIN:VEVENT
DTSTART;TZID=America/New_York:20170825T190000
DTEND;TZID=America/New_York:20170825T220000
DTSTAMP:20260424T180426
CREATED:20170815T231658Z
LAST-MODIFIED:20170815T231717Z
UID:10000117-1503687600-1503698400@lake-sunapee-living.com
SUMMARY:Pete Merrigan at The Anchorage
DESCRIPTION:Pete Merrigan at The Anchorage in Sunapee Harbor\n\nFriday\, August 25 2017\n7:00pm – 10:00pm\n\nPeteMerrigan.com
URL:https://lake-sunapee-living.com/event/3290/
LOCATION:NH
CATEGORIES:Concert
END:VEVENT
BEGIN:VEVENT
DTSTART;TZID=America/New_York:20170826T090000
DTEND;TZID=America/New_York:20170826T150000
DTSTAMP:20260424T180426
CREATED:20170812T151407Z
LAST-MODIFIED:20170812T151407Z
UID:10000082-1503738000-1503759600@lake-sunapee-living.com
SUMMARY:Apple Pie Crafts Fair\, Newport\, NH
DESCRIPTION:Newport Town Common   *   Rain or Shine \n100+ booths of handmade crafts\, including pottery\, woodworking\, glass\, fiber arts and more. The fair also features live music\, an apple pie contest & sale\, and the Firemens’ Famous Chicken Barbecue.
URL:https://lake-sunapee-living.com/event/apple-pie-crafts-fair-newport-nh/
LOCATION:NH
CATEGORIES:Crafts,Food Festival
ATTACH;FMTTYPE=image/jpeg:https://lake-sunapee-living.com/wp-content/uploads/2017/08/Apple-Pies-in-a-Row.jpg
END:VEVENT
BEGIN:VEVENT
DTSTART;TZID=America/New_York:20170826T170000
DTEND;TZID=America/New_York:20170826T200000
DTSTAMP:20260424T180426
CREATED:20170816T210300Z
LAST-MODIFIED:20170816T210355Z
UID:10000029-1503766800-1503777600@lake-sunapee-living.com
SUMMARY:The Old Courthouse Restaurant Farm-to-Table Dinner
DESCRIPTION:Join us under the big tent at the Old Courthouse Restaurant for the annual favorite\nFARM-TO-TABLE DINNER! \nfeaturing foods found weekly at\nThe Newport Farmers Market\n5:00pm—bar opens with live music and appetizers\n6:00pm—buffet \nTickets are available at the Library Arts Center \n 
URL:https://lake-sunapee-living.com/event/old-courthouse-restaurant-farm-table-dinner/
LOCATION:NH
CATEGORIES:Dinner
END:VEVENT
BEGIN:VEVENT
DTSTART;TZID=America/New_York:20170826T193000
DTEND;TZID=America/New_York:20170826T213000
DTSTAMP:20260424T180426
CREATED:20170816T205803Z
LAST-MODIFIED:20170816T205821Z
UID:10000046-1503775800-1503783000@lake-sunapee-living.com
SUMMARY:Chris Brubeck's Triple Play at the Colby Sawyer Theater
DESCRIPTION:Chris Brubeck’s Triple Play\n  \nColby Sawyer Theater\nNew London\, NH \nMore info
URL:https://lake-sunapee-living.com/event/chris-brubecks-triple-play-colby-sawyer-theater/
LOCATION:NH
CATEGORIES:Concert
END:VEVENT
BEGIN:VEVENT
DTSTART;TZID=America/New_York:20170826T210000
DTEND;TZID=America/New_York:20170827T010000
DTSTAMP:20260424T180426
CREATED:20170816T211601Z
LAST-MODIFIED:20170816T211601Z
UID:10000124-1503781200-1503795600@lake-sunapee-living.com
SUMMARY:Unbalanced at The Anchorage
DESCRIPTION:Unbalanced at The Anchorage in Sunapee Harbor \nTheAnchorageAtSunapeeHarbor.com
URL:https://lake-sunapee-living.com/event/unbalanced-at-the-anchorage/
LOCATION:NH
CATEGORIES:Concert
END:VEVENT
BEGIN:VEVENT
DTSTART;TZID=America/New_York:20170827T070000
DTEND;TZID=America/New_York:20170827T100000
DTSTAMP:20260424T180426
CREATED:20170816T205546Z
LAST-MODIFIED:20170816T205546Z
UID:10000044-1503817200-1503828000@lake-sunapee-living.com
SUMMARY:Goodby to Summer Breakfast at the WCA
DESCRIPTION:Say Goodbye to Summer Breakfast at the WCA\n\n\nSay it ain’t so! How did summer pass so quickly? To cheer you up and fortify the kids for back-to-school\, the WCA is holding one of its famous breakfasts from 7 to 10 a.m. on Sunday\, August 27 at the Red Barn\, 64 Village Road in Wilmot. \n\nmore info \n 
URL:https://lake-sunapee-living.com/event/goodby-summer-breakfast-wca/
LOCATION:NH
CATEGORIES:Dinner
END:VEVENT
BEGIN:VEVENT
DTSTART;TZID=America/New_York:20170827T150000
DTEND;TZID=America/New_York:20170827T190000
DTSTAMP:20260424T180426
CREATED:20170816T211651Z
LAST-MODIFIED:20170816T211651Z
UID:10000023-1503846000-1503860400@lake-sunapee-living.com
SUMMARY:Chris Powers at The Anchorage
DESCRIPTION:Chris Powers at The Anchorage in Sunapee Harbor \nTheAnchorageAtSunapeeHarbor.com
URL:https://lake-sunapee-living.com/event/chris-powers-anchorage/
LOCATION:NH
CATEGORIES:Concert
END:VEVENT
BEGIN:VEVENT
DTSTART;TZID=America/New_York:20170827T170000
DTEND;TZID=America/New_York:20170827T190000
DTSTAMP:20260424T180426
CREATED:20170819T201638Z
LAST-MODIFIED:20170827T044819Z
UID:10000024-1503853200-1503860400@lake-sunapee-living.com
SUMMARY:Concert at the Fells: Nancy Tripp
DESCRIPTION:Veranda Concert with Nancy Tripp: Close\, but no OS-CAR \nThe Fells Historic Estate& Gardens\n456 Route 103A Newbury\, NH
URL:https://lake-sunapee-living.com/event/convert-fells-nancy-tripp/
LOCATION:NH
CATEGORIES:Concert
END:VEVENT
BEGIN:VEVENT
DTSTART;TZID=America/New_York:20170901T173000
DTEND;TZID=America/New_York:20170901T190000
DTSTAMP:20260424T180426
CREATED:20170812T013814Z
LAST-MODIFIED:20170812T013834Z
UID:10000040-1504287000-1504292400@lake-sunapee-living.com
SUMMARY:First Fridays! Concert
DESCRIPTION:Kearsarge Community Band play POPS\nWhipple Hall\, Main Street\, New London\nwww.CenterForTheArtsNH.org or call 526-4444
URL:https://lake-sunapee-living.com/event/first-fridays-concert/
LOCATION:NH
CATEGORIES:Concert
END:VEVENT
BEGIN:VEVENT
DTSTART;TZID=America/New_York:20170902T080000
DTEND;TZID=America/New_York:20170902T100000
DTSTAMP:20260424T180426
CREATED:20170830T183929Z
LAST-MODIFIED:20170830T183929Z
UID:10000022-1504339200-1504346400@lake-sunapee-living.com
SUMMARY:Bold 5K for Gold in Sunapee Harbor
DESCRIPTION:Sunapee Harbor\nRegistration time 6:30 am to 7:30 am \nFacebook information \nOnline Registration: sweat.positivetracks.org/boldforgold5k\nRace t-shirts are available until AUGUST 10TH
URL:https://lake-sunapee-living.com/event/bold-5k-gold-sunapee-harbor/
LOCATION:NH
CATEGORIES:Race for Charity
END:VEVENT
BEGIN:VEVENT
DTSTART;TZID=America/New_York:20170902T090000
DTEND;TZID=America/New_York:20170902T120000
DTSTAMP:20260424T180426
CREATED:20170830T184144Z
LAST-MODIFIED:20170830T184144Z
UID:10000055-1504342800-1504353600@lake-sunapee-living.com
SUMMARY:Wilmot Farmers Market
DESCRIPTION:Town green in Wilmot\, NH at 9 Kearsarge Valley Rd \nMusic by Folk Fusion
URL:https://lake-sunapee-living.com/event/wilmot-farmers-market/
LOCATION:NH
CATEGORIES:Farmers Market
END:VEVENT
BEGIN:VEVENT
DTSTART;TZID=America/New_York:20170902T120000
DTEND;TZID=America/New_York:20170902T160000
DTSTAMP:20260424T180426
CREATED:20170830T185428Z
LAST-MODIFIED:20170830T185451Z
UID:10000059-1504353600-1504368000@lake-sunapee-living.com
SUMMARY:ARTfest at the Oak & Grain
DESCRIPTION:Our first Annual ARTfest!\nCome enjoy artists\, crafters and a farmer’s market outside on the patio.\n$5 donation goes to support the NH Food Bank.\nCocktails & Nosh will be served on the patio for the afternoon! \nmore info: innatpleasantlake.com/calendar-of-events
URL:https://lake-sunapee-living.com/event/artfest-oak-grain/
LOCATION:NH
CATEGORIES:Crafts,Farmers Market
END:VEVENT
BEGIN:VEVENT
DTSTART;TZID=America/New_York:20170905T080000
DTEND;TZID=America/New_York:20170905T170000
DTSTAMP:20260424T180426
CREATED:20170905T230603Z
LAST-MODIFIED:20170905T230603Z
UID:10000122-1504598400-1504630800@lake-sunapee-living.com
SUMMARY:Movie Night at the LAC: Yours\, Mine and Ours
DESCRIPTION:The Library Arts Center is thrilled to present a series of films made during\, or inspired by our founding decade–the 1960’s!  The series will present two films per month–one geared toward adult audiences\, and one toward family audiences.  Tonight’s movie Yours\, Mine and Ours is for a family audience. \nThe series will run April through October. \nAll films will be shown in the Library Arts Center Gallery \nClick here for more info
URL:https://lake-sunapee-living.com/event/movie-night-lac-mine/
LOCATION:NH
CATEGORIES:Movie
END:VEVENT
BEGIN:VEVENT
DTSTART;TZID=America/New_York:20170907T170000
DTEND;TZID=America/New_York:20170907T183000
DTSTAMP:20260424T180426
CREATED:20170831T010802Z
LAST-MODIFIED:20170831T010848Z
UID:10000061-1504803600-1504809000@lake-sunapee-living.com
SUMMARY:New London Hospital Fall Art Exhibit Opening Reception
DESCRIPTION:Main Lobby\, New London Hospital \nThe exhibit will be on display thru December 29\,2017 \nFeaturing the following artists: Sherie Dowsett\, Roger Goldenberg\, Peter Jeziorski\, Karena Ness\, & Scott Neimyer \nExhibit is free and open to the public \nMore info at newlondonhospital.org/art
URL:https://lake-sunapee-living.com/event/new-london-hospital-fall-art-exhibit-opening-reception/
LOCATION:NH
CATEGORIES:Art Exhibition
END:VEVENT
BEGIN:VEVENT
DTSTART;TZID=America/New_York:20170907T190000
DTEND;TZID=America/New_York:20170907T210000
DTSTAMP:20260424T180426
CREATED:20170905T225912Z
LAST-MODIFIED:20170905T230116Z
UID:10000067-1504810800-1504818000@lake-sunapee-living.com
SUMMARY:Movie Night at the LAC: Hair
DESCRIPTION:The Library Arts Center is thrilled to present a series of films made during\, or inspired by our founding decade–the 1960’s!  The series will present two films per month–one geared toward adult audiences\, and one toward family audiences.  Tonight’s movie Hair is for adults. \nThe series will run April through October. \nAll films will be shown in the Library Arts Center Gallery \nClick here for more info
URL:https://lake-sunapee-living.com/event/movie-night-lac-hair/
LOCATION:NH
CATEGORIES:Movie
END:VEVENT
BEGIN:VEVENT
DTSTART;VALUE=DATE:20170909
DTEND;VALUE=DATE:20170910
DTSTAMP:20260424T180426
CREATED:20170907T234022Z
LAST-MODIFIED:20170908T002702Z
UID:10000053-1504915200-1505001599@lake-sunapee-living.com
SUMMARY:Sunapee-Ragged-Kearsarge Greenway Trail #2 Hike with Nick Baer
DESCRIPTION:Join Nick Baer for a great Fall hike on Greenway Trail #2. Starting in Goshen on the Old Province road on the north side of Mount Sunapee.  \nWe will then make our way through the beautiful Webb Woods and the Frank Simpson Reserve to eventually end up at the Sunapee Town Offices.  \nThis hike is fairly long at 7.3 miles in total but has moderate elevation gain and should take 4-5 hours. For more details contact Nick Baer (603) 526-8233 \nsrkg.com/event/sunapee-hike/
URL:https://lake-sunapee-living.com/event/sunapee-ragged-kearsarge-greenway-trail-2-hike/
LOCATION:NH
CATEGORIES:Hike
END:VEVENT
BEGIN:VEVENT
DTSTART;TZID=America/New_York:20170909T190000
DTEND;TZID=America/New_York:20170909T210000
DTSTAMP:20260424T180426
CREATED:20170907T224648Z
LAST-MODIFIED:20170907T224648Z
UID:10000047-1504983600-1504990800@lake-sunapee-living.com
SUMMARY:Around the World with Alice & Peggy! A Travel Fashion Show at the LAC
DESCRIPTION:Around the World with Peggy and Alice:\nA Fashion-Travel show and Chinese Auction\nto support the Newport Food Pantry \nLibrary Arts Center\nNewport\, New Hampshire \nJoin Peggy Hammer + Alice Roberts as they share unique fashions from their world travels with a beautiful fashion show for a great cause! \nCash donations will be accepted at the event to support the Newport Food Pantry
URL:https://lake-sunapee-living.com/event/around-world-alice-peggy-travel-fashion-show-lac/
LOCATION:NH
CATEGORIES:Fashion Show
END:VEVENT
BEGIN:VEVENT
DTSTART;TZID=America/New_York:20170911T190000
DTEND;TZID=America/New_York:20170911T200000
DTSTAMP:20260424T180426
CREATED:20170907T225042Z
LAST-MODIFIED:20170907T225042Z
UID:10000049-1505156400-1505160000@lake-sunapee-living.com
SUMMARY:Learn about 21st Century Scams at the Newbury Center Meeting House
DESCRIPTION:Learn about the various ways scammers and con artists trick people\, often the elderly\, in giving up their money. Sunny Mulligan Shea from the NHAG will lead a discussion about the tactics used and ways you can protect yourself. This is a great session for any and everyone interested in being more aware of the present dangers\, both from strangers and those you trust.
URL:https://lake-sunapee-living.com/event/learn-21st-century-scams-newbury-center-meeting-house/
LOCATION:NH
END:VEVENT
BEGIN:VEVENT
DTSTART;TZID=America/New_York:20170914T170000
DTEND;TZID=America/New_York:20170914T193000
DTSTAMP:20260424T180426
CREATED:20170908T002232Z
LAST-MODIFIED:20170908T002232Z
UID:10000009-1505408400-1505417400@lake-sunapee-living.com
SUMMARY:Lake Sunapee Chamber of Commerce: Business After Hours
DESCRIPTION:The Ice House Museum\n91 Pleasant St\, New London\, New Hampshire 03257 \nCome and explore Bill Kidder’s special collection of automobiles and Americana. The Ice House Museum offers a memorable\, hands-on experience for visitors of all ages. You’ve got to see it to believe it! Snacks and refreshments provided. (Rain date: Sept. 21)
URL:https://lake-sunapee-living.com/event/lake-sunapee-chamber-commerce-business-hours/
LOCATION:NH
CATEGORIES:Business
END:VEVENT
BEGIN:VEVENT
DTSTART;TZID=America/New_York:20170915T183000
DTEND;TZID=America/New_York:20170915T203000
DTSTAMP:20260424T180426
CREATED:20170905T230258Z
LAST-MODIFIED:20170905T230258Z
UID:10000068-1505500200-1505507400@lake-sunapee-living.com
SUMMARY:Movie Night at the LAC: The Music Man
DESCRIPTION:The Library Arts Center is thrilled to present a series of films made during\, or inspired by our founding decade–the 1960’s!  The series will present two films per month–one geared toward adult audiences\, and one toward family audiences.  Tonight’s movie The Music Man is for a family audience. \nThe series will run April through October. \nAll films will be shown in the Library Arts Center Gallery \nClick here for more info
URL:https://lake-sunapee-living.com/event/movie-night-lac-music-man/
LOCATION:NH
CATEGORIES:Movie
END:VEVENT
BEGIN:VEVENT
DTSTART;TZID=America/New_York:20170916T190000
DTEND;TZID=America/New_York:20170916T203000
DTSTAMP:20260424T180426
CREATED:20170907T233715Z
LAST-MODIFIED:20170908T002348Z
UID:10000051-1505588400-1505593800@lake-sunapee-living.com
SUMMARY:A Celebration of Traditional Music: Jeremiah McLane & Tim Cummings at the LAC
DESCRIPTION:Library Arts Center Gallery\nwww.wheezerandsqueezer.com\nJeremiah McLane and Timothy Cummings are a high-powered\, Vermont-based duo who share music deeply rooted in the traditional dance repertoire of Northern Europe and North America. Wielding an accordion and bagpipes (and often whistles and piano)\, they create a beguiling blend which utterly subverts the common stereotypes of their Old World instruments.
URL:https://lake-sunapee-living.com/event/celebration-traditional-music-jeremiah-mclane-tim-cummings-lac/
LOCATION:NH
CATEGORIES:Concert
END:VEVENT
BEGIN:VEVENT
DTSTART;TZID=America/New_York:20170916T190000
DTEND;TZID=America/New_York:20170916T203000
DTSTAMP:20260424T180426
CREATED:20170901T233738Z
LAST-MODIFIED:20170901T233738Z
UID:10000065-1505588400-1505593800@lake-sunapee-living.com
SUMMARY:Harpsichord and the hammered dulcimer concert at the Wilmot Community Association
DESCRIPTION:WILMOT – The Wilmot Community Association (WCA) is hosting a special harpsichord and the hammered dulcimer concert on Saturday\, September 16 from 7 to 8:30 p.m. at the Red Barn\, 64 Village Road. R.P. Hale is an Interdisciplinary artist\, craftsman and teacher. He will play a wide-ranging musical program.
URL:https://lake-sunapee-living.com/event/harpsichord-hammered-dulcimer-concert-wilmot-community-association/
LOCATION:NH
CATEGORIES:Concert
END:VEVENT
BEGIN:VEVENT
DTSTART;TZID=America/New_York:20170921T190000
DTEND;TZID=America/New_York:20170921T210000
DTSTAMP:20260424T180426
CREATED:20170907T224452Z
LAST-MODIFIED:20170907T224452Z
UID:10000123-1506020400-1506027600@lake-sunapee-living.com
SUMMARY:Tim Kelly Jazz piano-vocal concert to benefit the Library Arts Center
DESCRIPTION:Jazz piano-vocal concert by Tim Kelly to benefit the Library Arts Center \nOn the evening of September 21st from 7 to 9 p.m. there will be a very special performance indeed! Internationally traveled jazz pianist-vocalist Tim Kelly will be performing classic Jazz standards as well as Modern Jazz and Originals. \nAll proceeds go to the Newport Library Arts Center and the tickets are $10 per person.
URL:https://lake-sunapee-living.com/event/tim-kelly-jazz-piano-vocal-concert-benefit-library-arts-center/
LOCATION:NH
CATEGORIES:Concert
END:VEVENT
BEGIN:VEVENT
DTSTART;TZID=America/New_York:20170922T053000
DTEND;TZID=America/New_York:20170922T200000
DTSTAMP:20260424T180426
CREATED:20170815T015958Z
LAST-MODIFIED:20170922T003826Z
UID:10000084-1506058200-1506110400@lake-sunapee-living.com
SUMMARY:The Fondtones Band at the New London Hospital Day Gala
DESCRIPTION:New London Hospital Day Gala\,  Fund Raiser\, Newport Opera House 5:30 pm
URL:https://lake-sunapee-living.com/event/fondtones-band-new-london-hospital-day-gala/
LOCATION:NH
CATEGORIES:Concert
ATTACH;FMTTYPE=image/jpeg:https://lake-sunapee-living.com/wp-content/uploads/2017/08/fondtones4.jpg
END:VEVENT
BEGIN:VEVENT
DTSTART;TZID=America/New_York:20170922T150000
DTEND;TZID=America/New_York:20170922T160000
DTSTAMP:20260424T180426
CREATED:20170921T232025Z
LAST-MODIFIED:20170921T232025Z
UID:10000012-1506092400-1506096000@lake-sunapee-living.com
SUMMARY:Lecture by author Philip McFarland at The Fells
DESCRIPTION:John Hay\, Friend of Giants: The Man and Life Connecting Abraham Lincoln\, Mark Twain\, Henry James\, and Theodore Roosevelt – Lecture by author Philip McFarland \nFriday\, September 22\, 2017\n3:00pm 4:00pm \nThe Fells Historic Estate and Gardens 456 New Hampshire 103A
URL:https://lake-sunapee-living.com/event/lecture-author-philip-mcfarland-fells/
LOCATION:NH
CATEGORIES:Lecture
END:VEVENT
BEGIN:VEVENT
DTSTART;TZID=America/New_York:20170922T190000
DTEND;TZID=America/New_York:20170922T210000
DTSTAMP:20260424T180426
CREATED:20170921T001215Z
LAST-MODIFIED:20170921T001922Z
UID:10000001-1506106800-1506114000@lake-sunapee-living.com
SUMMARY:Geoff Bartley at the Sunapee Community CoffeeHouse
DESCRIPTION:Geoff Bartley (1948 – ?) is a folk-blues guitar player singer-songwriter and recording artist. His last two CDs\, 2009’s “Put the Big Stone Down” and 2011’s “Mercy for the Dispossessed”\, went to No. 1 on folk radio.
URL:https://lake-sunapee-living.com/event/geoff-bartley-sunapee-community-coffeehouse/
LOCATION:Sunapee Community CoffeeHouse\, 9 Lower Main Street\, Sunapee\, NH\, United States
CATEGORIES:Concert
GEO:43.3868056;-72.0886178
X-APPLE-STRUCTURED-LOCATION;VALUE=URI;X-ADDRESS=Sunapee Community CoffeeHouse 9 Lower Main Street Sunapee NH United States;X-APPLE-RADIUS=500;X-TITLE=9 Lower Main Street:geo:-72.0886178,43.3868056
END:VEVENT
END:VCALENDAR