BEGIN:VCALENDAR
VERSION:2.0
PRODID:-//Lake Sunapee Living - ECPv6.15.13//NONSGML v1.0//EN
CALSCALE:GREGORIAN
METHOD:PUBLISH
X-ORIGINAL-URL:https://lake-sunapee-living.com
X-WR-CALDESC:Events for Lake Sunapee Living
REFRESH-INTERVAL;VALUE=DURATION:PT1H
X-Robots-Tag:noindex
X-PUBLISHED-TTL:PT1H
BEGIN:VTIMEZONE
TZID:America/New_York
BEGIN:DAYLIGHT
TZOFFSETFROM:-0500
TZOFFSETTO:-0400
TZNAME:EDT
DTSTART:20170312T070000
END:DAYLIGHT
BEGIN:STANDARD
TZOFFSETFROM:-0400
TZOFFSETTO:-0500
TZNAME:EST
DTSTART:20171105T060000
END:STANDARD
BEGIN:DAYLIGHT
TZOFFSETFROM:-0500
TZOFFSETTO:-0400
TZNAME:EDT
DTSTART:20180311T070000
END:DAYLIGHT
BEGIN:STANDARD
TZOFFSETFROM:-0400
TZOFFSETTO:-0500
TZNAME:EST
DTSTART:20181104T060000
END:STANDARD
BEGIN:DAYLIGHT
TZOFFSETFROM:-0500
TZOFFSETTO:-0400
TZNAME:EDT
DTSTART:20190310T070000
END:DAYLIGHT
BEGIN:STANDARD
TZOFFSETFROM:-0400
TZOFFSETTO:-0500
TZNAME:EST
DTSTART:20191103T060000
END:STANDARD
BEGIN:DAYLIGHT
TZOFFSETFROM:-0500
TZOFFSETTO:-0400
TZNAME:EDT
DTSTART:20200308T070000
END:DAYLIGHT
BEGIN:STANDARD
TZOFFSETFROM:-0400
TZOFFSETTO:-0500
TZNAME:EST
DTSTART:20201101T060000
END:STANDARD
BEGIN:DAYLIGHT
TZOFFSETFROM:-0500
TZOFFSETTO:-0400
TZNAME:EDT
DTSTART:20210314T070000
END:DAYLIGHT
BEGIN:STANDARD
TZOFFSETFROM:-0400
TZOFFSETTO:-0500
TZNAME:EST
DTSTART:20211107T060000
END:STANDARD
BEGIN:DAYLIGHT
TZOFFSETFROM:-0500
TZOFFSETTO:-0400
TZNAME:EDT
DTSTART:20220313T070000
END:DAYLIGHT
BEGIN:STANDARD
TZOFFSETFROM:-0400
TZOFFSETTO:-0500
TZNAME:EST
DTSTART:20221106T060000
END:STANDARD
BEGIN:DAYLIGHT
TZOFFSETFROM:-0500
TZOFFSETTO:-0400
TZNAME:EDT
DTSTART:20230312T070000
END:DAYLIGHT
BEGIN:STANDARD
TZOFFSETFROM:-0400
TZOFFSETTO:-0500
TZNAME:EST
DTSTART:20231105T060000
END:STANDARD
BEGIN:DAYLIGHT
TZOFFSETFROM:-0500
TZOFFSETTO:-0400
TZNAME:EDT
DTSTART:20240310T070000
END:DAYLIGHT
BEGIN:STANDARD
TZOFFSETFROM:-0400
TZOFFSETTO:-0500
TZNAME:EST
DTSTART:20241103T060000
END:STANDARD
END:VTIMEZONE
BEGIN:VEVENT
DTSTART;VALUE=DATE:20180201
DTEND;VALUE=DATE:20180204
DTSTAMP:20260424T164052
CREATED:20180131T014128Z
LAST-MODIFIED:20180131T014308Z
UID:10000217-1517443200-1517702399@lake-sunapee-living.com
SUMMARY:New London Winter Carnival 2018
DESCRIPTION:Click here for events calendar \n\nThursday\n2pm – 4pm | Bridge Tournament\nat the Lethbridge Lodge at Colby-Sawyer College\n3pm – 8pm | Lincoln Ice Castles Trip\nRSVP required\, contact Scott Blewitt\n6pm; 8pm | Double Feature Film\nat Wheeler Hall at Colby-Sawyer College\nGroundhog Day; Spiderman: Homecoming \n\nFriday\nWinter Festivities at Colby-Sawyer College\n5:30 – 7:30pm | Dinner with Jack Frost on the CSC Quad * tickets required\ninformation and purchasing at www.NLREC.com firepits and free s’mores\nWagon Rides and Snow Sculptures\nCSC Basketball Games at Hogan Sports Center\n8pm – 9pm | Comedian Jessi Campbell in Sawyer Center * Show rated 18+\n* Child care in CSC Mercer Hall Gym\nages 5-12 from 6:30-9:30pm\n$10 per first child\, $5 every additional child\nQuestions? Contact Connor at connor.delaney@colby-sawyer.edu \n\nSaturday\n9am – 12pm | Otter Pond Ice Fishing Clinic Bring your own fishing license\n12pm – 2pm | Sled Dogs on Ivey Field\nwith CSC student Bailey Friedman\nBehind CSC Curtis L. Ivey Science Center\n1pm; 3pm | CSC Basketball Games at Hogan Sports Center Outing Club Basketball Teams at Halftime\n3pm – 4pm | Tracy Memorial Library Magic Show\n3pm | Knights Hill Nature Park Snow Shoeing with Mark Vernon\nRSVP at mtvernon@tds.net\nfree rentals available at Village Sports\n5pm | S’mores at Cougar Court Behind Peter Christian’s\n6pm | Fireworks at Cougar Court\nAll events are free unless otherwise noted \n  \n 
URL:https://lake-sunapee-living.com/event/new-london-winter-carnival-2018/
LOCATION:NH
CATEGORIES:Winter Carnival
END:VEVENT
BEGIN:VEVENT
DTSTART;TZID=America/New_York:20180310T113000
DTEND;TZID=America/New_York:20180310T163000
DTSTAMP:20260424T164052
CREATED:20180305T012146Z
LAST-MODIFIED:20180305T012311Z
UID:10000056-1520681400-1520699400@lake-sunapee-living.com
SUMMARY:Winterfest at the Inn at Pleasant Lake
DESCRIPTION:Winterfest at the Inn at Pleasant Lake  \nOn Saturday March 10th\, 2018 the Inn at Pleasant Lake is holding its second annual Winterfest to benefit the New Hampshire Food Bank.  \nJudge the chili cook off\, watch a cooking presentation by Chef Leary\, and take part in the games and winter activities!  \nBe a part of the audience for the Oak & Grain Chopped Competition\, featuring both amateur and local chefs. A silent auction will take place during the event where several items will be presented\, including an in-home 3 course dinner prepared by our Executive Chef.  \nTickets by Eventbrite \n 
URL:https://lake-sunapee-living.com/event/winterfest-inn-pleasant-lake/
LOCATION:The Inn at Pleasant Lake\, 853 Pleasant St\, New London\, NH\, 03257\, United States
CATEGORIES:Winter Carnival
GEO:43.4335402;-71.9697255
X-APPLE-STRUCTURED-LOCATION;VALUE=URI;X-ADDRESS=The Inn at Pleasant Lake 853 Pleasant St New London NH 03257 United States;X-APPLE-RADIUS=500;X-TITLE=853 Pleasant St:geo:-71.9697255,43.4335402
END:VEVENT
BEGIN:VEVENT
DTSTART;VALUE=DATE:20190207
DTEND;VALUE=DATE:20190211
DTSTAMP:20260424T164052
CREATED:20190125T015620Z
LAST-MODIFIED:20190125T015620Z
UID:10003691-1549497600-1549843199@lake-sunapee-living.com
SUMMARY:103rd Newport Winter Carnival
DESCRIPTION:Join the “Pirates of Newport” for the 103rd Newport Winter Carnival! \nIce Skating\, games\, events and plenty of memories! Join in the fun! \nSchedule of events
URL:https://lake-sunapee-living.com/event/103rd-newport-winter-carnival/
LOCATION:Newport Town Common\, 15 Park St\, Newport\, NH\, 03773\, United States
CATEGORIES:Winter Carnival
GEO:43.3659042;-72.1734984
X-APPLE-STRUCTURED-LOCATION;VALUE=URI;X-ADDRESS=Newport Town Common 15 Park St Newport NH 03773 United States;X-APPLE-RADIUS=500;X-TITLE=15 Park St:geo:-72.1734984,43.3659042
END:VEVENT
BEGIN:VEVENT
DTSTART;TZID=America/New_York:20190208T173000
DTEND;TZID=America/New_York:20190208T190000
DTSTAMP:20260424T164052
CREATED:20190101T235623Z
LAST-MODIFIED:20190101T235623Z
UID:10000245-1549647000-1549652400@lake-sunapee-living.com
SUMMARY:Dinner with Jack Frost - New London Winter Carnival
DESCRIPTION:A taste of New London and beyond! \nThis outdoor dinner takes place on the quad at CSC with area restaurants offering different courses to a meal. \nTiki torches and campfires will keep us warm. Fun for the whole family!
URL:https://lake-sunapee-living.com/event/dinner-with-jack-frost-new-london-winter-carnival/
LOCATION:New London Recreation Dept\, 375 Main St\, New London\, NH\, 03257\, United States
CATEGORIES:Winter Carnival
GEO:43.4400907;-72.024331
X-APPLE-STRUCTURED-LOCATION;VALUE=URI;X-ADDRESS=New London Recreation Dept 375 Main St New London NH 03257 United States;X-APPLE-RADIUS=500;X-TITLE=375 Main St:geo:-72.024331,43.4400907
END:VEVENT
BEGIN:VEVENT
DTSTART;TZID=America/New_York:20210213T110000
DTEND;TZID=America/New_York:20210213T160000
DTSTAMP:20260424T164052
CREATED:20210207T144220Z
LAST-MODIFIED:20210207T153630Z
UID:10003986-1613214000-1613232000@lake-sunapee-living.com
SUMMARY:Newport 105th Winter Carnival
DESCRIPTION:Theme LIFE IS A CIRCUS \nClick for information PDF \nNewport Recreation 603.863.1332 \nwww.newportrec.com \nNewport Chamber of Commerce 603.863.1510 \nPageant (pay-per-view) $29.00\nnewportoperahouse.com \nWINTER CARNIVAL BUTTONS available at Newport Rec\, Queen contestants or area businesses!
URL:https://lake-sunapee-living.com/event/newport-105th-winter-carnival/
LOCATION:Newport Town Common\, 15 Park St\, Newport\, NH\, 03773\, United States
CATEGORIES:Winter Carnival
ATTACH;FMTTYPE=image/jpeg:https://lake-sunapee-living.com/wp-content/uploads/2021/02/newport-winter-carnival-2021.jpg
GEO:43.3659042;-72.1734984
X-APPLE-STRUCTURED-LOCATION;VALUE=URI;X-ADDRESS=Newport Town Common 15 Park St Newport NH 03773 United States;X-APPLE-RADIUS=500;X-TITLE=15 Park St:geo:-72.1734984,43.3659042
END:VEVENT
BEGIN:VEVENT
DTSTART;VALUE=DATE:20220210
DTEND;VALUE=DATE:20220214
DTSTAMP:20260424T164052
CREATED:20211212T232928Z
LAST-MODIFIED:20211212T233343Z
UID:10004103-1644451200-1644796799@lake-sunapee-living.com
SUMMARY:Newport 106th Winter Carnival - Out of the Woods
DESCRIPTION:
URL:https://lake-sunapee-living.com/event/newport-106th-winter-carnival-out-of-the-woods/
LOCATION:Newport Town Common\, 15 Park St\, Newport\, NH\, 03773\, United States
CATEGORIES:Winter Carnival
GEO:43.3659042;-72.1734984
X-APPLE-STRUCTURED-LOCATION;VALUE=URI;X-ADDRESS=Newport Town Common 15 Park St Newport NH 03773 United States;X-APPLE-RADIUS=500;X-TITLE=15 Park St:geo:-72.1734984,43.3659042
END:VEVENT
BEGIN:VEVENT
DTSTART;VALUE=DATE:20230208
DTEND;VALUE=DATE:20230213
DTSTAMP:20260424T164052
CREATED:20221227T032950Z
LAST-MODIFIED:20221227T032950Z
UID:10004153-1675814400-1676246399@lake-sunapee-living.com
SUMMARY:The 107th Newport Winter Carnival
DESCRIPTION:The Annual celebration of the season in the rural community of Newport\, New Hampshire.
URL:https://lake-sunapee-living.com/event/the-107th-newport-winter-carnival/
LOCATION:Newport Town Common\, 15 Park St\, Newport\, NH\, 03773\, United States
CATEGORIES:Winter Carnival
GEO:43.3659042;-72.1734984
X-APPLE-STRUCTURED-LOCATION;VALUE=URI;X-ADDRESS=Newport Town Common 15 Park St Newport NH 03773 United States;X-APPLE-RADIUS=500;X-TITLE=15 Park St:geo:-72.1734984,43.3659042
END:VEVENT
END:VCALENDAR