BEGIN:VCALENDAR
VERSION:2.0
PRODID:-//Lake Sunapee Living - ECPv6.15.13//NONSGML v1.0//EN
CALSCALE:GREGORIAN
METHOD:PUBLISH
X-ORIGINAL-URL:https://lake-sunapee-living.com
X-WR-CALDESC:Events for Lake Sunapee Living
REFRESH-INTERVAL;VALUE=DURATION:PT1H
X-Robots-Tag:noindex
X-PUBLISHED-TTL:PT1H
BEGIN:VTIMEZONE
TZID:America/New_York
BEGIN:DAYLIGHT
TZOFFSETFROM:-0500
TZOFFSETTO:-0400
TZNAME:EDT
DTSTART:20170312T070000
END:DAYLIGHT
BEGIN:STANDARD
TZOFFSETFROM:-0400
TZOFFSETTO:-0500
TZNAME:EST
DTSTART:20171105T060000
END:STANDARD
BEGIN:DAYLIGHT
TZOFFSETFROM:-0500
TZOFFSETTO:-0400
TZNAME:EDT
DTSTART:20180311T070000
END:DAYLIGHT
BEGIN:STANDARD
TZOFFSETFROM:-0400
TZOFFSETTO:-0500
TZNAME:EST
DTSTART:20181104T060000
END:STANDARD
BEGIN:DAYLIGHT
TZOFFSETFROM:-0500
TZOFFSETTO:-0400
TZNAME:EDT
DTSTART:20190310T070000
END:DAYLIGHT
BEGIN:STANDARD
TZOFFSETFROM:-0400
TZOFFSETTO:-0500
TZNAME:EST
DTSTART:20191103T060000
END:STANDARD
BEGIN:DAYLIGHT
TZOFFSETFROM:-0500
TZOFFSETTO:-0400
TZNAME:EDT
DTSTART:20200308T070000
END:DAYLIGHT
BEGIN:STANDARD
TZOFFSETFROM:-0400
TZOFFSETTO:-0500
TZNAME:EST
DTSTART:20201101T060000
END:STANDARD
BEGIN:DAYLIGHT
TZOFFSETFROM:-0500
TZOFFSETTO:-0400
TZNAME:EDT
DTSTART:20210314T070000
END:DAYLIGHT
BEGIN:STANDARD
TZOFFSETFROM:-0400
TZOFFSETTO:-0500
TZNAME:EST
DTSTART:20211107T060000
END:STANDARD
END:VTIMEZONE
BEGIN:VEVENT
DTSTART;TZID=America/New_York:20180623T100000
DTEND;TZID=America/New_York:20180623T150000
DTSTAMP:20260425T211643
CREATED:20180509T235350Z
LAST-MODIFIED:20180509T235418Z
UID:10000261-1529748000-1529766000@lake-sunapee-living.com
SUMMARY:4th Annual New London Strawberry Festival
DESCRIPTION:Hosted by New London Recreation Department\n\nVENDORS GALORE! Crafts\, food jewelry & much\, much more \nLIVE Music all day on different stages by FOLK FUSION and THE FLAMES \nLittle Red Wagon Children’s Theatre – 12:00 pm show \nHot Food & Cold Drinks To benefit New London Rotary \nand of course…LOTS of Shortcake LOCAL Strawberries FOR SALE! \nTown Green\, New London\, NH \nWhipple Hall Dedication to follow at 3:00 pm \nInterested in being a Vendor or want more information visit our website\,\nFACEBOOK or contact Scott Blewitt at (603) 526-6401
URL:https://lake-sunapee-living.com/event/4th-annual-new-london-strawberry-festival/
LOCATION:NH
CATEGORIES:Strawberry Festival
END:VEVENT
BEGIN:VEVENT
DTSTART;TZID=America/New_York:20200620T100000
DTEND;TZID=America/New_York:20200620T150000
DTSTAMP:20260425T211643
CREATED:20200315T185846Z
LAST-MODIFIED:20200315T185937Z
UID:10003945-1592647200-1592665200@lake-sunapee-living.com
SUMMARY:6th annual New London Strawberry Festival
DESCRIPTION:Come experience the 6th annual New London Strawberry festival\, New London\,NH. \nFeaturing local strawberries\, over 80 vendors\, live music and fun for the whole family.\nVendors – register by Dec 31st and get a 12×12 space for $25.\nFood Vendors Wanted – $50 per food truck\nwww.nlrec.com or call 526-6401 to register
URL:https://lake-sunapee-living.com/event/6th-annual-new-london-strawberry-festival/
LOCATION:NH\, United States
CATEGORIES:Strawberry Festival
END:VEVENT
END:VCALENDAR