BEGIN:VCALENDAR
VERSION:2.0
PRODID:-//Lake Sunapee Living - ECPv6.15.13//NONSGML v1.0//EN
CALSCALE:GREGORIAN
METHOD:PUBLISH
X-ORIGINAL-URL:https://lake-sunapee-living.com
X-WR-CALDESC:Events for Lake Sunapee Living
REFRESH-INTERVAL;VALUE=DURATION:PT1H
X-Robots-Tag:noindex
X-PUBLISHED-TTL:PT1H
BEGIN:VTIMEZONE
TZID:America/New_York
BEGIN:DAYLIGHT
TZOFFSETFROM:-0500
TZOFFSETTO:-0400
TZNAME:EDT
DTSTART:20170312T070000
END:DAYLIGHT
BEGIN:STANDARD
TZOFFSETFROM:-0400
TZOFFSETTO:-0500
TZNAME:EST
DTSTART:20171105T060000
END:STANDARD
BEGIN:DAYLIGHT
TZOFFSETFROM:-0500
TZOFFSETTO:-0400
TZNAME:EDT
DTSTART:20180311T070000
END:DAYLIGHT
BEGIN:STANDARD
TZOFFSETFROM:-0400
TZOFFSETTO:-0500
TZNAME:EST
DTSTART:20181104T060000
END:STANDARD
BEGIN:DAYLIGHT
TZOFFSETFROM:-0500
TZOFFSETTO:-0400
TZNAME:EDT
DTSTART:20190310T070000
END:DAYLIGHT
BEGIN:STANDARD
TZOFFSETFROM:-0400
TZOFFSETTO:-0500
TZNAME:EST
DTSTART:20191103T060000
END:STANDARD
BEGIN:DAYLIGHT
TZOFFSETFROM:-0500
TZOFFSETTO:-0400
TZNAME:EDT
DTSTART:20200308T070000
END:DAYLIGHT
BEGIN:STANDARD
TZOFFSETFROM:-0400
TZOFFSETTO:-0500
TZNAME:EST
DTSTART:20201101T060000
END:STANDARD
BEGIN:DAYLIGHT
TZOFFSETFROM:-0500
TZOFFSETTO:-0400
TZNAME:EDT
DTSTART:20210314T070000
END:DAYLIGHT
BEGIN:STANDARD
TZOFFSETFROM:-0400
TZOFFSETTO:-0500
TZNAME:EST
DTSTART:20211107T060000
END:STANDARD
BEGIN:DAYLIGHT
TZOFFSETFROM:-0500
TZOFFSETTO:-0400
TZNAME:EDT
DTSTART:20220313T070000
END:DAYLIGHT
BEGIN:STANDARD
TZOFFSETFROM:-0400
TZOFFSETTO:-0500
TZNAME:EST
DTSTART:20221106T060000
END:STANDARD
BEGIN:DAYLIGHT
TZOFFSETFROM:-0500
TZOFFSETTO:-0400
TZNAME:EDT
DTSTART:20230312T070000
END:DAYLIGHT
BEGIN:STANDARD
TZOFFSETFROM:-0400
TZOFFSETTO:-0500
TZNAME:EST
DTSTART:20231105T060000
END:STANDARD
BEGIN:DAYLIGHT
TZOFFSETFROM:-0500
TZOFFSETTO:-0400
TZNAME:EDT
DTSTART:20240310T070000
END:DAYLIGHT
BEGIN:STANDARD
TZOFFSETFROM:-0400
TZOFFSETTO:-0500
TZNAME:EST
DTSTART:20241103T060000
END:STANDARD
BEGIN:DAYLIGHT
TZOFFSETFROM:-0500
TZOFFSETTO:-0400
TZNAME:EDT
DTSTART:20250309T070000
END:DAYLIGHT
BEGIN:STANDARD
TZOFFSETFROM:-0400
TZOFFSETTO:-0500
TZNAME:EST
DTSTART:20251102T060000
END:STANDARD
BEGIN:DAYLIGHT
TZOFFSETFROM:-0500
TZOFFSETTO:-0400
TZNAME:EDT
DTSTART:20260308T070000
END:DAYLIGHT
BEGIN:STANDARD
TZOFFSETFROM:-0400
TZOFFSETTO:-0500
TZNAME:EST
DTSTART:20261101T060000
END:STANDARD
END:VTIMEZONE
BEGIN:VEVENT
DTSTART;TZID=America/New_York:20180721T180000
DTEND;TZID=America/New_York:20180721T190000
DTSTAMP:20260424T202639
CREATED:20180607T231859Z
LAST-MODIFIED:20180607T232356Z
UID:10000449-1532196000-1532199600@lake-sunapee-living.com
SUMMARY:Happenings at The Livery: Storyteller Simon Brooks
DESCRIPTION:Voice actor and British\, award-winning storyteller Simon Brooks will be performing at the historic Livery in Sunapee. \nCome listen to Simon’s folk and fairy tales at this wonderful venue. \nFree to all
URL:https://lake-sunapee-living.com/event/happenings-at-the-livery-simon-brooks/
LOCATION:The Livery\, 58 Main St.\, Sunapee\, NH\, 03782\, United States
CATEGORIES:Storytelling
GEO:43.3860983;-72.0826955
X-APPLE-STRUCTURED-LOCATION;VALUE=URI;X-ADDRESS=The Livery 58 Main St. Sunapee NH 03782 United States;X-APPLE-RADIUS=500;X-TITLE=58 Main St.:geo:-72.0826955,43.3860983
END:VEVENT
BEGIN:VEVENT
DTSTART;TZID=America/New_York:20241021T173000
DTEND;TZID=America/New_York:20241021T183000
DTSTAMP:20260424T202639
CREATED:20241013T193534Z
LAST-MODIFIED:20241013T193548Z
UID:10004350-1729531800-1729535400@lake-sunapee-living.com
SUMMARY:HuManities Mondays: Storytelling with Simon Brooks
DESCRIPTION:Free to the Public \nHear from storyteller Simon Brooks\, who travels all over the United States sharing stories and leading workshops. \nHe combines the intensity of solo performance with the intimacy of face-to-face conversations as he shares folk and fairy tales\, myths and legends from all over the world. \nhttps://centerfortheartsnh.us10.list-manage.com/track/click?u=972d302c83f2d028e1b34d44d&id=d368053e44&e=58604c95c2
URL:https://lake-sunapee-living.com/event/humanities-mondays-storytelling-with-simon-brooks/
LOCATION:Whipple Hall\, 429 Main Street\, New London\, NH\, 03257\, United States
CATEGORIES:Storytelling
GEO:43.4130294;-71.9807053
X-APPLE-STRUCTURED-LOCATION;VALUE=URI;X-ADDRESS=Whipple Hall 429 Main Street New London NH 03257 United States;X-APPLE-RADIUS=500;X-TITLE=429 Main Street:geo:-71.9807053,43.4130294
END:VEVENT
BEGIN:VEVENT
DTSTART;TZID=America/New_York:20250421T183000
DTEND;TZID=America/New_York:20250421T203000
DTSTAMP:20260424T202639
CREATED:20250328T232946Z
LAST-MODIFIED:20250328T233059Z
UID:10004359-1745260200-1745267400@lake-sunapee-living.com
SUMMARY:Explore Free Speech with Dan Billin and The Center for the Arts
DESCRIPTION:Explore Free Speech with Dan Billin and The Center for the Arts \nNew London\, NH – The Center for the Arts invites the public to an evening of riveting storytelling and historical insight with journalist and historian Dan Billin. As part of CFA’s HuManities Mondays series\, Billin will dive into the power and fragility of free speech in a presentation titled “Live Free or Die: The Contested History of the Words on Your License Plate.” \nIn 1969\, when New Hampshire officials decided to emblazon the state motto—“Live Free or Die”—on license plates\, many citizens viewed it as an endorsement of the Vietnam War. Some responded with an act of resistance: covering or altering the motto. In response\, state authorities cracked down\, arresting and fining those who engaged in this duct-tape dissent. Their legal battle ultimately reached the United States Supreme Court\, igniting a landmark First Amendment case. \nBillin\, a longtime newspaper reporter in New Hampshire\, will bring his journalistic expertise and passion for history to this discussion\, shedding light on this uniquely New Hampshire tale. In addition to the license plate controversy\, he has uncovered fascinating stories from the state’s past\, including the long-forgotten tale of Noyes Academy and the extraordinary Black students who sought an education in antebellum New Hampshire. \nThis free event will take place on Monday\, April 21\, 2025\, from 6:30 PM to 7:30 PM at CFA’s new space in New London\, NH. Whether you’re a history buff\, a free speech advocate\, or simply enjoy compelling storytelling\, this presentation promises an evening of thought-provoking discussion. \n 
URL:https://lake-sunapee-living.com/event/explore-free-speech-with-dan-billin-and-the-center-for-the-arts/
LOCATION:Center for the Arts\, 428 Main Street\, New London\, New Hampshire\, 03257\, United States
CATEGORIES:History Lecture,Storytelling
GEO:43.4385643;-71.8436225
X-APPLE-STRUCTURED-LOCATION;VALUE=URI;X-ADDRESS=Center for the Arts 428 Main Street New London New Hampshire 03257 United States;X-APPLE-RADIUS=500;X-TITLE=428 Main Street:geo:-71.8436225,43.4385643
END:VEVENT
BEGIN:VEVENT
DTSTART;TZID=America/New_York:20250521T100000
DTEND;TZID=America/New_York:20250521T110000
DTSTAMP:20260424T202639
CREATED:20250518T235009Z
LAST-MODIFIED:20250518T235250Z
UID:10004512-1747821600-1747825200@lake-sunapee-living.com
SUMMARY:Nature Exploration Story Time ~ Emerging Turtles
DESCRIPTION:Nature Exploration Story Time ~\nEmerging Turtles\, 10:00 -11:00 AM at the\nLSPA Center for Lake Studies. Come join LSPA\nenvironmental educators for nature themed\nactivities on Tuesday mornings at LSPA’s Center\nfor Lake Studies. Each Tuesday will offer a differ-\nent theme and include a story\, activities\, a craft\,\nand exploration. These programs are designed for\nyoung children and their caregivers. They are free\nand open to all! www.LakeSunapee.org.
URL:https://lake-sunapee-living.com/event/humanities-monday-maple-new-hampshire-medicine-of-connection-with-damian-costello/
LOCATION:Lake Sunapee Protective Association\, 63 Main Street\, Sunapee\, 03782\, United States
CATEGORIES:Storytelling
GEO:43.3862043;-72.0818365
X-APPLE-STRUCTURED-LOCATION;VALUE=URI;X-ADDRESS=Lake Sunapee Protective Association 63 Main Street Sunapee 03782 United States;X-APPLE-RADIUS=500;X-TITLE=63 Main Street:geo:-72.0818365,43.3862043
END:VEVENT
END:VCALENDAR