BEGIN:VCALENDAR
VERSION:2.0
PRODID:-//Lake Sunapee Living - ECPv6.15.13//NONSGML v1.0//EN
CALSCALE:GREGORIAN
METHOD:PUBLISH
X-WR-CALNAME:Lake Sunapee Living
X-ORIGINAL-URL:https://lake-sunapee-living.com
X-WR-CALDESC:Events for Lake Sunapee Living
REFRESH-INTERVAL;VALUE=DURATION:PT1H
X-Robots-Tag:noindex
X-PUBLISHED-TTL:PT1H
BEGIN:VTIMEZONE
TZID:America/New_York
BEGIN:DAYLIGHT
TZOFFSETFROM:-0500
TZOFFSETTO:-0400
TZNAME:EDT
DTSTART:20190310T070000
END:DAYLIGHT
BEGIN:STANDARD
TZOFFSETFROM:-0400
TZOFFSETTO:-0500
TZNAME:EST
DTSTART:20191103T060000
END:STANDARD
BEGIN:DAYLIGHT
TZOFFSETFROM:-0500
TZOFFSETTO:-0400
TZNAME:EDT
DTSTART:20200308T070000
END:DAYLIGHT
BEGIN:STANDARD
TZOFFSETFROM:-0400
TZOFFSETTO:-0500
TZNAME:EST
DTSTART:20201101T060000
END:STANDARD
BEGIN:DAYLIGHT
TZOFFSETFROM:-0500
TZOFFSETTO:-0400
TZNAME:EDT
DTSTART:20210314T070000
END:DAYLIGHT
BEGIN:STANDARD
TZOFFSETFROM:-0400
TZOFFSETTO:-0500
TZNAME:EST
DTSTART:20211107T060000
END:STANDARD
END:VTIMEZONE
BEGIN:VEVENT
DTSTART;TZID=America/New_York:20200516T090000
DTEND;TZID=America/New_York:20200516T150000
DTSTAMP:20260424T190618
CREATED:20200315T185624Z
LAST-MODIFIED:20200315T185624Z
UID:10003944-1589619600-1589641200@lake-sunapee-living.com
SUMMARY:Spring Into Warner 2020
DESCRIPTION:Warner’s 13th annual Celebration of the Arts and local foods. Held in Warner’s attractive downtown Main Street\, there are museums and art exhibits\, a Farmer’s Market\, dance demonstrations\, musicians\, a 5K race\, ponies\, an edible books contest\, and more! Participant forms are at http://warner.lib.nh.us and kearsargechamber.org/
URL:https://lake-sunapee-living.com/event/spring-into-warner-2020/
LOCATION:Warner Town Hall\, 5 E. Main St.\, Warner\, NH\, 03278\, United States
CATEGORIES:Spring Festival
GEO:43.281051;-71.815856
X-APPLE-STRUCTURED-LOCATION;VALUE=URI;X-ADDRESS=Warner Town Hall 5 E. Main St. Warner NH 03278 United States;X-APPLE-RADIUS=500;X-TITLE=5 E. Main St.:geo:-71.815856,43.281051
END:VEVENT
END:VCALENDAR