BEGIN:VCALENDAR
VERSION:2.0
PRODID:-//Lake Sunapee Living - ECPv6.15.13//NONSGML v1.0//EN
CALSCALE:GREGORIAN
METHOD:PUBLISH
X-ORIGINAL-URL:https://lake-sunapee-living.com
X-WR-CALDESC:Events for Lake Sunapee Living
REFRESH-INTERVAL;VALUE=DURATION:PT1H
X-Robots-Tag:noindex
X-PUBLISHED-TTL:PT1H
BEGIN:VTIMEZONE
TZID:America/New_York
BEGIN:DAYLIGHT
TZOFFSETFROM:-0500
TZOFFSETTO:-0400
TZNAME:EDT
DTSTART:20190310T070000
END:DAYLIGHT
BEGIN:STANDARD
TZOFFSETFROM:-0400
TZOFFSETTO:-0500
TZNAME:EST
DTSTART:20191103T060000
END:STANDARD
BEGIN:DAYLIGHT
TZOFFSETFROM:-0500
TZOFFSETTO:-0400
TZNAME:EDT
DTSTART:20200308T070000
END:DAYLIGHT
BEGIN:STANDARD
TZOFFSETFROM:-0400
TZOFFSETTO:-0500
TZNAME:EST
DTSTART:20201101T060000
END:STANDARD
BEGIN:DAYLIGHT
TZOFFSETFROM:-0500
TZOFFSETTO:-0400
TZNAME:EDT
DTSTART:20210314T070000
END:DAYLIGHT
BEGIN:STANDARD
TZOFFSETFROM:-0400
TZOFFSETTO:-0500
TZNAME:EST
DTSTART:20211107T060000
END:STANDARD
BEGIN:DAYLIGHT
TZOFFSETFROM:-0500
TZOFFSETTO:-0400
TZNAME:EDT
DTSTART:20220313T070000
END:DAYLIGHT
BEGIN:STANDARD
TZOFFSETFROM:-0400
TZOFFSETTO:-0500
TZNAME:EST
DTSTART:20221106T060000
END:STANDARD
BEGIN:DAYLIGHT
TZOFFSETFROM:-0500
TZOFFSETTO:-0400
TZNAME:EDT
DTSTART:20230312T070000
END:DAYLIGHT
BEGIN:STANDARD
TZOFFSETFROM:-0400
TZOFFSETTO:-0500
TZNAME:EST
DTSTART:20231105T060000
END:STANDARD
BEGIN:DAYLIGHT
TZOFFSETFROM:-0500
TZOFFSETTO:-0400
TZNAME:EDT
DTSTART:20240310T070000
END:DAYLIGHT
BEGIN:STANDARD
TZOFFSETFROM:-0400
TZOFFSETTO:-0500
TZNAME:EST
DTSTART:20241103T060000
END:STANDARD
END:VTIMEZONE
BEGIN:VEVENT
DTSTART;TZID=America/New_York:20200509T090000
DTEND;TZID=America/New_York:20200509T110000
DTSTAMP:20260424T204338
CREATED:20200315T185122Z
LAST-MODIFIED:20200315T185200Z
UID:10003942-1589014800-1589022000@lake-sunapee-living.com
SUMMARY:Sunapee Live Free or Dye Color Run
DESCRIPTION:The annual Sunapee Color Run is a great event to participate in whether your running or walking it alone\, with friends\, or family! It will be on May 9th\, 2020 and starts at 9am at Dewey Beach in Sunapee! It’s around 3.5ish miles and be prepared to get splashed with fun colorful water as you go through the race! We can’t wait to see you there! \nhttps://www.opensignups.com/signup/51507
URL:https://lake-sunapee-living.com/event/sunapee-live-free-or-dye-a-color-run-at-dewey-beach/
LOCATION:Dewey Beach\, Sunapee\, 1 Dewey Beach rd\, Sunapee\, NH\, 03782\, United States
CATEGORIES:Road Race
GEO:43.3954597;-72.082021
X-APPLE-STRUCTURED-LOCATION;VALUE=URI;X-ADDRESS=Dewey Beach Sunapee 1 Dewey Beach rd Sunapee NH 03782 United States;X-APPLE-RADIUS=500;X-TITLE=1 Dewey Beach rd:geo:-72.082021,43.3954597
END:VEVENT
BEGIN:VEVENT
DTSTART;TZID=America/New_York:20200516T090000
DTEND;TZID=America/New_York:20200516T103000
DTSTAMP:20260424T204338
CREATED:20200315T144357Z
LAST-MODIFIED:20200315T144521Z
UID:10000397-1589619600-1589625000@lake-sunapee-living.com
SUMMARY:10th Annual Chicken Farmer 5K
DESCRIPTION:The Chicken Farmer 5k is back for the 10th year and is going to be better than ever! The course will begin in the historic South Newbury\, NH Village and will be USATF certified this year\, as it was last year! \nThe course is fun\, flat and fast; perfect for all members of your family and the perfect race to PR. \nThe early bird gets $5 off of registration until April 1st. Register at runreg.com/chicken-farmer-5k \nThis is an event you will not want to miss!
URL:https://lake-sunapee-living.com/event/10th-annual-chicken-farmer-5k/
LOCATION:South Newbury Union Church\, 162 Village Road\, Newbury\, NH\, 03255\, United States
CATEGORIES:Road Race
GEO:43.294241;-71.9964202
X-APPLE-STRUCTURED-LOCATION;VALUE=URI;X-ADDRESS=South Newbury Union Church 162 Village Road Newbury NH 03255 United States;X-APPLE-RADIUS=500;X-TITLE=162 Village Road:geo:-71.9964202,43.294241
END:VEVENT
BEGIN:VEVENT
DTSTART;TZID=America/New_York:20211002T100000
DTEND;TZID=America/New_York:20211002T120000
DTSTAMP:20260424T204338
CREATED:20210319T030145Z
LAST-MODIFIED:20210319T030145Z
UID:10003988-1633168800-1633176000@lake-sunapee-living.com
SUMMARY:Lilyan Wright Memorial 10k/ 5k Trail Race
DESCRIPTION:Race #8 in the Western NH Trail Run Points Series \nStart Time: 10:00 am \nDescription: Has some hills\, but generally a more flat trail run\, with a cool single track section around the Goshen Ocean \nStart / Finish Location: Gunnison Lake Road\, Goshen NH \nDistance: Approximately 10K for full course and 5K for short course (non-points). \nAge Groups: M & F – under 12 (free\, raceday reg only)\, 12-14 (free\, raceday reg only)\, 15-19 ($10)\,  20-29 ($15)\,  30-39 ($15)\,  40-49 ($15)\,  50-59 ($15)\,  60-69 ($15)\, 70+ ($15) \nAwards (10K): Top 3 in each age group and swag \nAwards (5K): Swag fom the prize table
URL:https://lake-sunapee-living.com/event/lilyan-wright-memorial-10k-5k-trail-race/
LOCATION:Gunnison Lake Road\, Goshen\, NH\, 03752\, United States
CATEGORIES:Road Race
END:VEVENT
BEGIN:VEVENT
DTSTART;TZID=America/New_York:20230909T093000
DTEND;TZID=America/New_York:20230909T110000
DTSTAMP:20260424T204338
CREATED:20230703T121252Z
LAST-MODIFIED:20230703T121312Z
UID:10004166-1694251800-1694257200@lake-sunapee-living.com
SUMMARY:Lilyan Wright Trail Race and Walk at the Olive G Pettis Library
DESCRIPTION:
URL:https://lake-sunapee-living.com/event/lilyan-wright-trail-race-and-walk-at-the-olive-g-pettis-library/
LOCATION:Olive Pettis Memorial Library\, 36 Mill Village Rd\, Goshen\, NH\, 03752\, United States
CATEGORIES:Road Race
GEO:43.3020714;-72.1491336
X-APPLE-STRUCTURED-LOCATION;VALUE=URI;X-ADDRESS=Olive Pettis Memorial Library 36 Mill Village Rd Goshen NH 03752 United States;X-APPLE-RADIUS=500;X-TITLE=36 Mill Village Rd:geo:-72.1491336,43.3020714
END:VEVENT
END:VCALENDAR