BEGIN:VCALENDAR
VERSION:2.0
PRODID:-//Lake Sunapee Living - ECPv6.15.13//NONSGML v1.0//EN
CALSCALE:GREGORIAN
METHOD:PUBLISH
X-WR-CALNAME:Lake Sunapee Living
X-ORIGINAL-URL:https://lake-sunapee-living.com
X-WR-CALDESC:Events for Lake Sunapee Living
REFRESH-INTERVAL;VALUE=DURATION:PT1H
X-Robots-Tag:noindex
X-PUBLISHED-TTL:PT1H
BEGIN:VTIMEZONE
TZID:America/New_York
BEGIN:DAYLIGHT
TZOFFSETFROM:-0500
TZOFFSETTO:-0400
TZNAME:EDT
DTSTART:20240310T070000
END:DAYLIGHT
BEGIN:STANDARD
TZOFFSETFROM:-0400
TZOFFSETTO:-0500
TZNAME:EST
DTSTART:20241103T060000
END:STANDARD
BEGIN:DAYLIGHT
TZOFFSETFROM:-0500
TZOFFSETTO:-0400
TZNAME:EDT
DTSTART:20250309T070000
END:DAYLIGHT
BEGIN:STANDARD
TZOFFSETFROM:-0400
TZOFFSETTO:-0500
TZNAME:EST
DTSTART:20251102T060000
END:STANDARD
BEGIN:DAYLIGHT
TZOFFSETFROM:-0500
TZOFFSETTO:-0400
TZNAME:EDT
DTSTART:20260308T070000
END:DAYLIGHT
BEGIN:STANDARD
TZOFFSETFROM:-0400
TZOFFSETTO:-0500
TZNAME:EST
DTSTART:20261101T060000
END:STANDARD
END:VTIMEZONE
BEGIN:VEVENT
DTSTART;TZID=America/New_York:20250823T093000
DTEND;TZID=America/New_York:20250823T103000
DTSTAMP:20260425T092121
CREATED:20250811T124905Z
LAST-MODIFIED:20250811T124905Z
UID:10004619-1755941400-1755945000@lake-sunapee-living.com
SUMMARY:Newbury: The Silent Marble Weeps\, A Lakeside Cemetery Tour
DESCRIPTION:An overview of cemeteries in Newbury at the Lakeside Cemetery gate on August 23 from 9:30-10:30. The transition of the cemetery from a rural burying ground to a modern shiny granite resting place. Three Revolutionary War soldiers will be profiled and some notable families from the 19th and 20th century. Changes in headstones from hand carved slate to present day polished marble as well as the early iconography. Veterans from the War of 1812\, Civil War\, WW’s 1 & 11\, the Korean conflict\, Vietnam and Afghanistan will be recognized.
URL:https://lake-sunapee-living.com/event/newbury-the-silent-marble-weeps-a-lakeside-cemetery-tour/
CATEGORIES:REmembrance
END:VEVENT
END:VCALENDAR