BEGIN:VCALENDAR
VERSION:2.0
PRODID:-//Lake Sunapee Living - ECPv6.15.13//NONSGML v1.0//EN
CALSCALE:GREGORIAN
METHOD:PUBLISH
X-ORIGINAL-URL:https://lake-sunapee-living.com
X-WR-CALDESC:Events for Lake Sunapee Living
REFRESH-INTERVAL;VALUE=DURATION:PT1H
X-Robots-Tag:noindex
X-PUBLISHED-TTL:PT1H
BEGIN:VTIMEZONE
TZID:America/New_York
BEGIN:DAYLIGHT
TZOFFSETFROM:-0500
TZOFFSETTO:-0400
TZNAME:EDT
DTSTART:20170312T070000
END:DAYLIGHT
BEGIN:STANDARD
TZOFFSETFROM:-0400
TZOFFSETTO:-0500
TZNAME:EST
DTSTART:20171105T060000
END:STANDARD
BEGIN:DAYLIGHT
TZOFFSETFROM:-0500
TZOFFSETTO:-0400
TZNAME:EDT
DTSTART:20180311T070000
END:DAYLIGHT
BEGIN:STANDARD
TZOFFSETFROM:-0400
TZOFFSETTO:-0500
TZNAME:EST
DTSTART:20181104T060000
END:STANDARD
BEGIN:DAYLIGHT
TZOFFSETFROM:-0500
TZOFFSETTO:-0400
TZNAME:EDT
DTSTART:20190310T070000
END:DAYLIGHT
BEGIN:STANDARD
TZOFFSETFROM:-0400
TZOFFSETTO:-0500
TZNAME:EST
DTSTART:20191103T060000
END:STANDARD
END:VTIMEZONE
BEGIN:VEVENT
DTSTART;TZID=America/New_York:20181118T080000
DTEND;TZID=America/New_York:20181118T170000
DTSTAMP:20260424T204301
CREATED:20181118T140319Z
LAST-MODIFIED:20181118T140349Z
UID:10000235-1542528000-1542560400@lake-sunapee-living.com
SUMMARY:First Fridays!  Poetry Night at the Newbury Town Hall
DESCRIPTION:First Fridays!  Poetry Night –  “The Courage to Create!”  \nFREE \nReading by contest winners-Judged by poet Ala Khaki \nNewbury Town Hall Community Room 5:30 \nwww.CenterForTheArtsNH.org
URL:https://lake-sunapee-living.com/event/6047/
LOCATION:Newbury Town Hall\, 937 NH-103\, Newbury\, NH\, 03255\, United States
CATEGORIES:Poetry Reading
GEO:43.3208536;-72.0354045
X-APPLE-STRUCTURED-LOCATION;VALUE=URI;X-ADDRESS=Newbury Town Hall 937 NH-103 Newbury NH 03255 United States;X-APPLE-RADIUS=500;X-TITLE=937 NH-103:geo:-72.0354045,43.3208536
END:VEVENT
END:VCALENDAR