BEGIN:VCALENDAR
VERSION:2.0
PRODID:-//Lake Sunapee Living - ECPv6.15.13//NONSGML v1.0//EN
CALSCALE:GREGORIAN
METHOD:PUBLISH
X-ORIGINAL-URL:https://lake-sunapee-living.com
X-WR-CALDESC:Events for Lake Sunapee Living
REFRESH-INTERVAL;VALUE=DURATION:PT1H
X-Robots-Tag:noindex
X-PUBLISHED-TTL:PT1H
BEGIN:VTIMEZONE
TZID:America/New_York
BEGIN:DAYLIGHT
TZOFFSETFROM:-0500
TZOFFSETTO:-0400
TZNAME:EDT
DTSTART:20170312T070000
END:DAYLIGHT
BEGIN:STANDARD
TZOFFSETFROM:-0400
TZOFFSETTO:-0500
TZNAME:EST
DTSTART:20171105T060000
END:STANDARD
BEGIN:DAYLIGHT
TZOFFSETFROM:-0500
TZOFFSETTO:-0400
TZNAME:EDT
DTSTART:20180311T070000
END:DAYLIGHT
BEGIN:STANDARD
TZOFFSETFROM:-0400
TZOFFSETTO:-0500
TZNAME:EST
DTSTART:20181104T060000
END:STANDARD
BEGIN:DAYLIGHT
TZOFFSETFROM:-0500
TZOFFSETTO:-0400
TZNAME:EDT
DTSTART:20190310T070000
END:DAYLIGHT
BEGIN:STANDARD
TZOFFSETFROM:-0400
TZOFFSETTO:-0500
TZNAME:EST
DTSTART:20191103T060000
END:STANDARD
BEGIN:DAYLIGHT
TZOFFSETFROM:-0500
TZOFFSETTO:-0400
TZNAME:EDT
DTSTART:20200308T070000
END:DAYLIGHT
BEGIN:STANDARD
TZOFFSETFROM:-0400
TZOFFSETTO:-0500
TZNAME:EST
DTSTART:20201101T060000
END:STANDARD
BEGIN:DAYLIGHT
TZOFFSETFROM:-0500
TZOFFSETTO:-0400
TZNAME:EDT
DTSTART:20210314T070000
END:DAYLIGHT
BEGIN:STANDARD
TZOFFSETFROM:-0400
TZOFFSETTO:-0500
TZNAME:EST
DTSTART:20211107T060000
END:STANDARD
BEGIN:DAYLIGHT
TZOFFSETFROM:-0500
TZOFFSETTO:-0400
TZNAME:EDT
DTSTART:20220313T070000
END:DAYLIGHT
BEGIN:STANDARD
TZOFFSETFROM:-0400
TZOFFSETTO:-0500
TZNAME:EST
DTSTART:20221106T060000
END:STANDARD
BEGIN:DAYLIGHT
TZOFFSETFROM:-0500
TZOFFSETTO:-0400
TZNAME:EDT
DTSTART:20230312T070000
END:DAYLIGHT
BEGIN:STANDARD
TZOFFSETFROM:-0400
TZOFFSETTO:-0500
TZNAME:EST
DTSTART:20231105T060000
END:STANDARD
END:VTIMEZONE
BEGIN:VEVENT
DTSTART;TZID=America/New_York:20220315T173000
DTEND;TZID=America/New_York:20220315T190000
DTSTAMP:20260424T174445
CREATED:20220228T012947Z
LAST-MODIFIED:20220228T012947Z
UID:10000535-1647365400-1647370800@lake-sunapee-living.com
SUMMARY:Cellphone Photography 101 at the New London Inn
DESCRIPTION:Cellphone Photography 101\nInstructor: Sher Kamman \nThe cellphone has transformed the art of photography. Now wherever you go you have one of the most inspiring\, capable\, and fun photographic systems in your hand. It is an amazingly powerful tool for creating beauty and art. \nLearn how to unlock the power of your cellphone images by becoming fluent with the easy to use photo-editing app Snapseed. You will learn how to edit and stylize your images from the moment of capture. Before coming to class you must download the Snapseed app on to your phone so we can quickly start learning how to use it.  ALL LEVELS \nCost: $25 class fee  \nand limited to 20 participants! \ncenterfortheartsnh.org/tapestry-tuesdays
URL:https://lake-sunapee-living.com/event/cellphone-photography-101-at-the-new-london-inn/
LOCATION:New London Inn\, 353 Main St\, New London\, 03257
CATEGORIES:Open Studio
GEO:43.4140695;-71.9837098
X-APPLE-STRUCTURED-LOCATION;VALUE=URI;X-ADDRESS=New London Inn 353 Main St New London 03257;X-APPLE-RADIUS=500;X-TITLE=353 Main St:geo:-71.9837098,43.4140695
END:VEVENT
BEGIN:VEVENT
DTSTART;TZID=America/New_York:20180628T180000
DTEND;TZID=America/New_York:20180628T200000
DTSTAMP:20260424T174445
CREATED:20180619T002221Z
LAST-MODIFIED:20180619T002256Z
UID:10000496-1530208800-1530216000@lake-sunapee-living.com
SUMMARY:Summer Open Studio at Studio Sage
DESCRIPTION:Please help us celebrate summer with an evening of art and design! \nWe are pleased to have special guest gallerist Candita Clayton of Candita Clayton Galleries. \nProvisions provided by the decadent Blue Loon Bakery. Cheers!
URL:https://lake-sunapee-living.com/event/summer-open-studio-at-studio-sage/
LOCATION:Studio Sage\, 210 Main Street\, New London\, NH\, 03257\, United States
CATEGORIES:Open Studio
GEO:43.4160527;-71.9879467
X-APPLE-STRUCTURED-LOCATION;VALUE=URI;X-ADDRESS=Studio Sage 210 Main Street New London NH 03257 United States;X-APPLE-RADIUS=500;X-TITLE=210 Main Street:geo:-71.9879467,43.4160527
END:VEVENT
END:VCALENDAR