BEGIN:VCALENDAR
VERSION:2.0
PRODID:-//Lake Sunapee Living - ECPv6.15.13//NONSGML v1.0//EN
CALSCALE:GREGORIAN
METHOD:PUBLISH
X-WR-CALNAME:Lake Sunapee Living
X-ORIGINAL-URL:https://lake-sunapee-living.com
X-WR-CALDESC:Events for Lake Sunapee Living
REFRESH-INTERVAL;VALUE=DURATION:PT1H
X-Robots-Tag:noindex
X-PUBLISHED-TTL:PT1H
BEGIN:VTIMEZONE
TZID:America/New_York
BEGIN:DAYLIGHT
TZOFFSETFROM:-0500
TZOFFSETTO:-0400
TZNAME:EDT
DTSTART:20190310T070000
END:DAYLIGHT
BEGIN:STANDARD
TZOFFSETFROM:-0400
TZOFFSETTO:-0500
TZNAME:EST
DTSTART:20191103T060000
END:STANDARD
BEGIN:DAYLIGHT
TZOFFSETFROM:-0500
TZOFFSETTO:-0400
TZNAME:EDT
DTSTART:20200308T070000
END:DAYLIGHT
BEGIN:STANDARD
TZOFFSETFROM:-0400
TZOFFSETTO:-0500
TZNAME:EST
DTSTART:20201101T060000
END:STANDARD
BEGIN:DAYLIGHT
TZOFFSETFROM:-0500
TZOFFSETTO:-0400
TZNAME:EDT
DTSTART:20210314T070000
END:DAYLIGHT
BEGIN:STANDARD
TZOFFSETFROM:-0400
TZOFFSETTO:-0500
TZNAME:EST
DTSTART:20211107T060000
END:STANDARD
END:VTIMEZONE
BEGIN:VEVENT
DTSTART;TZID=America/New_York:20200103T190000
DTEND;TZID=America/New_York:20200103T203000
DTSTAMP:20260425T122904
CREATED:20191230T000950Z
LAST-MODIFIED:20191230T000950Z
UID:10000355-1578078000-1578083400@lake-sunapee-living.com
SUMMARY:First Fridays! Stars of Tomorrow!
DESCRIPTION:First Fridays! Stars of Tomorrow!  \nFREE \n2019 Scholarship Recipients perform  \nDance\, Music\, Theater\, Art! @ Warner Town Hall \nwww.centerfortheartsnh.org/first-fridays
URL:https://lake-sunapee-living.com/event/first-fridays-stars-of-tomorrow/
LOCATION:Warner Town Hall\, 5 E. Main St.\, Warner\, NH\, 03278\, United States
CATEGORIES:Musical Theater
GEO:43.281051;-71.815856
X-APPLE-STRUCTURED-LOCATION;VALUE=URI;X-ADDRESS=Warner Town Hall 5 E. Main St. Warner NH 03278 United States;X-APPLE-RADIUS=500;X-TITLE=5 E. Main St.:geo:-71.815856,43.281051
END:VEVENT
BEGIN:VEVENT
DTSTART;TZID=America/New_York:20200807T160000
DTEND;TZID=America/New_York:20200807T183000
DTSTAMP:20260425T122904
CREATED:20200105T151701Z
LAST-MODIFIED:20200105T151701Z
UID:10003866-1596816000-1596825000@lake-sunapee-living.com
SUMMARY:First Fridays! “We’ve Got Talent”
DESCRIPTION:First Fridays! “ We’ve Got Talent”  \nFREE \nMusic\, Dance\, Theater Performances\, Prizes…Vote for your favorite! \nAll ages! All talent! contact artsonmainnh@gmail.com to participate \nhttps://centerfortheartsnh.org/first-fridays
URL:https://lake-sunapee-living.com/event/first-fridays-weve-got-talent/
LOCATION:Whipple Hall\, 429 Main Street\, New London\, NH\, 03257\, United States
CATEGORIES:Musical Theater
GEO:43.4130294;-71.9807053
X-APPLE-STRUCTURED-LOCATION;VALUE=URI;X-ADDRESS=Whipple Hall 429 Main Street New London NH 03257 United States;X-APPLE-RADIUS=500;X-TITLE=429 Main Street:geo:-71.9807053,43.4130294
END:VEVENT
END:VCALENDAR