BEGIN:VCALENDAR
VERSION:2.0
PRODID:-//Lake Sunapee Living - ECPv6.15.13//NONSGML v1.0//EN
CALSCALE:GREGORIAN
METHOD:PUBLISH
X-WR-CALNAME:Lake Sunapee Living
X-ORIGINAL-URL:https://lake-sunapee-living.com
X-WR-CALDESC:Events for Lake Sunapee Living
REFRESH-INTERVAL;VALUE=DURATION:PT1H
X-Robots-Tag:noindex
X-PUBLISHED-TTL:PT1H
BEGIN:VTIMEZONE
TZID:America/New_York
BEGIN:DAYLIGHT
TZOFFSETFROM:-0500
TZOFFSETTO:-0400
TZNAME:EDT
DTSTART:20180311T070000
END:DAYLIGHT
BEGIN:STANDARD
TZOFFSETFROM:-0400
TZOFFSETTO:-0500
TZNAME:EST
DTSTART:20181104T060000
END:STANDARD
BEGIN:DAYLIGHT
TZOFFSETFROM:-0500
TZOFFSETTO:-0400
TZNAME:EDT
DTSTART:20190310T070000
END:DAYLIGHT
BEGIN:STANDARD
TZOFFSETFROM:-0400
TZOFFSETTO:-0500
TZNAME:EST
DTSTART:20191103T060000
END:STANDARD
BEGIN:DAYLIGHT
TZOFFSETFROM:-0500
TZOFFSETTO:-0400
TZNAME:EDT
DTSTART:20200308T070000
END:DAYLIGHT
BEGIN:STANDARD
TZOFFSETFROM:-0400
TZOFFSETTO:-0500
TZNAME:EST
DTSTART:20201101T060000
END:STANDARD
BEGIN:DAYLIGHT
TZOFFSETFROM:-0500
TZOFFSETTO:-0400
TZNAME:EDT
DTSTART:20210314T070000
END:DAYLIGHT
BEGIN:STANDARD
TZOFFSETFROM:-0400
TZOFFSETTO:-0500
TZNAME:EST
DTSTART:20211107T060000
END:STANDARD
END:VTIMEZONE
BEGIN:VEVENT
DTSTART;TZID=America/New_York:20190622T140000
DTEND;TZID=America/New_York:20190622T220000
DTSTAMP:20260425T102237
CREATED:20190513T005148Z
LAST-MODIFIED:20190513T005148Z
UID:10003709-1561212000-1561240800@lake-sunapee-living.com
SUMMARY:Muster Field Farm June Jam 2019
DESCRIPTION:A fantastic night of music in Sutton\, NH.  \nAll proceeds benefit Musterfield Farm & Museum. $15 per person\, 14 & under FREE. \nlineup:\nWill Hatch\nPeabody’s Coal Train\nThe Click Horning Band\nSferes & White\nThe DoBros\nNight Kitchen
URL:https://lake-sunapee-living.com/event/muster-field-farm-june-jam-2019/
LOCATION:NH\, United States
CATEGORIES:Music Festival
END:VEVENT
BEGIN:VEVENT
DTSTART;TZID=America/New_York:20200816T100000
DTEND;TZID=America/New_York:20200816T180000
DTSTAMP:20260425T102237
CREATED:20200308T153341Z
LAST-MODIFIED:20200309T025241Z
UID:10000389-1597572000-1597600800@lake-sunapee-living.com
SUMMARY:Aerosmith History Day III at The Livery
DESCRIPTION:Don’t miss our third Aerosmith History Day back at The Livery in Sunapee Harbor\, NH\, hometown of the band! \nIn honor of the band’s 50th Anniversary in 2020\, we are bringing back everything and even more! \nOur exhibitors are returning with expanded archive collections and displays for our biggest event yet! \nAs we’ve said about our first two events\, these displays represent the largest public exhibition of Aerosmith archives and memorabilia in the world! There will be Aerosmith magazine articles\, tour merchandise\, t-shirts\, posters\, crew and band tour jackets\, gold and platinum record awards\, promo materials\, backstage passes and laminates\, and thousands of Aerosmith photos! Our first event in 2017 was attended by 700 fans the first year and over 1500 fans at AHD II in 2018. They came from all over the USA and Europe\, as well!\nYou DO NOT want to miss it! \nWe will be having special guests (TBA) and a very special Q&A session with them! \nThere will be contests to win collectible prizes\, as well! \nNow\, be sure to keep in mind that parking will be a challenge in our little town\, but there will be parking nearby at the Sherburne Gym on Rte. 11\, only a five-minute walk from our event. Please don’t park just anywhere\, cars will be towed\, so be careful…and respectful! \nOpen from 10am-6pm on Sat.\, Aug. 15 and Sun.\, Aug 16\, 2020. \nThe event is FREE (again!)\, but donations will be gladly accepted so that we may continue to keep these events going! \nSee you next summer and…\nKEEP ON ROCKIN’!! \nBe sure to click on the Discussion link to see the great photos of our first two events! \nPlease feel free to share this event! \nAll media inquiries\, contact:\nJonathan Robinson 603-843-5432
URL:https://lake-sunapee-living.com/event/aerosmith-history-day-iii-aug-15-16-2020/2020-08-16/
LOCATION:The Livery\, 58 Main St.\, Sunapee\, NH\, 03782\, United States
CATEGORIES:Music Festival
GEO:43.3860983;-72.0826955
X-APPLE-STRUCTURED-LOCATION;VALUE=URI;X-ADDRESS=The Livery 58 Main St. Sunapee NH 03782 United States;X-APPLE-RADIUS=500;X-TITLE=58 Main St.:geo:-72.0826955,43.3860983
END:VEVENT
END:VCALENDAR