BEGIN:VCALENDAR
VERSION:2.0
PRODID:-//Lake Sunapee Living - ECPv6.15.13//NONSGML v1.0//EN
CALSCALE:GREGORIAN
METHOD:PUBLISH
X-ORIGINAL-URL:https://lake-sunapee-living.com
X-WR-CALDESC:Events for Lake Sunapee Living
REFRESH-INTERVAL;VALUE=DURATION:PT1H
X-Robots-Tag:noindex
X-PUBLISHED-TTL:PT1H
BEGIN:VTIMEZONE
TZID:America/New_York
BEGIN:DAYLIGHT
TZOFFSETFROM:-0500
TZOFFSETTO:-0400
TZNAME:EDT
DTSTART:20160313T070000
END:DAYLIGHT
BEGIN:STANDARD
TZOFFSETFROM:-0400
TZOFFSETTO:-0500
TZNAME:EST
DTSTART:20161106T060000
END:STANDARD
BEGIN:DAYLIGHT
TZOFFSETFROM:-0500
TZOFFSETTO:-0400
TZNAME:EDT
DTSTART:20170312T070000
END:DAYLIGHT
BEGIN:STANDARD
TZOFFSETFROM:-0400
TZOFFSETTO:-0500
TZNAME:EST
DTSTART:20171105T060000
END:STANDARD
BEGIN:DAYLIGHT
TZOFFSETFROM:-0500
TZOFFSETTO:-0400
TZNAME:EDT
DTSTART:20180311T070000
END:DAYLIGHT
BEGIN:STANDARD
TZOFFSETFROM:-0400
TZOFFSETTO:-0500
TZNAME:EST
DTSTART:20181104T060000
END:STANDARD
BEGIN:DAYLIGHT
TZOFFSETFROM:-0500
TZOFFSETTO:-0400
TZNAME:EDT
DTSTART:20190310T070000
END:DAYLIGHT
BEGIN:STANDARD
TZOFFSETFROM:-0400
TZOFFSETTO:-0500
TZNAME:EST
DTSTART:20191103T060000
END:STANDARD
BEGIN:DAYLIGHT
TZOFFSETFROM:-0500
TZOFFSETTO:-0400
TZNAME:EDT
DTSTART:20200308T070000
END:DAYLIGHT
BEGIN:STANDARD
TZOFFSETFROM:-0400
TZOFFSETTO:-0500
TZNAME:EST
DTSTART:20201101T060000
END:STANDARD
BEGIN:DAYLIGHT
TZOFFSETFROM:-0500
TZOFFSETTO:-0400
TZNAME:EDT
DTSTART:20210314T070000
END:DAYLIGHT
BEGIN:STANDARD
TZOFFSETFROM:-0400
TZOFFSETTO:-0500
TZNAME:EST
DTSTART:20211107T060000
END:STANDARD
BEGIN:DAYLIGHT
TZOFFSETFROM:-0500
TZOFFSETTO:-0400
TZNAME:EDT
DTSTART:20220313T070000
END:DAYLIGHT
BEGIN:STANDARD
TZOFFSETFROM:-0400
TZOFFSETTO:-0500
TZNAME:EST
DTSTART:20221106T060000
END:STANDARD
BEGIN:DAYLIGHT
TZOFFSETFROM:-0500
TZOFFSETTO:-0400
TZNAME:EDT
DTSTART:20230312T070000
END:DAYLIGHT
BEGIN:STANDARD
TZOFFSETFROM:-0400
TZOFFSETTO:-0500
TZNAME:EST
DTSTART:20231105T060000
END:STANDARD
BEGIN:DAYLIGHT
TZOFFSETFROM:-0500
TZOFFSETTO:-0400
TZNAME:EDT
DTSTART:20240310T070000
END:DAYLIGHT
BEGIN:STANDARD
TZOFFSETFROM:-0400
TZOFFSETTO:-0500
TZNAME:EST
DTSTART:20241103T060000
END:STANDARD
BEGIN:DAYLIGHT
TZOFFSETFROM:-0500
TZOFFSETTO:-0400
TZNAME:EDT
DTSTART:20250309T070000
END:DAYLIGHT
BEGIN:STANDARD
TZOFFSETFROM:-0400
TZOFFSETTO:-0500
TZNAME:EST
DTSTART:20251102T060000
END:STANDARD
END:VTIMEZONE
BEGIN:VEVENT
DTSTART;TZID=America/New_York:20170817T200000
DTEND;TZID=America/New_York:20170817T213000
DTSTAMP:20260424T140130
CREATED:20170816T205321Z
LAST-MODIFIED:20170816T205321Z
UID:10000120-1503000000-1503005400@lake-sunapee-living.com
SUMMARY:Movie on the Green in Sunapee Harbor: Finding Dory
DESCRIPTION:
URL:https://lake-sunapee-living.com/event/movie-green-sunapee-harbor-finding-dory/
LOCATION:NH
CATEGORIES:Movie
END:VEVENT
BEGIN:VEVENT
DTSTART;TZID=America/New_York:20170905T080000
DTEND;TZID=America/New_York:20170905T170000
DTSTAMP:20260424T140130
CREATED:20170905T230603Z
LAST-MODIFIED:20170905T230603Z
UID:10000122-1504598400-1504630800@lake-sunapee-living.com
SUMMARY:Movie Night at the LAC: Yours\, Mine and Ours
DESCRIPTION:The Library Arts Center is thrilled to present a series of films made during\, or inspired by our founding decade–the 1960’s!  The series will present two films per month–one geared toward adult audiences\, and one toward family audiences.  Tonight’s movie Yours\, Mine and Ours is for a family audience. \nThe series will run April through October. \nAll films will be shown in the Library Arts Center Gallery \nClick here for more info
URL:https://lake-sunapee-living.com/event/movie-night-lac-mine/
LOCATION:NH
CATEGORIES:Movie
END:VEVENT
BEGIN:VEVENT
DTSTART;TZID=America/New_York:20170907T190000
DTEND;TZID=America/New_York:20170907T210000
DTSTAMP:20260424T140130
CREATED:20170905T225912Z
LAST-MODIFIED:20170905T230116Z
UID:10000067-1504810800-1504818000@lake-sunapee-living.com
SUMMARY:Movie Night at the LAC: Hair
DESCRIPTION:The Library Arts Center is thrilled to present a series of films made during\, or inspired by our founding decade–the 1960’s!  The series will present two films per month–one geared toward adult audiences\, and one toward family audiences.  Tonight’s movie Hair is for adults. \nThe series will run April through October. \nAll films will be shown in the Library Arts Center Gallery \nClick here for more info
URL:https://lake-sunapee-living.com/event/movie-night-lac-hair/
LOCATION:NH
CATEGORIES:Movie
END:VEVENT
BEGIN:VEVENT
DTSTART;TZID=America/New_York:20170915T183000
DTEND;TZID=America/New_York:20170915T203000
DTSTAMP:20260424T140130
CREATED:20170905T230258Z
LAST-MODIFIED:20170905T230258Z
UID:10000068-1505500200-1505507400@lake-sunapee-living.com
SUMMARY:Movie Night at the LAC: The Music Man
DESCRIPTION:The Library Arts Center is thrilled to present a series of films made during\, or inspired by our founding decade–the 1960’s!  The series will present two films per month–one geared toward adult audiences\, and one toward family audiences.  Tonight’s movie The Music Man is for a family audience. \nThe series will run April through October. \nAll films will be shown in the Library Arts Center Gallery \nClick here for more info
URL:https://lake-sunapee-living.com/event/movie-night-lac-music-man/
LOCATION:NH
CATEGORIES:Movie
END:VEVENT
BEGIN:VEVENT
DTSTART;TZID=America/New_York:20171012T190000
DTEND;TZID=America/New_York:20171012T210000
DTSTAMP:20260424T140130
CREATED:20170905T230438Z
LAST-MODIFIED:20170905T230438Z
UID:10000121-1507834800-1507842000@lake-sunapee-living.com
SUMMARY:Movie Night at the LAC: Wait Until Dark
DESCRIPTION:The Library Arts Center is thrilled to present a series of films made during\, or inspired by our founding decade–the 1960’s!  The series will present two films per month–one geared toward adult audiences\, and one toward family audiences.  Tonight’s movie Wait Until Dark is for an adult audience. \nThe series will run April through October. \nAll films will be shown in the Library Arts Center Gallery \nClick here for more info
URL:https://lake-sunapee-living.com/event/movie-night-lac-wait-dark/
LOCATION:NH
CATEGORIES:Movie
END:VEVENT
BEGIN:VEVENT
DTSTART;TZID=America/New_York:20180309T190000
DTEND;TZID=America/New_York:20180309T210000
DTSTAMP:20260424T140130
CREATED:20180306T220933Z
LAST-MODIFIED:20180306T221031Z
UID:10000066-1520622000-1520629200@lake-sunapee-living.com
SUMMARY:Free Movie Night at the LAC: Dr. Strangelove
DESCRIPTION:MOVIE NIGHT in the Gallery of the Library Arts Center\nDr. Strangelove\nShowing at 7:00pm\nFree Admission + Popcorn \nJoin us for BLACK + WHITE\nClassic Film Nights in the Gallery\nin conjunction with the Black + White Exhibit\nFriday Nights in March | 7:00pm \nlibraryartscenter.org
URL:https://lake-sunapee-living.com/event/free-movie-night-at-the-lac-dr-strangelove/
LOCATION:Library Arts Center\, 58 N. Main Street\, Newport\, NH\, 03773\, United States
CATEGORIES:Movie
GEO:43.3662756;-72.1758121
X-APPLE-STRUCTURED-LOCATION;VALUE=URI;X-ADDRESS=Library Arts Center 58 N. Main Street Newport NH 03773 United States;X-APPLE-RADIUS=500;X-TITLE=58 N. Main Street:geo:-72.1758121,43.3662756
END:VEVENT
BEGIN:VEVENT
DTSTART;TZID=America/New_York:20181026T190000
DTEND;TZID=America/New_York:20181026T210000
DTSTAMP:20260424T140130
CREATED:20181023T004609Z
LAST-MODIFIED:20181023T004609Z
UID:10003598-1540580400-1540587600@lake-sunapee-living.com
SUMMARY:Movie Night at the Telephone Museum - "His Girl Friday"
DESCRIPTION:When hard-charging New York newspaper editor Walter Burns (Cary Grant) discovers that his ex-wife\, investigative reporter Hildy Johnson (Rosalind Russell)\, has gotten engaged to milquetoast insurance agent Bruce Baldwin (Ralph Bellamy)\, he unsuccessfully tries to lure her away from tame domestic life with a story about the impending execution of convicted murderer Earl Williams. \nBut when Hildy discovers Williams may be innocent\, her reporter instincts take over.
URL:https://lake-sunapee-living.com/event/movie-night-at-the-telephone-museum-his-girl-friday/
LOCATION:New Hampshire Telephone Museum\, 1 Depot Street\, Warner\, NH\, 03278\, United States
CATEGORIES:Movie
GEO:43.2798758;-71.8151175
X-APPLE-STRUCTURED-LOCATION;VALUE=URI;X-ADDRESS=New Hampshire Telephone Museum 1 Depot Street Warner NH 03278 United States;X-APPLE-RADIUS=500;X-TITLE=1 Depot Street:geo:-71.8151175,43.2798758
END:VEVENT
BEGIN:VEVENT
DTSTART;TZID=America/New_York:20190614T210000
DTEND;TZID=America/New_York:20190614T230000
DTSTAMP:20260424T140130
CREATED:20190513T004004Z
LAST-MODIFIED:20190513T004112Z
UID:10000268-1560546000-1560553200@lake-sunapee-living.com
SUMMARY:Movie Night on the Green - Aquaman
DESCRIPTION:Join us for a PG-13 movie at The Visitor Center Green. The movie to be played is Aquaman. \nMovie Info: Arthur Curry\, the human-born heir to the underwater kingdom of Atlantis\, goes on a quest to prevent a war between the worlds of ocean and land. \nBring a blanket or a chair\, this movie is FREE to All! \nThe movie will start at dusk. \nA Special Thank You to our Event Sponsor: TBD!\nWith out them\, this event would not be made possible. \nHosted by Claremont\, NH – Parks and Recreation Department \n  \n 
URL:https://lake-sunapee-living.com/event/movie-night-on-the-green-aquaman/
LOCATION:City of Claremont Visitors Center\, 14 North St\, Claremont\, NH\, 03743\, United States
CATEGORIES:Movie
GEO:43.3755205;-72.3383972
X-APPLE-STRUCTURED-LOCATION;VALUE=URI;X-ADDRESS=City of Claremont Visitors Center 14 North St Claremont NH 03743 United States;X-APPLE-RADIUS=500;X-TITLE=14 North St:geo:-72.3383972,43.3755205
END:VEVENT
BEGIN:VEVENT
DTSTART;VALUE=DATE:20240801
DTEND;VALUE=DATE:20240802
DTSTAMP:20260424T140130
CREATED:20240727T121723Z
LAST-MODIFIED:20240728T200948Z
UID:10004322-1722470400-1722556799@lake-sunapee-living.com
SUMMARY:Outdoor Movie in Sunapee Harbor at Dusk
DESCRIPTION:FREE family event. ( Movies TBD)\nSee www.projectsunapee.com for more information
URL:https://lake-sunapee-living.com/event/outdoor-movie-in-sunapee-harbor-at-dusk/
LOCATION:Sunapee Harbor\, 67 Main Street\, Sunapee\, NH\, 03782\, United States
CATEGORIES:Movie
GEO:43.3856379;-72.0816099
X-APPLE-STRUCTURED-LOCATION;VALUE=URI;X-ADDRESS=Sunapee Harbor 67 Main Street Sunapee NH 03782 United States;X-APPLE-RADIUS=500;X-TITLE=67 Main Street:geo:-72.0816099,43.3856379
END:VEVENT
BEGIN:VEVENT
DTSTART;VALUE=DATE:20240808
DTEND;VALUE=DATE:20240809
DTSTAMP:20260424T140130
CREATED:20240727T162048Z
LAST-MODIFIED:20240728T201454Z
UID:10004348-1723075200-1723161599@lake-sunapee-living.com
SUMMARY:Outdoor Movie at Ben Mere Bandstand
DESCRIPTION:FREE family event. ( Movies TBD)\nSee www.projectsunapee.com for more information
URL:https://lake-sunapee-living.com/event/outdoor-movie-at-ben-mere-bandstand-4/
LOCATION:Ben Mere Bandstand\, 2 Lake Ave\, Sunapee\, NH\, 03782\, United States
CATEGORIES:Movie
GEO:43.3849832;-72.0801034
X-APPLE-STRUCTURED-LOCATION;VALUE=URI;X-ADDRESS=Ben Mere Bandstand 2 Lake Ave Sunapee NH 03782 United States;X-APPLE-RADIUS=500;X-TITLE=2 Lake Ave:geo:-72.0801034,43.3849832
END:VEVENT
BEGIN:VEVENT
DTSTART;VALUE=DATE:20240815
DTEND;VALUE=DATE:20240816
DTSTAMP:20260424T140130
CREATED:20240727T144338Z
LAST-MODIFIED:20240727T144522Z
UID:10004332-1723680000-1723766399@lake-sunapee-living.com
SUMMARY:Outdoor Movie at Ben Mere Bandstand
DESCRIPTION:FREE family event. ( Movies TBD)\nSee www.projectsunapee.com for more information
URL:https://lake-sunapee-living.com/event/outdoor-movie-at-ben-mere-bandstand/
LOCATION:Ben Mere Bandstand\, 2 Lake Ave\, Sunapee\, NH\, 03782\, United States
CATEGORIES:Movie
ORGANIZER;CN="Louis Bradbard":MAILTO:lbradbard@mac.com
GEO:43.3849832;-72.0801034
X-APPLE-STRUCTURED-LOCATION;VALUE=URI;X-ADDRESS=Ben Mere Bandstand 2 Lake Ave Sunapee NH 03782 United States;X-APPLE-RADIUS=500;X-TITLE=2 Lake Ave:geo:-72.0801034,43.3849832
END:VEVENT
BEGIN:VEVENT
DTSTART;VALUE=DATE:20240822
DTEND;VALUE=DATE:20240823
DTSTAMP:20260424T140130
CREATED:20240727T151004Z
LAST-MODIFIED:20240728T201644Z
UID:10004335-1724284800-1724371199@lake-sunapee-living.com
SUMMARY:Outdoor Movie at Ben Mere Bandstand
DESCRIPTION:FREE family event. ( Movies TBD)\nSee www.projectsunapee.com for more information
URL:https://lake-sunapee-living.com/event/outdoor-movie-at-ben-mere-bandstand-2/
LOCATION:Ben Mere Bandstand\, 2 Lake Ave\, Sunapee\, NH\, 03782\, United States
CATEGORIES:Movie
GEO:43.3849832;-72.0801034
X-APPLE-STRUCTURED-LOCATION;VALUE=URI;X-ADDRESS=Ben Mere Bandstand 2 Lake Ave Sunapee NH 03782 United States;X-APPLE-RADIUS=500;X-TITLE=2 Lake Ave:geo:-72.0801034,43.3849832
END:VEVENT
BEGIN:VEVENT
DTSTART;VALUE=DATE:20240830
DTEND;VALUE=DATE:20240831
DTSTAMP:20260424T140130
CREATED:20240727T152657Z
LAST-MODIFIED:20240728T202331Z
UID:10004337-1724976000-1725062399@lake-sunapee-living.com
SUMMARY:Outdoor Movie at Ben Mere Bandstand
DESCRIPTION:FREE family event. ( Movies TBD)\nSee www.projectsunapee.com for more information
URL:https://lake-sunapee-living.com/event/outdoor-movie-at-ben-mere-bandstand-3/
LOCATION:Sunapee Harbor\, 67 Main Street\, Sunapee\, NH\, 03782\, United States
CATEGORIES:Movie
GEO:43.3856379;-72.0816099
X-APPLE-STRUCTURED-LOCATION;VALUE=URI;X-ADDRESS=Sunapee Harbor 67 Main Street Sunapee NH 03782 United States;X-APPLE-RADIUS=500;X-TITLE=67 Main Street:geo:-72.0816099,43.3856379
END:VEVENT
END:VCALENDAR