BEGIN:VCALENDAR
VERSION:2.0
PRODID:-//Lake Sunapee Living - ECPv6.15.13//NONSGML v1.0//EN
CALSCALE:GREGORIAN
METHOD:PUBLISH
X-ORIGINAL-URL:https://lake-sunapee-living.com
X-WR-CALDESC:Events for Lake Sunapee Living
REFRESH-INTERVAL;VALUE=DURATION:PT1H
X-Robots-Tag:noindex
X-PUBLISHED-TTL:PT1H
BEGIN:VTIMEZONE
TZID:America/New_York
BEGIN:DAYLIGHT
TZOFFSETFROM:-0500
TZOFFSETTO:-0400
TZNAME:EDT
DTSTART:20170312T070000
END:DAYLIGHT
BEGIN:STANDARD
TZOFFSETFROM:-0400
TZOFFSETTO:-0500
TZNAME:EST
DTSTART:20171105T060000
END:STANDARD
BEGIN:DAYLIGHT
TZOFFSETFROM:-0500
TZOFFSETTO:-0400
TZNAME:EDT
DTSTART:20180311T070000
END:DAYLIGHT
BEGIN:STANDARD
TZOFFSETFROM:-0400
TZOFFSETTO:-0500
TZNAME:EST
DTSTART:20181104T060000
END:STANDARD
BEGIN:DAYLIGHT
TZOFFSETFROM:-0500
TZOFFSETTO:-0400
TZNAME:EDT
DTSTART:20190310T070000
END:DAYLIGHT
BEGIN:STANDARD
TZOFFSETFROM:-0400
TZOFFSETTO:-0500
TZNAME:EST
DTSTART:20191103T060000
END:STANDARD
BEGIN:DAYLIGHT
TZOFFSETFROM:-0500
TZOFFSETTO:-0400
TZNAME:EDT
DTSTART:20200308T070000
END:DAYLIGHT
BEGIN:STANDARD
TZOFFSETFROM:-0400
TZOFFSETTO:-0500
TZNAME:EST
DTSTART:20201101T060000
END:STANDARD
END:VTIMEZONE
BEGIN:VEVENT
DTSTART;TZID=America/New_York:20190828T170000
DTEND;TZID=America/New_York:20190828T190000
DTSTAMP:20260424T174727
CREATED:20190624T002748Z
LAST-MODIFIED:20190624T002748Z
UID:10003823-1567011600-1567018800@lake-sunapee-living.com
SUMMARY:Wednesday Night Rides & Live Music with Jeff Mrozek at Mt Sunapee
DESCRIPTION:Live Music Lineup: August 28 – Jeff Mrozek \nJoin Mount Sunapee on Wednesday evenings for downhill mountain biking every Wednesday\, June 26th – August 28th! The Mount Sunapee Bike Park will be staying open late on Wednesdays until 7:00pm with two hour lift passes (5:00pm – 7:00pm) for just $20. Free riding with the Spin Pass or Summer Pass! The Bike Park closes at 7:00pm with live music\, food\, and drinks continuing until 8:00pm. Enjoy burgers\, beers\, and more at the Wild Goose Grill! \nEach week there will be a raffle prize drawn at the end of the evening – must be present to win!
URL:https://lake-sunapee-living.com/event/wednesday-night-rides-live-music-with-jeff-mrozek-at-mt-sunapee-2/
LOCATION:Mount Sunapee\, 1398 ROUTE 103\, Newbury\, NH\, 03255\, United States
CATEGORIES:Live Music,Mountain Biking
GEO:43.3260437;-72.0644669
X-APPLE-STRUCTURED-LOCATION;VALUE=URI;X-ADDRESS=Mount Sunapee 1398 ROUTE 103 Newbury NH 03255 United States;X-APPLE-RADIUS=500;X-TITLE=1398 ROUTE 103:geo:-72.0644669,43.3260437
END:VEVENT
BEGIN:VEVENT
DTSTART;TZID=America/New_York:20190821T170000
DTEND;TZID=America/New_York:20190821T190000
DTSTAMP:20260424T174727
CREATED:20190624T002617Z
LAST-MODIFIED:20190624T002617Z
UID:10003822-1566406800-1566414000@lake-sunapee-living.com
SUMMARY:Wednesday Night Rides & Live Music with Keith Sanders at Mt Sunapee
DESCRIPTION:Live Music Lineup: August 21 – Keith Sanders \nJoin Mount Sunapee on Wednesday evenings for downhill mountain biking every Wednesday\, June 26th – August 28th! The Mount Sunapee Bike Park will be staying open late on Wednesdays until 7:00pm with two hour lift passes (5:00pm – 7:00pm) for just $20. Free riding with the Spin Pass or Summer Pass! The Bike Park closes at 7:00pm with live music\, food\, and drinks continuing until 8:00pm. Enjoy burgers\, beers\, and more at the Wild Goose Grill! \nEach week there will be a raffle prize drawn at the end of the evening – must be present to win!
URL:https://lake-sunapee-living.com/event/wednesday-night-rides-live-music-with-keith-sanders-at-mt-sunapee-2/
LOCATION:Mount Sunapee\, 1398 ROUTE 103\, Newbury\, NH\, 03255\, United States
CATEGORIES:Live Music,Mountain Biking
GEO:43.3260437;-72.0644669
X-APPLE-STRUCTURED-LOCATION;VALUE=URI;X-ADDRESS=Mount Sunapee 1398 ROUTE 103 Newbury NH 03255 United States;X-APPLE-RADIUS=500;X-TITLE=1398 ROUTE 103:geo:-72.0644669,43.3260437
END:VEVENT
BEGIN:VEVENT
DTSTART;TZID=America/New_York:20190814T170000
DTEND;TZID=America/New_York:20190814T190000
DTSTAMP:20260424T174727
CREATED:20190624T002418Z
LAST-MODIFIED:20190624T002418Z
UID:10003821-1565802000-1565809200@lake-sunapee-living.com
SUMMARY:Wednesday Night Rides & Live Music with Charles A Music at Mt Sunapee
DESCRIPTION:Live Music Lineup: August 14 – Charles A Music \nJoin Mount Sunapee on Wednesday evenings for downhill mountain biking every Wednesday\, June 26th – August 28th! The Mount Sunapee Bike Park will be staying open late on Wednesdays until 7:00pm with two hour lift passes (5:00pm – 7:00pm) for just $20. Free riding with the Spin Pass or Summer Pass! The Bike Park closes at 7:00pm with live music\, food\, and drinks continuing until 8:00pm. Enjoy burgers\, beers\, and more at the Wild Goose Grill! \nEach week there will be a raffle prize drawn at the end of the evening – must be present to win!
URL:https://lake-sunapee-living.com/event/wednesday-night-rides-live-music-with-charles-a-music-at-mt-sunapee-2/
LOCATION:Mount Sunapee\, 1398 ROUTE 103\, Newbury\, NH\, 03255\, United States
CATEGORIES:Live Music,Mountain Biking
GEO:43.3260437;-72.0644669
X-APPLE-STRUCTURED-LOCATION;VALUE=URI;X-ADDRESS=Mount Sunapee 1398 ROUTE 103 Newbury NH 03255 United States;X-APPLE-RADIUS=500;X-TITLE=1398 ROUTE 103:geo:-72.0644669,43.3260437
END:VEVENT
BEGIN:VEVENT
DTSTART;TZID=America/New_York:20190807T170000
DTEND;TZID=America/New_York:20190807T190000
DTSTAMP:20260424T174727
CREATED:20190624T002228Z
LAST-MODIFIED:20190624T002255Z
UID:10003820-1565197200-1565204400@lake-sunapee-living.com
SUMMARY:Wednesday Night Rides & Live Music with Supernothing at Mt Sunapee
DESCRIPTION:Live Music Lineup: Aug 7 – Supernothing \nJoin Mount Sunapee on Wednesday evenings for downhill mountain biking every Wednesday\, June 26th – August 28th! The Mount Sunapee Bike Park will be staying open late on Wednesdays until 7:00pm with two hour lift passes (5:00pm – 7:00pm) for just $20. Free riding with the Spin Pass or Summer Pass! The Bike Park closes at 7:00pm with live music\, food\, and drinks continuing until 8:00pm. Enjoy burgers\, beers\, and more at the Wild Goose Grill! \nEach week there will be a raffle prize drawn at the end of the evening – must be present to win!
URL:https://lake-sunapee-living.com/event/wednesday-night-rides-live-music-with-supernothing-at-mt-sunapee-2/
LOCATION:Mount Sunapee\, 1398 ROUTE 103\, Newbury\, NH\, 03255\, United States
CATEGORIES:Live Music,Mountain Biking
GEO:43.3260437;-72.0644669
X-APPLE-STRUCTURED-LOCATION;VALUE=URI;X-ADDRESS=Mount Sunapee 1398 ROUTE 103 Newbury NH 03255 United States;X-APPLE-RADIUS=500;X-TITLE=1398 ROUTE 103:geo:-72.0644669,43.3260437
END:VEVENT
BEGIN:VEVENT
DTSTART;TZID=America/New_York:20190731T170000
DTEND;TZID=America/New_York:20190731T190000
DTSTAMP:20260424T174727
CREATED:20190624T002113Z
LAST-MODIFIED:20190624T002113Z
UID:10003819-1564592400-1564599600@lake-sunapee-living.com
SUMMARY:Wednesday Night Rides & Live Music with Jeff Mrozek at Mt Sunapee
DESCRIPTION:Live Music Lineup: July 31 – Jeff Mrozek \nJoin Mount Sunapee on Wednesday evenings for downhill mountain biking every Wednesday\, June 26th – August 28th! The Mount Sunapee Bike Park will be staying open late on Wednesdays until 7:00pm with two hour lift passes (5:00pm – 7:00pm) for just $20. Free riding with the Spin Pass or Summer Pass! The Bike Park closes at 7:00pm with live music\, food\, and drinks continuing until 8:00pm. Enjoy burgers\, beers\, and more at the Wild Goose Grill! \nEach week there will be a raffle prize drawn at the end of the evening – must be present to win!
URL:https://lake-sunapee-living.com/event/wednesday-night-rides-live-music-with-jeff-mrozek-at-mt-sunapee/
LOCATION:Mount Sunapee\, 1398 ROUTE 103\, Newbury\, NH\, 03255\, United States
CATEGORIES:Live Music,Mountain Biking
GEO:43.3260437;-72.0644669
X-APPLE-STRUCTURED-LOCATION;VALUE=URI;X-ADDRESS=Mount Sunapee 1398 ROUTE 103 Newbury NH 03255 United States;X-APPLE-RADIUS=500;X-TITLE=1398 ROUTE 103:geo:-72.0644669,43.3260437
END:VEVENT
BEGIN:VEVENT
DTSTART;TZID=America/New_York:20190724T170000
DTEND;TZID=America/New_York:20190724T190000
DTSTAMP:20260424T174727
CREATED:20190624T002004Z
LAST-MODIFIED:20190624T002004Z
UID:10003818-1563987600-1563994800@lake-sunapee-living.com
SUMMARY:Wednesday Night Rides & Live Music with Sammy Blanchette at Mt Sunapee
DESCRIPTION:Live Music Lineup: July 24 – Sammy Blanchette \nJoin Mount Sunapee on Wednesday evenings for downhill mountain biking every Wednesday\, June 26th – August 28th! The Mount Sunapee Bike Park will be staying open late on Wednesdays until 7:00pm with two hour lift passes (5:00pm – 7:00pm) for just $20. Free riding with the Spin Pass or Summer Pass! The Bike Park closes at 7:00pm with live music\, food\, and drinks continuing until 8:00pm. Enjoy burgers\, beers\, and more at the Wild Goose Grill! \nEach week there will be a raffle prize drawn at the end of the evening – must be present to win!
URL:https://lake-sunapee-living.com/event/wednesday-night-rides-live-music-with-sammy-blanchette-at-mt-sunapee-2/
LOCATION:Mount Sunapee\, 1398 ROUTE 103\, Newbury\, NH\, 03255\, United States
CATEGORIES:Live Music,Mountain Biking
GEO:43.3260437;-72.0644669
X-APPLE-STRUCTURED-LOCATION;VALUE=URI;X-ADDRESS=Mount Sunapee 1398 ROUTE 103 Newbury NH 03255 United States;X-APPLE-RADIUS=500;X-TITLE=1398 ROUTE 103:geo:-72.0644669,43.3260437
END:VEVENT
BEGIN:VEVENT
DTSTART;TZID=America/New_York:20190717T190000
DTEND;TZID=America/New_York:20190717T190000
DTSTAMP:20260424T174727
CREATED:20190624T001750Z
LAST-MODIFIED:20190624T001750Z
UID:10003817-1563390000-1563390000@lake-sunapee-living.com
SUMMARY:Wednesday Night Rides & Live Music with Charles A Music at Mt Sunapee
DESCRIPTION:Live Music Lineup: July 17 – Charles A Music \nJoin Mount Sunapee on Wednesday evenings for downhill mountain biking every Wednesday\, June 26th – August 28th! The Mount Sunapee Bike Park will be staying open late on Wednesdays until 7:00pm with two hour lift passes (5:00pm – 7:00pm) for just $20. Free riding with the Spin Pass or Summer Pass! The Bike Park closes at 7:00pm with live music\, food\, and drinks continuing until 8:00pm. Enjoy burgers\, beers\, and more at the Wild Goose Grill! \nEach week there will be a raffle prize drawn at the end of the evening – must be present to win!
URL:https://lake-sunapee-living.com/event/wednesday-night-rides-live-music-with-charles-a-music-at-mt-sunapee/
LOCATION:Mount Sunapee\, 1398 ROUTE 103\, Newbury\, NH\, 03255\, United States
CATEGORIES:Live Music,Mountain Biking
GEO:43.3260437;-72.0644669
X-APPLE-STRUCTURED-LOCATION;VALUE=URI;X-ADDRESS=Mount Sunapee 1398 ROUTE 103 Newbury NH 03255 United States;X-APPLE-RADIUS=500;X-TITLE=1398 ROUTE 103:geo:-72.0644669,43.3260437
END:VEVENT
BEGIN:VEVENT
DTSTART;TZID=America/New_York:20190710T170000
DTEND;TZID=America/New_York:20190710T190000
DTSTAMP:20260424T174727
CREATED:20190624T001638Z
LAST-MODIFIED:20190624T001638Z
UID:10003816-1562778000-1562785200@lake-sunapee-living.com
SUMMARY:Wednesday Night Rides & Live Music with Sammy Blanchette at Mt Sunapee
DESCRIPTION:Live Music Lineup:July 10 – Sammy Blanchette \nJoin Mount Sunapee on Wednesday evenings for downhill mountain biking every Wednesday\, June 26th – August 28th! The Mount Sunapee Bike Park will be staying open late on Wednesdays until 7:00pm with two hour lift passes (5:00pm – 7:00pm) for just $20. Free riding with the Spin Pass or Summer Pass! The Bike Park closes at 7:00pm with live music\, food\, and drinks continuing until 8:00pm. Enjoy burgers\, beers\, and more at the Wild Goose Grill! \nEach week there will be a raffle prize drawn at the end of the evening – must be present to win!
URL:https://lake-sunapee-living.com/event/wednesday-night-rides-live-music-with-sammy-blanchette-at-mt-sunapee/
LOCATION:Mount Sunapee\, 1398 ROUTE 103\, Newbury\, NH\, 03255\, United States
CATEGORIES:Live Music,Mountain Biking
GEO:43.3260437;-72.0644669
X-APPLE-STRUCTURED-LOCATION;VALUE=URI;X-ADDRESS=Mount Sunapee 1398 ROUTE 103 Newbury NH 03255 United States;X-APPLE-RADIUS=500;X-TITLE=1398 ROUTE 103:geo:-72.0644669,43.3260437
END:VEVENT
BEGIN:VEVENT
DTSTART;TZID=America/New_York:20190703T190000
DTEND;TZID=America/New_York:20190703T190000
DTSTAMP:20260424T174727
CREATED:20190624T001411Z
LAST-MODIFIED:20190624T001411Z
UID:10003815-1562180400-1562180400@lake-sunapee-living.com
SUMMARY:Wednesday Night Rides & Live Music with Keith Sanders at Mt Sunapee
DESCRIPTION:Live Music Lineup: July 3 – Keith Sanders \nJoin Mount Sunapee on Wednesday evenings for downhill mountain biking every Wednesday\, June 26th – August 28th! The Mount Sunapee Bike Park will be staying open late on Wednesdays until 7:00pm with two hour lift passes (5:00pm – 7:00pm) for just $20. Free riding with the Spin Pass or Summer Pass! The Bike Park closes at 7:00pm with live music\, food\, and drinks continuing until 8:00pm. Enjoy burgers\, beers\, and more at the Wild Goose Grill! \nEach week there will be a raffle prize drawn at the end of the evening – must be present to win!
URL:https://lake-sunapee-living.com/event/wednesday-night-rides-live-music-with-keith-sanders-at-mt-sunapee/
LOCATION:Mount Sunapee\, 1398 ROUTE 103\, Newbury\, NH\, 03255\, United States
CATEGORIES:Live Music,Mountain Biking
GEO:43.3260437;-72.0644669
X-APPLE-STRUCTURED-LOCATION;VALUE=URI;X-ADDRESS=Mount Sunapee 1398 ROUTE 103 Newbury NH 03255 United States;X-APPLE-RADIUS=500;X-TITLE=1398 ROUTE 103:geo:-72.0644669,43.3260437
END:VEVENT
BEGIN:VEVENT
DTSTART;TZID=America/New_York:20190629T110000
DTEND;TZID=America/New_York:20190629T160000
DTSTAMP:20260424T174727
CREATED:20190624T003523Z
LAST-MODIFIED:20190624T003523Z
UID:10003825-1561806000-1561824000@lake-sunapee-living.com
SUMMARY:Team East Freestyle Ramp Show at Mount Sunapee Resort
DESCRIPTION:Catch the high flying Team East Freestyle team airing it out in front of the Mount Sunapee Adventure Park! Check out their first show at 11:00am\, then you can head up the chairlift with your own bike to do some downhill shredding of your own! The second show starts at 2:00pm and we’ll have a special visit from the Kona Ice Truck from 2:00-4:00. Both freestyle shows last 30-40 minutes are free admission (standard trail pass rates apply for riding in the Bike Park).
URL:https://lake-sunapee-living.com/event/team-east-freestyle-ramp-show-at-mount-sunapee-resort/
LOCATION:Mount Sunapee\, 1398 ROUTE 103\, Newbury\, NH\, 03255\, United States
CATEGORIES:Mountain Biking
GEO:43.3260437;-72.0644669
X-APPLE-STRUCTURED-LOCATION;VALUE=URI;X-ADDRESS=Mount Sunapee 1398 ROUTE 103 Newbury NH 03255 United States;X-APPLE-RADIUS=500;X-TITLE=1398 ROUTE 103:geo:-72.0644669,43.3260437
END:VEVENT
BEGIN:VEVENT
DTSTART;TZID=America/New_York:20190626T170000
DTEND;TZID=America/New_York:20190626T190000
DTSTAMP:20260424T174727
CREATED:20190624T001053Z
LAST-MODIFIED:20190624T001053Z
UID:10003814-1561568400-1561575600@lake-sunapee-living.com
SUMMARY:Wednesday Night Rides & Live Music with Supernothing at Mt Sunapee
DESCRIPTION:Live Music Lineup: June 26 – Supernothing \nJoin Mount Sunapee on Wednesday evenings for downhill mountain biking every Wednesday\, June 26th – August 28th! The Mount Sunapee Bike Park will be staying open late on Wednesdays until 7:00pm with two hour lift passes (5:00pm – 7:00pm) for just $20. Free riding with the Spin Pass or Summer Pass! The Bike Park closes at 7:00pm with live music\, food\, and drinks continuing until 8:00pm. Enjoy burgers\, beers\, and more at the Wild Goose Grill! \nEach week there will be a raffle prize drawn at the end of the evening – must be present to win!
URL:https://lake-sunapee-living.com/event/wednesday-night-rides-live-music-with-supernothing-at-mt-sunapee/
LOCATION:Mount Sunapee\, 1398 ROUTE 103\, Newbury\, NH\, 03255\, United States
CATEGORIES:Live Music,Mountain Biking
GEO:43.3260437;-72.0644669
X-APPLE-STRUCTURED-LOCATION;VALUE=URI;X-ADDRESS=Mount Sunapee 1398 ROUTE 103 Newbury NH 03255 United States;X-APPLE-RADIUS=500;X-TITLE=1398 ROUTE 103:geo:-72.0644669,43.3260437
END:VEVENT
BEGIN:VEVENT
DTSTART;TZID=America/New_York:20180829T170000
DTEND;TZID=America/New_York:20180829T190000
DTSTAMP:20260424T174727
CREATED:20180622T001603Z
LAST-MODIFIED:20180622T001603Z
UID:10000511-1535562000-1535569200@lake-sunapee-living.com
SUMMARY:Mount Sunapee Evolution Bike Park Wednesday Night Ride
DESCRIPTION:Calling all mountain bikers! \nStarting July 11th\, join us at the Evolution Bike Park for our Wednesday Night Ride. \nMeet other riders\, rip the trails\, and enjoy a nice burger and beer at the Wild Goose Grill. \n5:00pm – 7:00pm: Trail riding\n$20 for a trail pass\nBike rentals available \n4:00pm – 7:00pm: Open mic night
URL:https://lake-sunapee-living.com/event/mount-sunapee-evolution-bike-park-wednesday-night-ride/2018-08-29/
LOCATION:Mount Sunapee\, 1398 ROUTE 103\, Newbury\, NH\, 03255\, United States
CATEGORIES:Mountain Biking
GEO:43.3260437;-72.0644669
X-APPLE-STRUCTURED-LOCATION;VALUE=URI;X-ADDRESS=Mount Sunapee 1398 ROUTE 103 Newbury NH 03255 United States;X-APPLE-RADIUS=500;X-TITLE=1398 ROUTE 103:geo:-72.0644669,43.3260437
END:VEVENT
END:VCALENDAR