BEGIN:VCALENDAR
VERSION:2.0
PRODID:-//Lake Sunapee Living - ECPv6.15.13//NONSGML v1.0//EN
CALSCALE:GREGORIAN
METHOD:PUBLISH
X-WR-CALNAME:Lake Sunapee Living
X-ORIGINAL-URL:https://lake-sunapee-living.com
X-WR-CALDESC:Events for Lake Sunapee Living
REFRESH-INTERVAL;VALUE=DURATION:PT1H
X-Robots-Tag:noindex
X-PUBLISHED-TTL:PT1H
BEGIN:VTIMEZONE
TZID:America/New_York
BEGIN:DAYLIGHT
TZOFFSETFROM:-0500
TZOFFSETTO:-0400
TZNAME:EDT
DTSTART:20180311T070000
END:DAYLIGHT
BEGIN:STANDARD
TZOFFSETFROM:-0400
TZOFFSETTO:-0500
TZNAME:EST
DTSTART:20181104T060000
END:STANDARD
BEGIN:DAYLIGHT
TZOFFSETFROM:-0500
TZOFFSETTO:-0400
TZNAME:EDT
DTSTART:20190310T070000
END:DAYLIGHT
BEGIN:STANDARD
TZOFFSETFROM:-0400
TZOFFSETTO:-0500
TZNAME:EST
DTSTART:20191103T060000
END:STANDARD
BEGIN:DAYLIGHT
TZOFFSETFROM:-0500
TZOFFSETTO:-0400
TZNAME:EDT
DTSTART:20200308T070000
END:DAYLIGHT
BEGIN:STANDARD
TZOFFSETFROM:-0400
TZOFFSETTO:-0500
TZNAME:EST
DTSTART:20201101T060000
END:STANDARD
END:VTIMEZONE
BEGIN:VEVENT
DTSTART;TZID=America/New_York:20191012T100000
DTEND;TZID=America/New_York:20191012T160000
DTSTAMP:20260425T075738
CREATED:20181111T232238Z
LAST-MODIFIED:20181111T232818Z
UID:10000238-1570874400-1570896000@lake-sunapee-living.com
SUMMARY:Celebrate the 25th anniversary of the rebuilding of the Corbin Covered Bridge
DESCRIPTION:On October 12\, 2019\, Columbus Day Weekend\, Newport NH will celebrate the 25th anniversary of the rebuilding of the Corbin Covered Bridge in 1994. \nThe bridge had been burned by an arsonist in May 1993 and through negotiations\, meetings\, research and hard work\, the historic bridge was replicated in both style and means of construction. \nThe October 1994 Covered Bridge Festival saw 9000 people come from all over New England to witness two teams of oxen pulling the bridge into place\, inch by inch. \nNow\, twenty-five years later\, the Newport Historical Society and the Corbin Bridge 25th Anniversary committee invite you to a celebration like the one in 1994. \nMore than 25 events are currently planned throughout the day of Saturday\, Oct 12\, 2019\, with more to be added in the coming months. \nThe event will include historical and cultural activities\, fun\, food\, demonstration\, hands on experiences\, a heritage parade through the bridge\, and photo opportunities.
URL:https://lake-sunapee-living.com/event/celebrate-the-25th-anniversary-of-the-rebuilding-of-the-corbin-covered-bridge/
LOCATION:Corbin Covered Bridge\, 250 Corbin Rd\, Newport\, NH\, 03773\, United States
CATEGORIES:Living History
GEO:43.3913944;-72.1973489
X-APPLE-STRUCTURED-LOCATION;VALUE=URI;X-ADDRESS=Corbin Covered Bridge 250 Corbin Rd Newport NH 03773 United States;X-APPLE-RADIUS=500;X-TITLE=250 Corbin Rd:geo:-72.1973489,43.3913944
END:VEVENT
END:VCALENDAR