BEGIN:VCALENDAR
VERSION:2.0
PRODID:-//Lake Sunapee Living - ECPv6.15.13//NONSGML v1.0//EN
CALSCALE:GREGORIAN
METHOD:PUBLISH
X-WR-CALNAME:Lake Sunapee Living
X-ORIGINAL-URL:https://lake-sunapee-living.com
X-WR-CALDESC:Events for Lake Sunapee Living
REFRESH-INTERVAL;VALUE=DURATION:PT1H
X-Robots-Tag:noindex
X-PUBLISHED-TTL:PT1H
BEGIN:VTIMEZONE
TZID:America/New_York
BEGIN:DAYLIGHT
TZOFFSETFROM:-0500
TZOFFSETTO:-0400
TZNAME:EDT
DTSTART:20160313T070000
END:DAYLIGHT
BEGIN:STANDARD
TZOFFSETFROM:-0400
TZOFFSETTO:-0500
TZNAME:EST
DTSTART:20161106T060000
END:STANDARD
BEGIN:DAYLIGHT
TZOFFSETFROM:-0500
TZOFFSETTO:-0400
TZNAME:EDT
DTSTART:20170312T070000
END:DAYLIGHT
BEGIN:STANDARD
TZOFFSETFROM:-0400
TZOFFSETTO:-0500
TZNAME:EST
DTSTART:20171105T060000
END:STANDARD
BEGIN:DAYLIGHT
TZOFFSETFROM:-0500
TZOFFSETTO:-0400
TZNAME:EDT
DTSTART:20180311T070000
END:DAYLIGHT
BEGIN:STANDARD
TZOFFSETFROM:-0400
TZOFFSETTO:-0500
TZNAME:EST
DTSTART:20181104T060000
END:STANDARD
BEGIN:DAYLIGHT
TZOFFSETFROM:-0500
TZOFFSETTO:-0400
TZNAME:EDT
DTSTART:20190310T070000
END:DAYLIGHT
BEGIN:STANDARD
TZOFFSETFROM:-0400
TZOFFSETTO:-0500
TZNAME:EST
DTSTART:20191103T060000
END:STANDARD
BEGIN:DAYLIGHT
TZOFFSETFROM:-0500
TZOFFSETTO:-0400
TZNAME:EDT
DTSTART:20200308T070000
END:DAYLIGHT
BEGIN:STANDARD
TZOFFSETFROM:-0400
TZOFFSETTO:-0500
TZNAME:EST
DTSTART:20201101T060000
END:STANDARD
BEGIN:DAYLIGHT
TZOFFSETFROM:-0500
TZOFFSETTO:-0400
TZNAME:EDT
DTSTART:20210314T070000
END:DAYLIGHT
BEGIN:STANDARD
TZOFFSETFROM:-0400
TZOFFSETTO:-0500
TZNAME:EST
DTSTART:20211107T060000
END:STANDARD
BEGIN:DAYLIGHT
TZOFFSETFROM:-0500
TZOFFSETTO:-0400
TZNAME:EDT
DTSTART:20220313T070000
END:DAYLIGHT
BEGIN:STANDARD
TZOFFSETFROM:-0400
TZOFFSETTO:-0500
TZNAME:EST
DTSTART:20221106T060000
END:STANDARD
BEGIN:DAYLIGHT
TZOFFSETFROM:-0500
TZOFFSETTO:-0400
TZNAME:EDT
DTSTART:20230312T070000
END:DAYLIGHT
BEGIN:STANDARD
TZOFFSETFROM:-0400
TZOFFSETTO:-0500
TZNAME:EST
DTSTART:20231105T060000
END:STANDARD
END:VTIMEZONE
BEGIN:VEVENT
DTSTART;TZID=America/New_York:20171006T170000
DTEND;TZID=America/New_York:20171006T190000
DTSTAMP:20260424T230732
CREATED:20170812T015209Z
LAST-MODIFIED:20170812T015209Z
UID:10000042-1507309200-1507316400@lake-sunapee-living.com
SUMMARY:First Fridays! Northern Stage presents!
DESCRIPTION:Northern Stage Theater presents their 2017-2018 Season\nWhipple Hall\, Main Street\, New London\nwww.CenterForTheArtsNH.org or call 526-4444
URL:https://lake-sunapee-living.com/event/first-fridays-northern-stage-presents/
LOCATION:NH
CATEGORIES:Live Theater
END:VEVENT
BEGIN:VEVENT
DTSTART;TZID=America/New_York:20180818T190000
DTEND;TZID=America/New_York:20180818T210000
DTSTAMP:20260424T230732
CREATED:20180701T145022Z
LAST-MODIFIED:20180701T145052Z
UID:10000592-1534618800-1534626000@lake-sunapee-living.com
SUMMARY:Live Music: Elisabeth Von Trapp at The Old Courthouse
DESCRIPTION:Join us under the tent for a fabulous Austrian Buffet and an evening of music with Elisabeth Von Trapp. \nShe will be singing some favorite Rogers and Hammerstein show tunes along with some of her own favorites. \nCall 863-8360 for reservations.
URL:https://lake-sunapee-living.com/event/live-music-elisabeth-von-trapp-at-the-old-courthouse/
LOCATION:The Old Courthouse Restaurant\, 30 Main St\, Newport\, NH\, 03773\, United States
CATEGORIES:Live Theater
GEO:43.3623236;-72.1711152
X-APPLE-STRUCTURED-LOCATION;VALUE=URI;X-ADDRESS=The Old Courthouse Restaurant 30 Main St Newport NH 03773 United States;X-APPLE-RADIUS=500;X-TITLE=30 Main St:geo:-72.1711152,43.3623236
END:VEVENT
BEGIN:VEVENT
DTSTART;TZID=America/New_York:20190104T190000
DTEND;TZID=America/New_York:20190104T203000
DTSTAMP:20260424T230732
CREATED:20181104T233121Z
LAST-MODIFIED:20181104T233121Z
UID:10003600-1546628400-1546633800@lake-sunapee-living.com
SUMMARY:First Fridays!  Stars of Tomorrow! @ Whipple Hall
DESCRIPTION:FREE!\nDance\, Music\, Theater\, and Art: Performances by our 2018 Scholarship Recipients \nwww.CenterForTheArtsNH.org
URL:https://lake-sunapee-living.com/event/first-fridays-stars-of-tomorrow-whipple-hall/
LOCATION:Whipple Hall\, 429 Main Street\, New London\, NH\, 03257\, United States
CATEGORIES:Live Theater
GEO:43.4130294;-71.9807053
X-APPLE-STRUCTURED-LOCATION;VALUE=URI;X-ADDRESS=Whipple Hall 429 Main Street New London NH 03257 United States;X-APPLE-RADIUS=500;X-TITLE=429 Main Street:geo:-71.9807053,43.4130294
END:VEVENT
BEGIN:VEVENT
DTSTART;TZID=America/New_York:20190607T170000
DTEND;TZID=America/New_York:20190607T190000
DTSTAMP:20260424T230732
CREATED:20181118T141832Z
LAST-MODIFIED:20181118T142746Z
UID:10000229-1559926800-1559934000@lake-sunapee-living.com
SUMMARY:First Fridays! New London Barn Playhouse Open Rehearsal
DESCRIPTION:First Fridays! New London Barn Playhouse Open Rehearsal  \nFREE \nJoin the Barnies and the Artistic Director for a behind the scenes look at their upcoming show. \nQ&A and Reception to follow @ the Barn Playhouse \nwww.CenterForTheArtsNH.org
URL:https://lake-sunapee-living.com/event/first-fridays-new-london-barn-playhouse-open-rehearsal/
LOCATION:New London Barn Playhouse\, 84 Main St\, New London\, NH\, 03257\, United States
CATEGORIES:Live Theater
GEO:43.418717;-71.9912111
X-APPLE-STRUCTURED-LOCATION;VALUE=URI;X-ADDRESS=New London Barn Playhouse 84 Main St New London NH 03257 United States;X-APPLE-RADIUS=500;X-TITLE=84 Main St:geo:-71.9912111,43.418717
END:VEVENT
BEGIN:VEVENT
DTSTART;TZID=America/New_York:20191004T170000
DTEND;TZID=America/New_York:20191004T190000
DTSTAMP:20260424T230732
CREATED:20181118T150908Z
LAST-MODIFIED:20181118T151044Z
UID:10003610-1570208400-1570215600@lake-sunapee-living.com
SUMMARY:First Fridays! Northern Stage presents a preview of their 2019-2020 season
DESCRIPTION:October   4th First Fridays! Northern Stage Presents! @ Whipple Hall  \nFREE\n\nNorthern Stage Theater presents a preview of their 2019-2020 Season \nwww.CenterForTheArtsNH.org
URL:https://lake-sunapee-living.com/event/first-fridays-northern-stage-presents-a-preview-of-their-2019-2020-season/
LOCATION:Whipple Hall\, 429 Main Street\, New London\, NH\, 03257\, United States
CATEGORIES:Live Theater
GEO:43.4130294;-71.9807053
X-APPLE-STRUCTURED-LOCATION;VALUE=URI;X-ADDRESS=Whipple Hall 429 Main Street New London NH 03257 United States;X-APPLE-RADIUS=500;X-TITLE=429 Main Street:geo:-71.9807053,43.4130294
END:VEVENT
BEGIN:VEVENT
DTSTART;TZID=America/New_York:20200208T190000
DTEND;TZID=America/New_York:20200208T210000
DTSTAMP:20260424T230732
CREATED:20191230T002207Z
LAST-MODIFIED:20191230T002207Z
UID:10003855-1581188400-1581195600@lake-sunapee-living.com
SUMMARY:“Crooners\, Cabaret\, and Chocolate”
DESCRIPTION:“Crooners\, Cabaret\, and Chocolate” \nA Valentine’s Celebration with the Nancy Tripp Quartet \nMusic\, Champagne\, Desserts\, and Chocolate!   \nTickets on sale at Tatewell Gallery\, Morgan Hill Bookstore and online at \nhttps://centerfortheartsnh.org/winter-performance-series
URL:https://lake-sunapee-living.com/event/crooners-cabaret-and-chocolate/
LOCATION:Whipple Hall\, 429 Main Street\, New London\, NH\, 03257\, United States
CATEGORIES:Live Theater
GEO:43.4130294;-71.9807053
X-APPLE-STRUCTURED-LOCATION;VALUE=URI;X-ADDRESS=Whipple Hall 429 Main Street New London NH 03257 United States;X-APPLE-RADIUS=500;X-TITLE=429 Main Street:geo:-71.9807053,43.4130294
END:VEVENT
BEGIN:VEVENT
DTSTART;TZID=America/New_York:20201002T183000
DTEND;TZID=America/New_York:20201002T200000
DTSTAMP:20260424T230732
CREATED:20200111T162046Z
LAST-MODIFIED:20200111T162046Z
UID:10003868-1601663400-1601668800@lake-sunapee-living.com
SUMMARY:First Fridays! Northern Stage Presents a preview of their 2020-2021 Season
DESCRIPTION:First Fridays! Northern Stage Presents!  \nFREE\n\nNorthern Stage Theater presents a preview of their 2020-2021 Season -Whipple Hall- New London \nhttps://centerfortheartsnh.org/first-fridays
URL:https://lake-sunapee-living.com/event/first-fridays-northern-stage-presents-a-preview-of-their-2020-2021-season/
LOCATION:Whipple Hall\, 429 Main Street\, New London\, NH\, 03257\, United States
CATEGORIES:Live Theater
GEO:43.4130294;-71.9807053
X-APPLE-STRUCTURED-LOCATION;VALUE=URI;X-ADDRESS=Whipple Hall 429 Main Street New London NH 03257 United States;X-APPLE-RADIUS=500;X-TITLE=429 Main Street:geo:-71.9807053,43.4130294
END:VEVENT
BEGIN:VEVENT
DTSTART;TZID=America/New_York:20220320T140000
DTEND;TZID=America/New_York:20220320T153000
DTSTAMP:20260424T230732
CREATED:20220228T013312Z
LAST-MODIFIED:20220228T013312Z
UID:10000515-1647784800-1647790200@lake-sunapee-living.com
SUMMARY:St Patrick Comes to New London! Irish Step Dancing and Music
DESCRIPTION:“Irish Step Dancing and Music”\n\nCelebrate St Patrick’s Day with the award winning McGonigle Dancers who have received awards at the national and international level of competition. \nOriginating in Ireland\, Irish step dancing is a traditional dance form that includes both social and performance opportunities. It encompasses a wide variety of styles for solo\, pair\, and group dances. \n\n\n\n\ncenterfortheartsnh.org/performing-arts-series
URL:https://lake-sunapee-living.com/event/st-patrick-comes-to-new-london-irish-step-dancing-and-music-2/
LOCATION:Whipple Hall\, 429 Main Street\, New London\, NH\, 03257\, United States
CATEGORIES:Live Theater
GEO:43.4130294;-71.9807053
X-APPLE-STRUCTURED-LOCATION;VALUE=URI;X-ADDRESS=Whipple Hall 429 Main Street New London NH 03257 United States;X-APPLE-RADIUS=500;X-TITLE=429 Main Street:geo:-71.9807053,43.4130294
END:VEVENT
BEGIN:VEVENT
DTSTART;TZID=America/New_York:20221007T183000
DTEND;TZID=America/New_York:20221007T203000
DTSTAMP:20260424T230732
CREATED:20220514T164154Z
LAST-MODIFIED:20220514T164312Z
UID:10000604-1665167400-1665174600@lake-sunapee-living.com
SUMMARY:First Fridays! Northern Stage Presents a preview of their 2022-2023 season
DESCRIPTION:Northern Stage Theater presents a preview of their 2022-2023 Season at Whipple Hall- New London \nwww.centerfortheartsnh.org/first-fridays
URL:https://lake-sunapee-living.com/event/first-fridays-northern-stage-presents-2/
LOCATION:Whipple Hall\, 429 Main Street\, New London\, NH\, 03257\, United States
CATEGORIES:Live Theater
GEO:43.4130294;-71.9807053
X-APPLE-STRUCTURED-LOCATION;VALUE=URI;X-ADDRESS=Whipple Hall 429 Main Street New London NH 03257 United States;X-APPLE-RADIUS=500;X-TITLE=429 Main Street:geo:-71.9807053,43.4130294
END:VEVENT
END:VCALENDAR