BEGIN:VCALENDAR
VERSION:2.0
PRODID:-//Lake Sunapee Living - ECPv6.15.13//NONSGML v1.0//EN
CALSCALE:GREGORIAN
METHOD:PUBLISH
X-ORIGINAL-URL:https://lake-sunapee-living.com
X-WR-CALDESC:Events for Lake Sunapee Living
REFRESH-INTERVAL;VALUE=DURATION:PT1H
X-Robots-Tag:noindex
X-PUBLISHED-TTL:PT1H
BEGIN:VTIMEZONE
TZID:America/New_York
BEGIN:DAYLIGHT
TZOFFSETFROM:-0500
TZOFFSETTO:-0400
TZNAME:EDT
DTSTART:20240310T070000
END:DAYLIGHT
BEGIN:STANDARD
TZOFFSETFROM:-0400
TZOFFSETTO:-0500
TZNAME:EST
DTSTART:20241103T060000
END:STANDARD
BEGIN:DAYLIGHT
TZOFFSETFROM:-0500
TZOFFSETTO:-0400
TZNAME:EDT
DTSTART:20250309T070000
END:DAYLIGHT
BEGIN:STANDARD
TZOFFSETFROM:-0400
TZOFFSETTO:-0500
TZNAME:EST
DTSTART:20251102T060000
END:STANDARD
BEGIN:DAYLIGHT
TZOFFSETFROM:-0500
TZOFFSETTO:-0400
TZNAME:EDT
DTSTART:20260308T070000
END:DAYLIGHT
BEGIN:STANDARD
TZOFFSETFROM:-0400
TZOFFSETTO:-0500
TZNAME:EST
DTSTART:20261101T060000
END:STANDARD
BEGIN:DAYLIGHT
TZOFFSETFROM:-0500
TZOFFSETTO:-0400
TZNAME:EDT
DTSTART:20270314T070000
END:DAYLIGHT
BEGIN:STANDARD
TZOFFSETFROM:-0400
TZOFFSETTO:-0500
TZNAME:EST
DTSTART:20271107T060000
END:STANDARD
END:VTIMEZONE
BEGIN:VEVENT
DTSTART;TZID=America/New_York:20250829T193000
DTEND;TZID=America/New_York:20250829T210000
DTSTAMP:20260425T230950
CREATED:20250617T120901Z
LAST-MODIFIED:20250617T120901Z
UID:10004599-1756495800-1756501200@lake-sunapee-living.com
SUMMARY:Live Music: Friday Nights at The Livery with MUTU4L
DESCRIPTION:The Livery presents MUTU4L\, an acoustic duo made up of Maine native Tyler Levs and Joliet4\, his partner from the Midwest. Veteran independent singer/songwriters and live music streamers\, they met in 2019 during the final round of an online vocal competition. The two quickly became fans of each other’s music\, fostering a supportive friendship through social media and began writing music together through email and Zoom calls. This gradual approach to collaboration was perfect for balancing family priorities and solo careers. It wasn’t until 2023 during a road trip to SXSW in Austin\, that they first began to perform and write songs in person. Recognizing how natural and inspiring their creative process was face to face\, they officially chose a name and began their journey as a duo. \nNow\, Tyler and Joliet are crafting their first album. Though both artists are proficient in full production genres\, they are choosing to focus on an acoustic-driven style that highlights their songwriting\, harmonies and the magic of a more raw sound. Splitting time between New England\, the Midwest\, and virtual meetings\, they are releasing singles on all major streaming platforms while playing small shows in bars\, restaurants\, private parties and weddings. \nFriday\, August 29th\n7:30 pm. Doors open at 7:00 pm. BYOB\nCost: $20 per person \nPURCHASE TICKETS: Click Here \nWEBSITE: https://mutu4l.com/\nYOUTUBE: https://www.youtube.com/@mutu4l\nINSTAGRAM: https://www.instagram.com/mutu4lofficial/\nFACEBOOK: https://www.facebook.com/MUTU4L\nSPOTIFY: https://open.spotify.com/artist/5vbwSdBabf9XtmGrBGl7W4?si=CIUaFfNGRzmR-tG-pmb28A
URL:https://lake-sunapee-living.com/event/live-music-friday-nights-at-the-livery-with-mutu4l/
LOCATION:The Livery\, 58 Main St.\, Sunapee\, NH\, 03782\, United States
CATEGORIES:Live Music
GEO:43.3860983;-72.0826955
X-APPLE-STRUCTURED-LOCATION;VALUE=URI;X-ADDRESS=The Livery 58 Main St. Sunapee NH 03782 United States;X-APPLE-RADIUS=500;X-TITLE=58 Main St.:geo:-72.0826955,43.3860983
END:VEVENT
BEGIN:VEVENT
DTSTART;TZID=America/New_York:20251207T160000
DTEND;TZID=America/New_York:20251207T183000
DTSTAMP:20260425T230950
CREATED:20251123T124636Z
LAST-MODIFIED:20251123T124636Z
UID:10004625-1765123200-1765132200@lake-sunapee-living.com
SUMMARY:JOSA Jazz at the Center At Eastman - Greg Abate
DESCRIPTION:Greg Abate Alto Sax Extraordinaire \nJOSA Jazz On A Sunday Afternoon\nThe Center At Eastman\n2025-2026 Winter Season\nAfternoon Sundays\, 4:00-6:30 Pm
URL:https://lake-sunapee-living.com/event/josa-jazz-at-the-center-at-eastman-greg-abate/
LOCATION:The Center At Eastman\, 6 Clubhouse Lane\, Grantham\, NH\, 03753\, United States
CATEGORIES:Live Music
END:VEVENT
BEGIN:VEVENT
DTSTART;TZID=America/New_York:20251221T160000
DTEND;TZID=America/New_York:20251221T183000
DTSTAMP:20260425T230950
CREATED:20251123T125118Z
LAST-MODIFIED:20251123T125118Z
UID:10004626-1766332800-1766341800@lake-sunapee-living.com
SUMMARY:JOSA Jazz at the Center At Eastman - Cinnamon Blomquist
DESCRIPTION:Cinnamon Blomquist Outstanding Jazz Flutist \nJOSA Jazz On A Sunday Afternoon\nThe Center At Eastman\n2025-2026 Winter Season\nAfternoon Sundays\, 4:00-6:30 Pm
URL:https://lake-sunapee-living.com/event/josa-jazz-at-the-center-at-eastman-cinnamon-blomquist/
LOCATION:The Center At Eastman\, 6 Clubhouse Lane\, Grantham\, NH\, 03753\, United States
CATEGORIES:Live Music
END:VEVENT
BEGIN:VEVENT
DTSTART;TZID=America/New_York:20251228T130000
DTEND;TZID=America/New_York:20251228T150000
DTSTAMP:20260425T230950
CREATED:20251226T115029Z
LAST-MODIFIED:20251226T115029Z
UID:10004636-1766926800-1766934000@lake-sunapee-living.com
SUMMARY:Live Music Brunch at the Blue Canoe: Adam McMahon Trio
DESCRIPTION:Adam McMahon is a blues\, country\, rock specialist who has been entertaining Upper Valley restaurants\, pubs\, weddings and festivals for a decade.
URL:https://lake-sunapee-living.com/event/live-music-brunch-at-the-blue-canoe-adam-mcmahon-trio/
LOCATION:Blue Canoe\, 71 Main St\, Sunapee\, NH\, 03782\, United States
CATEGORIES:Live Music
END:VEVENT
BEGIN:VEVENT
DTSTART;TZID=America/New_York:20260104T160000
DTEND;TZID=America/New_York:20260104T183000
DTSTAMP:20260425T230950
CREATED:20251123T125252Z
LAST-MODIFIED:20251123T125252Z
UID:10004627-1767542400-1767551400@lake-sunapee-living.com
SUMMARY:JOSA Jazz at the Center at Eastman - Donna Byrne
DESCRIPTION:Donna Byrne Jazz Vocalist Extraordinaire \nJOSA Jazz On A Sunday Afternoon\nThe Center at Eastman\n2025-2026 Winter Season\nAfternoon Sundays\, 4:00-6:30 Pm
URL:https://lake-sunapee-living.com/event/josa-jazz-at-the-center-at-eastman-donna-byrne/
LOCATION:The Center At Eastman\, 6 Clubhouse Lane\, Grantham\, NH\, 03753\, United States
CATEGORIES:Live Music
END:VEVENT
BEGIN:VEVENT
DTSTART;TZID=America/New_York:20260118T160000
DTEND;TZID=America/New_York:20260118T183000
DTSTAMP:20260425T230950
CREATED:20251123T125512Z
LAST-MODIFIED:20251123T125512Z
UID:10004628-1768752000-1768761000@lake-sunapee-living.com
SUMMARY:JOSA Jazz at the Center at Eastman - Diamond Centofanti
DESCRIPTION:Diamond Centofanti Woodwind Jazz Instrumentalist \nJOSA Jazz On A Sunday Afternoon\nThe Center at Eastman\n2025-2026 Winter Season\nAfternoon Sundays\, 4:00-6:30 Pm
URL:https://lake-sunapee-living.com/event/josa-jazz-at-the-center-at-eastman-diamond-centofanti/
LOCATION:The Center At Eastman\, 6 Clubhouse Lane\, Grantham\, NH\, 03753\, United States
CATEGORIES:Live Music
END:VEVENT
BEGIN:VEVENT
DTSTART;TZID=America/New_York:20260201T160000
DTEND;TZID=America/New_York:20260201T183000
DTSTAMP:20260425T230950
CREATED:20251123T125644Z
LAST-MODIFIED:20251123T125644Z
UID:10004629-1769961600-1769970600@lake-sunapee-living.com
SUMMARY:JOSA Jazz at the Center at Eastman - Cercie Miller & Dominique Eade
DESCRIPTION:Cercie Miller & Dominique Eade Renowned Jazz Saxophonist & Vocalist \nJOSA Jazz On A Sunday Afternoon\nThe Center at Eastman\n2025-2026 Winter Season\nAfternoon Sundays\, 4:00-6:30 Pm
URL:https://lake-sunapee-living.com/event/josa-jazz-at-the-center-at-eastman-cercie-miller-dominique-eade/
LOCATION:The Center At Eastman\, 6 Clubhouse Lane\, Grantham\, NH\, 03753\, United States
CATEGORIES:Live Music
END:VEVENT
BEGIN:VEVENT
DTSTART;TZID=America/New_York:20260215T160000
DTEND;TZID=America/New_York:20260215T183000
DTSTAMP:20260425T230950
CREATED:20251123T125827Z
LAST-MODIFIED:20251123T125827Z
UID:10004630-1771171200-1771180200@lake-sunapee-living.com
SUMMARY:JOSA Jazz at the Center at Eastman - Jason Palmer
DESCRIPTION:Jason Palmer Jazz Trumpet Extraordinaire \nJOSA Jazz On A Sunday Afternoon\nThe Center at Eastman\n2025-2026 Winter Season\nAfternoon Sundays\, 4:00-6:30 Pm
URL:https://lake-sunapee-living.com/event/josa-jazz-at-the-center-at-eastman-jason-palmer/
LOCATION:The Center At Eastman\, 6 Clubhouse Lane\, Grantham\, NH\, 03753\, United States
CATEGORIES:Live Music
END:VEVENT
BEGIN:VEVENT
DTSTART;TZID=America/New_York:20260301T160000
DTEND;TZID=America/New_York:20260301T183000
DTSTAMP:20260425T230950
CREATED:20251123T125915Z
LAST-MODIFIED:20251123T125915Z
UID:10004631-1772380800-1772389800@lake-sunapee-living.com
SUMMARY:JOSA Jazz at the Center at Eastman - Christine Fawson
DESCRIPTION:Christine Fawson One-of-a Kind Trumpeter & Vocalist \nJOSA Jazz On A Sunday Afternoon\nThe Center at Eastman\n2025-2026 Winter Season\nAfternoon Sundays\, 4:00-6:30 Pm
URL:https://lake-sunapee-living.com/event/josa-jazz-at-the-center-at-eastman-christine-fawson/
LOCATION:The Center At Eastman\, 6 Clubhouse Lane\, Grantham\, NH\, 03753\, United States
CATEGORIES:Live Music
END:VEVENT
BEGIN:VEVENT
DTSTART;TZID=America/New_York:20260315T160000
DTEND;TZID=America/New_York:20260315T183000
DTSTAMP:20260425T230950
CREATED:20251123T130023Z
LAST-MODIFIED:20251123T130023Z
UID:10004632-1773590400-1773599400@lake-sunapee-living.com
SUMMARY:JOSA Jazz at the Center at Eastman - Shawnn Monteiro
DESCRIPTION:Shawnn Monteiro International Jazz Vocalist \nJOSA Jazz On A Sunday Afternoon\nThe Center at Eastman\n2025-2026 Winter Season\nAfternoon Sundays\, 4:00-6:30 Pm
URL:https://lake-sunapee-living.com/event/josa-jazz-at-the-center-at-eastman-shawnn-monteiro/
LOCATION:The Center At Eastman\, 6 Clubhouse Lane\, Grantham\, NH\, 03753\, United States
CATEGORIES:Live Music
END:VEVENT
BEGIN:VEVENT
DTSTART;TZID=America/New_York:20260329T160000
DTEND;TZID=America/New_York:20260329T183000
DTSTAMP:20260425T230950
CREATED:20251123T130138Z
LAST-MODIFIED:20251123T130138Z
UID:10004633-1774800000-1774809000@lake-sunapee-living.com
SUMMARY:JOSA Jazz at the Center at Eastman - Stan Strickland
DESCRIPTION:Stan Strickland Renowned Singer\, Saxophonist\, & Performer \nJOSA Jazz On A Sunday Afternoon\nThe Center at Eastman\n2025-2026 Winter Season\nAfternoon Sundays\, 4:00-6:30 Pm
URL:https://lake-sunapee-living.com/event/josa-jazz-at-the-center-at-eastman-stan-strickland/
LOCATION:The Center At Eastman\, 6 Clubhouse Lane\, Grantham\, NH\, 03753\, United States
CATEGORIES:Live Music
END:VEVENT
END:VCALENDAR