BEGIN:VCALENDAR
VERSION:2.0
PRODID:-//Lake Sunapee Living - ECPv6.15.13//NONSGML v1.0//EN
CALSCALE:GREGORIAN
METHOD:PUBLISH
X-WR-CALNAME:Lake Sunapee Living
X-ORIGINAL-URL:https://lake-sunapee-living.com
X-WR-CALDESC:Events for Lake Sunapee Living
REFRESH-INTERVAL;VALUE=DURATION:PT1H
X-Robots-Tag:noindex
X-PUBLISHED-TTL:PT1H
BEGIN:VTIMEZONE
TZID:America/New_York
BEGIN:DAYLIGHT
TZOFFSETFROM:-0500
TZOFFSETTO:-0400
TZNAME:EDT
DTSTART:20170312T070000
END:DAYLIGHT
BEGIN:STANDARD
TZOFFSETFROM:-0400
TZOFFSETTO:-0500
TZNAME:EST
DTSTART:20171105T060000
END:STANDARD
BEGIN:DAYLIGHT
TZOFFSETFROM:-0500
TZOFFSETTO:-0400
TZNAME:EDT
DTSTART:20180311T070000
END:DAYLIGHT
BEGIN:STANDARD
TZOFFSETFROM:-0400
TZOFFSETTO:-0500
TZNAME:EST
DTSTART:20181104T060000
END:STANDARD
BEGIN:DAYLIGHT
TZOFFSETFROM:-0500
TZOFFSETTO:-0400
TZNAME:EDT
DTSTART:20190310T070000
END:DAYLIGHT
BEGIN:STANDARD
TZOFFSETFROM:-0400
TZOFFSETTO:-0500
TZNAME:EST
DTSTART:20191103T060000
END:STANDARD
END:VTIMEZONE
BEGIN:VEVENT
DTSTART;TZID=America/New_York:20180727T210000
DTEND;TZID=America/New_York:20180727T233000
DTSTAMP:20260425T081857
CREATED:20180725T005845Z
LAST-MODIFIED:20180725T005845Z
UID:10000225-1532725200-1532734200@lake-sunapee-living.com
SUMMARY:Newport's Got Talent Karaoke Finals
DESCRIPTION:NEWPORT’S GOT TALENT–Karaoke Finals!\nJuly 27\, 2018 @ 9:00 pm – 12:00 am\nSalt Hill Pub – Newport\, 58 Main St\, Newport \nJoin us for Newport’s Got Talent every Friday in July \nCome down and wow our 3 judges\, sway the crowd to your side for extra points\, and compete for fun prizes! Join us for one night or all four\, the finals will be on July 27th and the winner takes home a $100 Salt hill Pub Gift Card. \n9pm 21+ ID Required. No Cover. \nPlease call (603) 863-7774 for info.
URL:https://lake-sunapee-living.com/event/newports-got-talent-karaoke-finals/
LOCATION:Salt Hill Pub Newport\, 58 Main Street\, Newport\, NH\, 03773\, United States
CATEGORIES:Karaoke
GEO:43.3634884;-72.1721101
X-APPLE-STRUCTURED-LOCATION;VALUE=URI;X-ADDRESS=Salt Hill Pub Newport 58 Main Street Newport NH 03773 United States;X-APPLE-RADIUS=500;X-TITLE=58 Main Street:geo:-72.1721101,43.3634884
END:VEVENT
END:VCALENDAR