BEGIN:VCALENDAR
VERSION:2.0
PRODID:-//Lake Sunapee Living - ECPv6.15.13//NONSGML v1.0//EN
CALSCALE:GREGORIAN
METHOD:PUBLISH
X-WR-CALNAME:Lake Sunapee Living
X-ORIGINAL-URL:https://lake-sunapee-living.com
X-WR-CALDESC:Events for Lake Sunapee Living
REFRESH-INTERVAL;VALUE=DURATION:PT1H
X-Robots-Tag:noindex
X-PUBLISHED-TTL:PT1H
BEGIN:VTIMEZONE
TZID:America/New_York
BEGIN:DAYLIGHT
TZOFFSETFROM:-0500
TZOFFSETTO:-0400
TZNAME:EDT
DTSTART:20170312T070000
END:DAYLIGHT
BEGIN:STANDARD
TZOFFSETFROM:-0400
TZOFFSETTO:-0500
TZNAME:EST
DTSTART:20171105T060000
END:STANDARD
BEGIN:DAYLIGHT
TZOFFSETFROM:-0500
TZOFFSETTO:-0400
TZNAME:EDT
DTSTART:20180311T070000
END:DAYLIGHT
BEGIN:STANDARD
TZOFFSETFROM:-0400
TZOFFSETTO:-0500
TZNAME:EST
DTSTART:20181104T060000
END:STANDARD
BEGIN:DAYLIGHT
TZOFFSETFROM:-0500
TZOFFSETTO:-0400
TZNAME:EDT
DTSTART:20190310T070000
END:DAYLIGHT
BEGIN:STANDARD
TZOFFSETFROM:-0400
TZOFFSETTO:-0500
TZNAME:EST
DTSTART:20191103T060000
END:STANDARD
END:VTIMEZONE
BEGIN:VEVENT
DTSTART;TZID=America/New_York:20180630T080000
DTEND;TZID=America/New_York:20180630T210000
DTSTAMP:20260424T214621
CREATED:20180609T161337Z
LAST-MODIFIED:20180609T161818Z
UID:10000471-1530345600-1530392400@lake-sunapee-living.com
SUMMARY:Bradford Independence Day Celebration at the Kearsarge Food Hub
DESCRIPTION:Hosted by Kearsarge Food Hub \nBradford is the place to be for your Independence Day celebrations! Join us at the old Bradford Inn on 11 West Main for live music\, a local art fair\, and tasty food! \nThe music schedule is as follows:\nOdds Bodkin: 10am-Noon\nKathy Lowe: Noon-2pm\nSecond Time Around (German Johns new project): 2pm-4pm:\nThe DoBros: 7pm-9pm ** \nEnjoy some home cookin’ featuring (of course) fresh ingredients from our valued local growers and producers. \nFeast your eyes on beautiful and inspired work by local artists at our art fair. \nTake this opportunity to come see the progress we’ve been making at the old Bradford Inn! Come see the fresh market redesign at Sweet Beet Market. Get a sneak peak into other community organization and emerging businesses\, including:\nThe Village Café\, Bradford NH\nWarner Public Market\nBradford Center Meetinghouse \nThis event is free and open to the public! We encourage you to bring your friends and family to come celebrate with us. There is much to be grateful for! \n**NOTE: Music ends at 4pm so folks can head to Brown Shattuck field on the other end of town for their usual July 4th festivities. We encourage you to check that out\, then head back to West Main Street for the DoBros at 7pm! \n 
URL:https://lake-sunapee-living.com/event/bradford-independence-day-celebration/
LOCATION:Old Bradford Inn\, 11 West Main St.\, Bradford\, NH\, 03221\, United States
CATEGORIES:Independence Day
GEO:43.2697322;-71.9665766
X-APPLE-STRUCTURED-LOCATION;VALUE=URI;X-ADDRESS=Old Bradford Inn 11 West Main St. Bradford NH 03221 United States;X-APPLE-RADIUS=500;X-TITLE=11 West Main St.:geo:-71.9665766,43.2697322
END:VEVENT
END:VCALENDAR