BEGIN:VCALENDAR
VERSION:2.0
PRODID:-//Lake Sunapee Living - ECPv6.15.13//NONSGML v1.0//EN
CALSCALE:GREGORIAN
METHOD:PUBLISH
X-ORIGINAL-URL:https://lake-sunapee-living.com
X-WR-CALDESC:Events for Lake Sunapee Living
REFRESH-INTERVAL;VALUE=DURATION:PT1H
X-Robots-Tag:noindex
X-PUBLISHED-TTL:PT1H
BEGIN:VTIMEZONE
TZID:America/New_York
BEGIN:DAYLIGHT
TZOFFSETFROM:-0500
TZOFFSETTO:-0400
TZNAME:EDT
DTSTART:20170312T070000
END:DAYLIGHT
BEGIN:STANDARD
TZOFFSETFROM:-0400
TZOFFSETTO:-0500
TZNAME:EST
DTSTART:20171105T060000
END:STANDARD
BEGIN:DAYLIGHT
TZOFFSETFROM:-0500
TZOFFSETTO:-0400
TZNAME:EDT
DTSTART:20180311T070000
END:DAYLIGHT
BEGIN:STANDARD
TZOFFSETFROM:-0400
TZOFFSETTO:-0500
TZNAME:EST
DTSTART:20181104T060000
END:STANDARD
BEGIN:DAYLIGHT
TZOFFSETFROM:-0500
TZOFFSETTO:-0400
TZNAME:EDT
DTSTART:20190310T070000
END:DAYLIGHT
BEGIN:STANDARD
TZOFFSETFROM:-0400
TZOFFSETTO:-0500
TZNAME:EST
DTSTART:20191103T060000
END:STANDARD
BEGIN:DAYLIGHT
TZOFFSETFROM:-0500
TZOFFSETTO:-0400
TZNAME:EDT
DTSTART:20200308T070000
END:DAYLIGHT
BEGIN:STANDARD
TZOFFSETFROM:-0400
TZOFFSETTO:-0500
TZNAME:EST
DTSTART:20201101T060000
END:STANDARD
BEGIN:DAYLIGHT
TZOFFSETFROM:-0500
TZOFFSETTO:-0400
TZNAME:EDT
DTSTART:20210314T070000
END:DAYLIGHT
BEGIN:STANDARD
TZOFFSETFROM:-0400
TZOFFSETTO:-0500
TZNAME:EST
DTSTART:20211107T060000
END:STANDARD
BEGIN:DAYLIGHT
TZOFFSETFROM:-0500
TZOFFSETTO:-0400
TZNAME:EDT
DTSTART:20220313T070000
END:DAYLIGHT
BEGIN:STANDARD
TZOFFSETFROM:-0400
TZOFFSETTO:-0500
TZNAME:EST
DTSTART:20221106T060000
END:STANDARD
BEGIN:DAYLIGHT
TZOFFSETFROM:-0500
TZOFFSETTO:-0400
TZNAME:EDT
DTSTART:20230312T070000
END:DAYLIGHT
BEGIN:STANDARD
TZOFFSETFROM:-0400
TZOFFSETTO:-0500
TZNAME:EST
DTSTART:20231105T060000
END:STANDARD
BEGIN:DAYLIGHT
TZOFFSETFROM:-0500
TZOFFSETTO:-0400
TZNAME:EDT
DTSTART:20240310T070000
END:DAYLIGHT
BEGIN:STANDARD
TZOFFSETFROM:-0400
TZOFFSETTO:-0500
TZNAME:EST
DTSTART:20241103T060000
END:STANDARD
END:VTIMEZONE
BEGIN:VEVENT
DTSTART;TZID=America/New_York:20231029T160000
DTEND;TZID=America/New_York:20231029T170000
DTSTAMP:20260424T164204
CREATED:20230703T122059Z
LAST-MODIFIED:20230703T122305Z
UID:10004168-1698595200-1698598800@lake-sunapee-living.com
SUMMARY:Trunk or Treat at the Olive G Pettis Library
DESCRIPTION:
URL:https://lake-sunapee-living.com/event/trunk-or-treat-at-the-olive-g-pettis-library/
LOCATION:Olive Pettis Memorial Library\, 36 Mill Village Rd\, Goshen\, NH\, 03752\, United States
CATEGORIES:Halloween
GEO:43.3020714;-72.1491336
X-APPLE-STRUCTURED-LOCATION;VALUE=URI;X-ADDRESS=Olive Pettis Memorial Library 36 Mill Village Rd Goshen NH 03752 United States;X-APPLE-RADIUS=500;X-TITLE=36 Mill Village Rd:geo:-72.1491336,43.3020714
END:VEVENT
BEGIN:VEVENT
DTSTART;TZID=America/New_York:20211029T180000
DTEND;TZID=America/New_York:20211029T220000
DTSTAMP:20260424T164204
CREATED:20211022T232348Z
LAST-MODIFIED:20211022T232813Z
UID:10004081-1635530400-1635544800@lake-sunapee-living.com
SUMMARY:The Anchorage Halloween Costume Party Featuring Chris Powers
DESCRIPTION:JOIN US IF YOU DARE – HALLOWEEN Costume Party\nThe Anchorage at Sunapee Harbor\, Sunapee NH\nLive music – Drink Specials-Prizes\nFeaturing: CHRIS POWERS\nCall: 603-763-3334 to make reservations
URL:https://lake-sunapee-living.com/event/the-anchorage-halloween-costume-party-featuring-chris-powers/
LOCATION:The Anchorage\, 71 Main St\, Sunapee\, NH\, 03782\, United States
CATEGORIES:Halloween
GEO:43.385932;-72.081281
X-APPLE-STRUCTURED-LOCATION;VALUE=URI;X-ADDRESS=The Anchorage 71 Main St Sunapee NH 03782 United States;X-APPLE-RADIUS=500;X-TITLE=71 Main St:geo:-72.081281,43.385932
END:VEVENT
BEGIN:VEVENT
DTSTART;TZID=America/New_York:20201024T170000
DTEND;TZID=America/New_York:20201024T193000
DTSTAMP:20260424T164204
CREATED:20201023T004648Z
LAST-MODIFIED:20201023T004712Z
UID:10003983-1603558800-1603567800@lake-sunapee-living.com
SUMMARY:Haunted Harbor Halloween
DESCRIPTION:Sinister Spirits will concur up a Magical\, Frightful Night of Trunk & Treats\, Fortune Teller\, Games\, Haunted Pirate Ship & much more. \nFree event for all ages in Sunapee Harbor. \n 
URL:https://lake-sunapee-living.com/event/haunted-harbor-halloween/
LOCATION:Sunapee Harbor\, 67 Main Street\, Sunapee\, NH\, 03782\, United States
CATEGORIES:Halloween
GEO:43.3856379;-72.0816099
X-APPLE-STRUCTURED-LOCATION;VALUE=URI;X-ADDRESS=Sunapee Harbor 67 Main Street Sunapee NH 03782 United States;X-APPLE-RADIUS=500;X-TITLE=67 Main Street:geo:-72.0816099,43.3856379
END:VEVENT
BEGIN:VEVENT
DTSTART;TZID=America/New_York:20191031T170000
DTEND;TZID=America/New_York:20191031T200000
DTSTAMP:20260424T164204
CREATED:20191006T230537Z
LAST-MODIFIED:20191006T230537Z
UID:10003850-1572541200-1572552000@lake-sunapee-living.com
SUMMARY:New London Haunted Walk
DESCRIPTION:New London Recreation & The Colby-Sawyer College “Players” invite you to join us with our annual Haunted Walk. This year it will be held at the Springledge farm stand located at 37 Main st.\n5-6pm – Candy walk for little kids!\n6:30-8pm Scary Scary for all ages! \ndonations accepted: !00% benefits the CSC Players fund.\n** Parking** – Main st will be blocked off starting at 5pm\, so please park on Cougar ct and plan to walk a short distance.
URL:https://lake-sunapee-living.com/event/new-london-haunted-walk/
LOCATION:Spring Ledge Farm\, 37 Main St\, New London\, NH\, 03257\, United States
CATEGORIES:Halloween
GEO:43.437569;-72.011322
X-APPLE-STRUCTURED-LOCATION;VALUE=URI;X-ADDRESS=Spring Ledge Farm 37 Main St New London NH 03257 United States;X-APPLE-RADIUS=500;X-TITLE=37 Main St:geo:-72.011322,43.437569
END:VEVENT
BEGIN:VEVENT
DTSTART;TZID=America/New_York:20191026T170000
DTEND;TZID=America/New_York:20191026T193000
DTSTAMP:20260424T164204
CREATED:20190925T000825Z
LAST-MODIFIED:20190925T000825Z
UID:10003847-1572109200-1572118200@lake-sunapee-living.com
SUMMARY:Sunapee Harbor Haunted Halloween
DESCRIPTION:Save the date!  If you are interested in volunteering at the event\, email info@projectsunapee.org.
URL:https://lake-sunapee-living.com/event/sunapee-harbor-haunted-halloween/
LOCATION:Sunapee Harbor\, 67 Main Street\, Sunapee\, NH\, 03782\, United States
CATEGORIES:Halloween
GEO:43.3856379;-72.0816099
X-APPLE-STRUCTURED-LOCATION;VALUE=URI;X-ADDRESS=Sunapee Harbor 67 Main Street Sunapee NH 03782 United States;X-APPLE-RADIUS=500;X-TITLE=67 Main Street:geo:-72.0816099,43.3856379
END:VEVENT
BEGIN:VEVENT
DTSTART;TZID=America/New_York:20181027T163000
DTEND;TZID=America/New_York:20181027T200000
DTSTAMP:20260424T164204
CREATED:20180606T002639Z
LAST-MODIFIED:20180606T002927Z
UID:10000130-1540657800-1540670400@lake-sunapee-living.com
SUMMARY:Haunted Halloween in Sunapee Harbor
DESCRIPTION:Sunapee Harbor is the place to be for a Magical Frightful Halloween Night!  \nThe Pirate Ship will be back at the dock!  \n“Rag-a-Muffin Parade” – Ghostly Games – Tailgate “Trickor-Treating” – Teller of Fortunes – Sinister Graveyard Spirits – Spooky Surprises for all ages.  \nwww.projectsunapee.org
URL:https://lake-sunapee-living.com/event/haunted-halloween-in-sunapee-harbor/
LOCATION:Sunapee Harbor\, 67 Main Street\, Sunapee\, NH\, 03782\, United States
CATEGORIES:Halloween
GEO:43.3856379;-72.0816099
X-APPLE-STRUCTURED-LOCATION;VALUE=URI;X-ADDRESS=Sunapee Harbor 67 Main Street Sunapee NH 03782 United States;X-APPLE-RADIUS=500;X-TITLE=67 Main Street:geo:-72.0816099,43.3856379
END:VEVENT
BEGIN:VEVENT
DTSTART;TZID=America/New_York:20181020T103000
DTEND;TZID=America/New_York:20181020T120000
DTSTAMP:20260424T164205
CREATED:20181017T004828Z
LAST-MODIFIED:20181017T004828Z
UID:10003597-1540031400-1540036800@lake-sunapee-living.com
SUMMARY:Annual Scarecrow Build at the Olive Pettis Memorial Library
DESCRIPTION:For more info call 863-6921 \nRain or shine
URL:https://lake-sunapee-living.com/event/annual-scarecrow-build-at-the-olive-pettis-memorial-library/
LOCATION:Goshen Town Hall\, 54 Mill Vilage Rd\, Goshen\, NH\, 03752\, United States
CATEGORIES:Halloween
GEO:43.3022926;-72.1494048
X-APPLE-STRUCTURED-LOCATION;VALUE=URI;X-ADDRESS=Goshen Town Hall 54 Mill Vilage Rd Goshen NH 03752 United States;X-APPLE-RADIUS=500;X-TITLE=54 Mill Vilage Rd:geo:-72.1494048,43.3022926
END:VEVENT
END:VCALENDAR