BEGIN:VCALENDAR
VERSION:2.0
PRODID:-//Lake Sunapee Living - ECPv6.15.13//NONSGML v1.0//EN
CALSCALE:GREGORIAN
METHOD:PUBLISH
X-ORIGINAL-URL:https://lake-sunapee-living.com
X-WR-CALDESC:Events for Lake Sunapee Living
REFRESH-INTERVAL;VALUE=DURATION:PT1H
X-Robots-Tag:noindex
X-PUBLISHED-TTL:PT1H
BEGIN:VTIMEZONE
TZID:America/New_York
BEGIN:DAYLIGHT
TZOFFSETFROM:-0500
TZOFFSETTO:-0400
TZNAME:EDT
DTSTART:20170312T070000
END:DAYLIGHT
BEGIN:STANDARD
TZOFFSETFROM:-0400
TZOFFSETTO:-0500
TZNAME:EST
DTSTART:20171105T060000
END:STANDARD
BEGIN:DAYLIGHT
TZOFFSETFROM:-0500
TZOFFSETTO:-0400
TZNAME:EDT
DTSTART:20180311T070000
END:DAYLIGHT
BEGIN:STANDARD
TZOFFSETFROM:-0400
TZOFFSETTO:-0500
TZNAME:EST
DTSTART:20181104T060000
END:STANDARD
BEGIN:DAYLIGHT
TZOFFSETFROM:-0500
TZOFFSETTO:-0400
TZNAME:EDT
DTSTART:20190310T070000
END:DAYLIGHT
BEGIN:STANDARD
TZOFFSETFROM:-0400
TZOFFSETTO:-0500
TZNAME:EST
DTSTART:20191103T060000
END:STANDARD
END:VTIMEZONE
BEGIN:VEVENT
DTSTART;TZID=America/New_York:20180714T080000
DTEND;TZID=America/New_York:20180714T170000
DTSTAMP:20260424T175212
CREATED:20180610T035332Z
LAST-MODIFIED:20180610T035332Z
UID:10000472-1531555200-1531587600@lake-sunapee-living.com
SUMMARY:Summer Hike on the SRK Greenway: Up to the Eagles Nest
DESCRIPTION:Hike up to the Eagles Nest in Newbury Harbor on SRKG Trail #1. \nJoin Nathan Richer on this Moderate 1-mile hike as part of the Newbury Old Home Day Celebrations. \nParking is at the Newbury Post Office. \nFor more info contact Nathan at 603-344-0287. \nBe sure to contact the trip leader at least one day in advance to register your interest and get the details on meeting place and time. \nAlways carry a substantial supply of water\, a snack\, and layers of clothing to prepare for possible weather conditions.
URL:https://lake-sunapee-living.com/event/summer-hike-on-the-srk-greenway-up-to-the-eagles-nest/
LOCATION:Newbury Post Office\, 976 NH-103\, Newbury\, NH\, 03255\, United States
CATEGORIES:Guided Hike
GEO:43.3215137;-72.0377888
X-APPLE-STRUCTURED-LOCATION;VALUE=URI;X-ADDRESS=Newbury Post Office 976 NH-103 Newbury NH 03255 United States;X-APPLE-RADIUS=500;X-TITLE=976 NH-103:geo:-72.0377888,43.3215137
END:VEVENT
BEGIN:VEVENT
DTSTART;TZID=America/New_York:20180707T080000
DTEND;TZID=America/New_York:20180707T170000
DTSTAMP:20260424T175212
CREATED:20180609T140123Z
LAST-MODIFIED:20180609T140123Z
UID:10000470-1530950400-1530982800@lake-sunapee-living.com
SUMMARY:Summer Hike on the SRK Greenway: Winslow State Park
DESCRIPTION:Andover Hike up to Winslow State Park — This is a beautiful hike up from Proctor Academy following some great old roads that lead up to the Winslow State Park. \nExpect about 6 miles of moderate uphill hiking on trail #10 of SRK Greenway. \nFor more information please contact Anne Hewitt 603-848-5762.
URL:https://lake-sunapee-living.com/event/summer-hike-on-the-srk-greenway-winslow-state-park/
LOCATION:Winslow State Park\, 475 Kearsarge Mountain Rd.\, Wilmot\, NH\, 03287\, United States
CATEGORIES:Guided Hike
GEO:43.3900117;-71.8680361
X-APPLE-STRUCTURED-LOCATION;VALUE=URI;X-ADDRESS=Winslow State Park 475 Kearsarge Mountain Rd. Wilmot NH 03287 United States;X-APPLE-RADIUS=500;X-TITLE=475 Kearsarge Mountain Rd.:geo:-71.8680361,43.3900117
END:VEVENT
BEGIN:VEVENT
DTSTART;TZID=America/New_York:20180706T130000
DTEND;TZID=America/New_York:20180706T170000
DTSTAMP:20260424T175212
CREATED:20180609T133220Z
LAST-MODIFIED:20180609T133220Z
UID:10000466-1530882000-1530896400@lake-sunapee-living.com
SUMMARY:The Fells: Natural Lakeshore Habitat - A Closer Look
DESCRIPTION:Come learn about the wonderful natural world that exists where the water meets the land. \nThis joint Fells-LSPA program will explore this ecotone\, or transitional meeting of two different natural communities. \nWhat are the plant and animal species that inhabit this zone? What special relationships exist here? What does a healthy lakeshore habitat look like? \nThis program\, designed for upper elementary school-age through adults\, begins with a presentation in the John Hay Classroom in the Gatehouse\, followed by an easy hike along the shore of Lake Sunapee.
URL:https://lake-sunapee-living.com/event/the-fells-natural-lakeshore-habitat-a-closer-look/
LOCATION:The Fells\, 456 Route 103A\, Newbury\, 03255\, United States
CATEGORIES:Guided Hike
GEO:43.3526822;-72.0460611
X-APPLE-STRUCTURED-LOCATION;VALUE=URI;X-ADDRESS=The Fells 456 Route 103A Newbury 03255 United States;X-APPLE-RADIUS=500;X-TITLE=456 Route 103A:geo:-72.0460611,43.3526822
END:VEVENT
BEGIN:VEVENT
DTSTART;TZID=America/New_York:20180705T110000
DTEND;TZID=America/New_York:20180705T170000
DTSTAMP:20260424T175212
CREATED:20180609T132847Z
LAST-MODIFIED:20180609T132908Z
UID:10000464-1530788400-1530810000@lake-sunapee-living.com
SUMMARY:First Thursday Sculpture Hike at The Fells
DESCRIPTION:Join Curator Janet Miller Haines for a moderate\, one-hour hike as you tour the new contemporary sculpture exhibit set amid the beautiful gardens and landscape of The Fells. \nGet a little exercise\, spend time out in the landscape \, and learn about the various artists and their work. \nMembers: free\, nonmembers: included with regular site admission fee. \nNo reservations necessary.
URL:https://lake-sunapee-living.com/event/the-fells-first-thursday-sculpture-hike-at-the-fells/
LOCATION:The Fells\, 456 Route 103A\, Newbury\, 03255\, United States
CATEGORIES:Guided Hike
GEO:43.3526822;-72.0460611
X-APPLE-STRUCTURED-LOCATION;VALUE=URI;X-ADDRESS=The Fells 456 Route 103A Newbury 03255 United States;X-APPLE-RADIUS=500;X-TITLE=456 Route 103A:geo:-72.0460611,43.3526822
END:VEVENT
BEGIN:VEVENT
DTSTART;TZID=America/New_York:20180621T160000
DTEND;TZID=America/New_York:20180621T180000
DTSTAMP:20260424T175212
CREATED:20180609T131856Z
LAST-MODIFIED:20180609T131856Z
UID:10000460-1529596800-1529604000@lake-sunapee-living.com
SUMMARY:Hidden History of The Fells: Returning to the Source of the Brook
DESCRIPTION:Naturalist\, John Hay was fond of hiking in the forests of New Hampshire. \nHis book\, In The Company of Light\, retraces a hike to reach the hidden headwaters of Beech Brook\, the water supply for his boyhood home at The Fells. \nJoin Forest Society Education Director\, Dave Anderson\, for a spectacular summer evening hike to reach the source of Beech Brook.
URL:https://lake-sunapee-living.com/event/hidden-history-of-the-fells-returning-to-the-source-of-the-brook/
LOCATION:The Fells\, 456 Route 103A\, Newbury\, 03255\, United States
CATEGORIES:Guided Hike
GEO:43.3526822;-72.0460611
X-APPLE-STRUCTURED-LOCATION;VALUE=URI;X-ADDRESS=The Fells 456 Route 103A Newbury 03255 United States;X-APPLE-RADIUS=500;X-TITLE=456 Route 103A:geo:-72.0460611,43.3526822
END:VEVENT
BEGIN:VEVENT
DTSTART;TZID=America/New_York:20180616T080000
DTEND;TZID=America/New_York:20180616T170000
DTSTAMP:20260424T175212
CREATED:20180609T135117Z
LAST-MODIFIED:20180609T135830Z
UID:10000469-1529136000-1529168400@lake-sunapee-living.com
SUMMARY:Summer Hike on the SRK Greenway: Wadleigh State Park
DESCRIPTION:Join this fun\, Summer Hike from Baker Hill in Newbury to King Hill in Sutton and down to Wadleigh State Park on Kezar Lake. \nThis will be a fun family hike that will be a moderate 4+ miles. \nPossible swim and picnic at Wadleigh Park depending upon weather. \nFor more information contact Dave Gardner 927-4033. \nBe sure to contact the trip leader at least one day in advance to register your interest and get the details on meeting place and time. \nAlways carry a substantial supply of water\, a snack\, and layers of clothing to prepare for possible weather conditions.
URL:https://lake-sunapee-living.com/event/summer-hike-on-the-srk-greenway/
LOCATION:Baker Hill Road\, Baker Hill Road\, Newbury\, NH\, 03255\, United States
CATEGORIES:Guided Hike
GEO:43.3564106;-71.9958839
X-APPLE-STRUCTURED-LOCATION;VALUE=URI;X-ADDRESS=Baker Hill Road Baker Hill Road Newbury NH 03255 United States;X-APPLE-RADIUS=500;X-TITLE=Baker Hill Road:geo:-71.9958839,43.3564106
END:VEVENT
BEGIN:VEVENT
DTSTART;TZID=America/New_York:20180614T153000
DTEND;TZID=America/New_York:20180614T170000
DTSTAMP:20260424T175212
CREATED:20180609T130819Z
LAST-MODIFIED:20180609T130819Z
UID:10000458-1528990200-1528995600@lake-sunapee-living.com
SUMMARY:Hidden History of The Fells: An Easy Hike with Dave Anderson
DESCRIPTION:Get off the trail for a moderate hike with Dave Anderson to explore some of the less well known features of The Fells. \nWe’ll find evidence of the Great Hurricane of 1938\, which devastated much of New England.
URL:https://lake-sunapee-living.com/event/hidden-history-of-the-fells-an-easy-hike-with-dave-anderson/
LOCATION:The Fells\, 456 Route 103A\, Newbury\, 03255\, United States
CATEGORIES:Guided Hike
GEO:43.3526822;-72.0460611
X-APPLE-STRUCTURED-LOCATION;VALUE=URI;X-ADDRESS=The Fells 456 Route 103A Newbury 03255 United States;X-APPLE-RADIUS=500;X-TITLE=456 Route 103A:geo:-72.0460611,43.3526822
END:VEVENT
END:VCALENDAR