BEGIN:VCALENDAR
VERSION:2.0
PRODID:-//Lake Sunapee Living - ECPv6.15.13//NONSGML v1.0//EN
CALSCALE:GREGORIAN
METHOD:PUBLISH
X-ORIGINAL-URL:https://lake-sunapee-living.com
X-WR-CALDESC:Events for Lake Sunapee Living
REFRESH-INTERVAL;VALUE=DURATION:PT1H
X-Robots-Tag:noindex
X-PUBLISHED-TTL:PT1H
BEGIN:VTIMEZONE
TZID:America/New_York
BEGIN:DAYLIGHT
TZOFFSETFROM:-0500
TZOFFSETTO:-0400
TZNAME:EDT
DTSTART:20170312T070000
END:DAYLIGHT
BEGIN:STANDARD
TZOFFSETFROM:-0400
TZOFFSETTO:-0500
TZNAME:EST
DTSTART:20171105T060000
END:STANDARD
BEGIN:DAYLIGHT
TZOFFSETFROM:-0500
TZOFFSETTO:-0400
TZNAME:EDT
DTSTART:20180311T070000
END:DAYLIGHT
BEGIN:STANDARD
TZOFFSETFROM:-0400
TZOFFSETTO:-0500
TZNAME:EST
DTSTART:20181104T060000
END:STANDARD
BEGIN:DAYLIGHT
TZOFFSETFROM:-0500
TZOFFSETTO:-0400
TZNAME:EDT
DTSTART:20190310T070000
END:DAYLIGHT
BEGIN:STANDARD
TZOFFSETFROM:-0400
TZOFFSETTO:-0500
TZNAME:EST
DTSTART:20191103T060000
END:STANDARD
BEGIN:DAYLIGHT
TZOFFSETFROM:-0500
TZOFFSETTO:-0400
TZNAME:EDT
DTSTART:20200308T070000
END:DAYLIGHT
BEGIN:STANDARD
TZOFFSETFROM:-0400
TZOFFSETTO:-0500
TZNAME:EST
DTSTART:20201101T060000
END:STANDARD
END:VTIMEZONE
BEGIN:VEVENT
DTSTART;TZID=America/New_York:20180819T080000
DTEND;TZID=America/New_York:20180819T170000
DTSTAMP:20260424T175133
CREATED:20180610T041940Z
LAST-MODIFIED:20180610T041940Z
UID:10000184-1534665600-1534698000@lake-sunapee-living.com
SUMMARY:Summer Hike on the SRK Greenway: Lincoln Trail Hike
DESCRIPTION:Hike up the Lincoln Trail from the Kearsarge High School in Sutton up to the summit of Kearsarge Mountain and down to the Winslow State Park in Wilmot. \nApproximately 6 miles of Moderate/Difficult hiking with significant elevation gain. For more information contact Anne Hewitt (603) 848-5762 \nBe sure to contact the trip leader at least one day in advance to register your interest and get the details on meeting place and time. \nAlways carry a substantial supply of water\, a snack\, and layers of clothing to prepare for possible weather conditions.
URL:https://lake-sunapee-living.com/event/summer-hike-on-the-srk-greenway-lincoln-trail-hike/
LOCATION:Kearsarge High School\, 457 N Rd.\, North Sutton\, NH\, 03260\, United States
CATEGORIES:Guided Hike
GEO:43.3486989;-71.9043797
X-APPLE-STRUCTURED-LOCATION;VALUE=URI;X-ADDRESS=Kearsarge High School 457 N Rd. North Sutton NH 03260 United States;X-APPLE-RADIUS=500;X-TITLE=457 N Rd.:geo:-71.9043797,43.3486989
END:VEVENT
BEGIN:VEVENT
DTSTART;TZID=America/New_York:20181206T110000
DTEND;TZID=America/New_York:20181206T120000
DTSTAMP:20260424T175133
CREATED:20181202T152209Z
LAST-MODIFIED:20181202T152209Z
UID:10003689-1544094000-1544097600@lake-sunapee-living.com
SUMMARY:First Thursday Hike at The Fells
DESCRIPTION:Join Brick Moltz\, Education Director at The Fells\, for a one-hour hike on The Fells property.   \nThese informal\, moderate walks will be an opportunity to get a little exercise\, spend time out in the landscape\, and perhaps discover something new about the property once owned by the John Hay family.  \nMembers: free\, nonmembers: included with regular admission fee.  \nNo reservations necessary. Meet at The Fells kiosk.
URL:https://lake-sunapee-living.com/event/first-thursday-hike-at-the-fells/
LOCATION:The Fells\, 456 Route 103A\, Newbury\, 03255\, United States
CATEGORIES:Guided Hike
GEO:43.3526822;-72.0460611
X-APPLE-STRUCTURED-LOCATION;VALUE=URI;X-ADDRESS=The Fells 456 Route 103A Newbury 03255 United States;X-APPLE-RADIUS=500;X-TITLE=456 Route 103A:geo:-72.0460611,43.3526822
END:VEVENT
BEGIN:VEVENT
DTSTART;TZID=America/New_York:20190629T080000
DTEND;TZID=America/New_York:20190629T170000
DTSTAMP:20260424T175133
CREATED:20190628T011012Z
LAST-MODIFIED:20190628T011012Z
UID:10000335-1561795200-1561827600@lake-sunapee-living.com
SUMMARY:Summer Hikes on the SRK Greenway: Trail work on Webster Pass Trail
DESCRIPTION:The SRK Greenway is pleased to offer hikes this Summer on a variety of trails designed to appeal to a wide range of hikers. Be sure to contact the trip leader at least a day in advance to get the details concerning time and place to meet\, possible car drops\, and weather considerations. Always dress in layers\, bring a snack and plenty of water. \nJune 29 (Sat) Join the SRK Greenway Trail Crew for a fun day in the woods of Springfield. Hoping to tackle the Webster Pass Trail between Route 114 in Springfield and Pleasant Lake in New London. There was significant logging in this area earlier this year and the trail needs to be re-established.  For more information contact Andy Hager at 526-2846.
URL:https://lake-sunapee-living.com/event/summer-hikes-on-the-srk-greenway-trail-work-on-webster-pass-trail/
LOCATION:NH\, United States
CATEGORIES:Guided Hike
END:VEVENT
BEGIN:VEVENT
DTSTART;TZID=America/New_York:20190706T190000
DTEND;TZID=America/New_York:20190706T220000
DTSTAMP:20260424T175133
CREATED:20190628T134039Z
LAST-MODIFIED:20190628T134039Z
UID:10000336-1562439600-1562450400@lake-sunapee-living.com
SUMMARY:Summer Hikes on the SRK Greenway: Fireworks View Night Hike
DESCRIPTION:The SRK Greenway is pleased to offer hikes this Summer on a variety of trails designed to appeal to a wide range of hikers. Be sure to contact the trip leader at least a day in advance to get the details concerning time and place to meet\, possible car drops\, and weather considerations. Always dress in layers\, bring a snack and plenty of water. \nJuly 6 (Sat) The plan is for this to be a Night Hike for the entire family with the objective of getting a long distance view of the fireworks over Lake Sunapee and Pleasant Lake. Expect hiking in the dark with a headlamp on the way home. Family event. For more information contact Dave Gardner 927-4033
URL:https://lake-sunapee-living.com/event/summer-hikes-on-the-srk-greenway-fireworks-view-night-hike/
LOCATION:NH\, United States
CATEGORIES:Guided Hike
END:VEVENT
BEGIN:VEVENT
DTSTART;TZID=America/New_York:20190713T090000
DTEND;TZID=America/New_York:20190713T133000
DTSTAMP:20260424T175133
CREATED:20190628T134212Z
LAST-MODIFIED:20190628T134905Z
UID:10000337-1563008400-1563024600@lake-sunapee-living.com
SUMMARY:Summer Hikes on the SRK Greenway: The Eagles Nest in Newbury
DESCRIPTION:The SRK Greenway is pleased to offer hikes this Summer on a variety of trails designed to appeal to a wide range of hikers. Be sure to contact the trip leader at least a day in advance to get the details concerning time and place to meet\, possible car drops\, and weather considerations. Always dress in layers\, bring a snack and plenty of water. \nJuly 13 (Sat) Take a short hike up to the Eagles Nest in Newbury for a nice view of Newbury Harbor and Lake Sunapee. Part of Old Home Days celebration for Newbury\, NH. Meet at the Caboose 9am in Newbury Harbor.
URL:https://lake-sunapee-living.com/event/summer-hikes-on-the-srk-greenway-the-eagles-nest-in-newbury/
LOCATION:NH\, United States
CATEGORIES:Guided Hike
END:VEVENT
BEGIN:VEVENT
DTSTART;TZID=America/New_York:20190817T090000
DTEND;TZID=America/New_York:20190817T170000
DTSTAMP:20260424T175133
CREATED:20190628T134501Z
LAST-MODIFIED:20190628T134501Z
UID:10000334-1566032400-1566061200@lake-sunapee-living.com
SUMMARY:Summer Hikes on the SRK Greenway: Goshen Lead Mine to Lucia’s Lookout
DESCRIPTION:The SRK Greenway is pleased to offer hikes this Summer on a variety of trails designed to appeal to a wide range of hikers. Be sure to contact the trip leader at least a day in advance to get the details concerning time and place to meet\, possible car drops\, and weather considerations. Always dress in layers\, bring a snack and plenty of water. \nAugust 17 (Sat) Hike from the Goshen Lead Mine to Lucia’s Lookout. This is a great hike on Mount Sunapee on trails less traveled. Considered Difficult hiking and more than 5-miles. For more information contact Tom Lawton 477-1995
URL:https://lake-sunapee-living.com/event/summer-hikes-on-the-srk-greenway-goshen-lead-mine-to-lucias-lookout/
LOCATION:NH\, United States
CATEGORIES:Guided Hike
END:VEVENT
BEGIN:VEVENT
DTSTART;TZID=America/New_York:20190825T090000
DTEND;TZID=America/New_York:20190825T170000
DTSTAMP:20260424T175133
CREATED:20190628T134718Z
LAST-MODIFIED:20190628T134748Z
UID:10000332-1566723600-1566752400@lake-sunapee-living.com
SUMMARY:Summer Hikes on the SRK Greenway: Proctor Academy to Winslow State Park
DESCRIPTION:The SRK Greenway is pleased to offer hikes this Summer on a variety of trails designed to appeal to a wide range of hikers. Be sure to contact the trip leader at least a day in advance to get the details concerning time and place to meet\, possible car drops\, and weather considerations. Always dress in layers\, bring a snack and plenty of water. \nAugust 25 (Sun) Join Anne Hewitt and friends on the SRK Greenway Trail #10 as she hikes from Proctor Academy in Andover up to Winslow State Park on Mt Kearsarge. This is a Moderate hike of about 5 miles through some beautiful woods and old NH roads. For more information contact Anne at 848-5762
URL:https://lake-sunapee-living.com/event/summer-hikes-on-the-srk-greenway-proctor-academy-to-winslow-state-park/
LOCATION:NH\, United States
CATEGORIES:Guided Hike
END:VEVENT
END:VCALENDAR