BEGIN:VCALENDAR
VERSION:2.0
PRODID:-//Lake Sunapee Living - ECPv6.15.13//NONSGML v1.0//EN
CALSCALE:GREGORIAN
METHOD:PUBLISH
X-ORIGINAL-URL:https://lake-sunapee-living.com
X-WR-CALDESC:Events for Lake Sunapee Living
REFRESH-INTERVAL;VALUE=DURATION:PT1H
X-Robots-Tag:noindex
X-PUBLISHED-TTL:PT1H
BEGIN:VTIMEZONE
TZID:America/New_York
BEGIN:DAYLIGHT
TZOFFSETFROM:-0500
TZOFFSETTO:-0400
TZNAME:EDT
DTSTART:20200308T070000
END:DAYLIGHT
BEGIN:STANDARD
TZOFFSETFROM:-0400
TZOFFSETTO:-0500
TZNAME:EST
DTSTART:20201101T060000
END:STANDARD
BEGIN:DAYLIGHT
TZOFFSETFROM:-0500
TZOFFSETTO:-0400
TZNAME:EDT
DTSTART:20210314T070000
END:DAYLIGHT
BEGIN:STANDARD
TZOFFSETFROM:-0400
TZOFFSETTO:-0500
TZNAME:EST
DTSTART:20211107T060000
END:STANDARD
BEGIN:DAYLIGHT
TZOFFSETFROM:-0500
TZOFFSETTO:-0400
TZNAME:EDT
DTSTART:20220313T070000
END:DAYLIGHT
BEGIN:STANDARD
TZOFFSETFROM:-0400
TZOFFSETTO:-0500
TZNAME:EST
DTSTART:20221106T060000
END:STANDARD
END:VTIMEZONE
BEGIN:VEVENT
DTSTART;TZID=America/New_York:20210529T100000
DTEND;TZID=America/New_York:20210529T170000
DTSTAMP:20260424T164237
CREATED:20210416T002734Z
LAST-MODIFIED:20210416T002734Z
UID:10004006-1622282400-1622307600@lake-sunapee-living.com
SUMMARY:Harborside Trading Company Grand Opening
DESCRIPTION:Come meet the new owners of Harborside Trading\, a lakeside shop in the beautiful harbor of Sunapee\, NH! \n In addition to classic Sunapee apparel including sweatshirts and tee shirts\, the store will now be carrying children’s toys and crafts\, fun stuff for dogs\, gift wrapping supplies\, greeting cards\, and locally made items.  \nThere will be a focus on items made with sustainable materials this season.  \nWe look forward to an exciting summer!
URL:https://lake-sunapee-living.com/event/harborside-trading-company-grand-opening/
LOCATION:Sunapee Harbor\, 67 Main Street\, Sunapee\, NH\, 03782\, United States
CATEGORIES:Grand Opening
GEO:43.3856379;-72.0816099
X-APPLE-STRUCTURED-LOCATION;VALUE=URI;X-ADDRESS=Sunapee Harbor 67 Main Street Sunapee NH 03782 United States;X-APPLE-RADIUS=500;X-TITLE=67 Main Street:geo:-72.0816099,43.3856379
END:VEVENT
END:VCALENDAR