BEGIN:VCALENDAR
VERSION:2.0
PRODID:-//Lake Sunapee Living - ECPv6.15.13//NONSGML v1.0//EN
CALSCALE:GREGORIAN
METHOD:PUBLISH
X-ORIGINAL-URL:https://lake-sunapee-living.com
X-WR-CALDESC:Events for Lake Sunapee Living
REFRESH-INTERVAL;VALUE=DURATION:PT1H
X-Robots-Tag:noindex
X-PUBLISHED-TTL:PT1H
BEGIN:VTIMEZONE
TZID:America/New_York
BEGIN:DAYLIGHT
TZOFFSETFROM:-0500
TZOFFSETTO:-0400
TZNAME:EDT
DTSTART:20170312T070000
END:DAYLIGHT
BEGIN:STANDARD
TZOFFSETFROM:-0400
TZOFFSETTO:-0500
TZNAME:EST
DTSTART:20171105T060000
END:STANDARD
BEGIN:DAYLIGHT
TZOFFSETFROM:-0500
TZOFFSETTO:-0400
TZNAME:EDT
DTSTART:20180311T070000
END:DAYLIGHT
BEGIN:STANDARD
TZOFFSETFROM:-0400
TZOFFSETTO:-0500
TZNAME:EST
DTSTART:20181104T060000
END:STANDARD
BEGIN:DAYLIGHT
TZOFFSETFROM:-0500
TZOFFSETTO:-0400
TZNAME:EDT
DTSTART:20190310T070000
END:DAYLIGHT
BEGIN:STANDARD
TZOFFSETFROM:-0400
TZOFFSETTO:-0500
TZNAME:EST
DTSTART:20191103T060000
END:STANDARD
BEGIN:DAYLIGHT
TZOFFSETFROM:-0500
TZOFFSETTO:-0400
TZNAME:EDT
DTSTART:20200308T070000
END:DAYLIGHT
BEGIN:STANDARD
TZOFFSETFROM:-0400
TZOFFSETTO:-0500
TZNAME:EST
DTSTART:20201101T060000
END:STANDARD
BEGIN:DAYLIGHT
TZOFFSETFROM:-0500
TZOFFSETTO:-0400
TZNAME:EDT
DTSTART:20210314T070000
END:DAYLIGHT
BEGIN:STANDARD
TZOFFSETFROM:-0400
TZOFFSETTO:-0500
TZNAME:EST
DTSTART:20211107T060000
END:STANDARD
BEGIN:DAYLIGHT
TZOFFSETFROM:-0500
TZOFFSETTO:-0400
TZNAME:EDT
DTSTART:20220313T070000
END:DAYLIGHT
BEGIN:STANDARD
TZOFFSETFROM:-0400
TZOFFSETTO:-0500
TZNAME:EST
DTSTART:20221106T060000
END:STANDARD
BEGIN:DAYLIGHT
TZOFFSETFROM:-0500
TZOFFSETTO:-0400
TZNAME:EDT
DTSTART:20230312T070000
END:DAYLIGHT
BEGIN:STANDARD
TZOFFSETFROM:-0400
TZOFFSETTO:-0500
TZNAME:EST
DTSTART:20231105T060000
END:STANDARD
BEGIN:DAYLIGHT
TZOFFSETFROM:-0500
TZOFFSETTO:-0400
TZNAME:EDT
DTSTART:20240310T070000
END:DAYLIGHT
BEGIN:STANDARD
TZOFFSETFROM:-0400
TZOFFSETTO:-0500
TZNAME:EST
DTSTART:20241103T060000
END:STANDARD
BEGIN:DAYLIGHT
TZOFFSETFROM:-0500
TZOFFSETTO:-0400
TZNAME:EDT
DTSTART:20250309T070000
END:DAYLIGHT
BEGIN:STANDARD
TZOFFSETFROM:-0400
TZOFFSETTO:-0500
TZNAME:EST
DTSTART:20251102T060000
END:STANDARD
BEGIN:DAYLIGHT
TZOFFSETFROM:-0500
TZOFFSETTO:-0400
TZNAME:EDT
DTSTART:20260308T070000
END:DAYLIGHT
BEGIN:STANDARD
TZOFFSETFROM:-0400
TZOFFSETTO:-0500
TZNAME:EST
DTSTART:20261101T060000
END:STANDARD
END:VTIMEZONE
BEGIN:VEVENT
DTSTART;TZID=America/New_York:20250705T210000
DTEND;TZID=America/New_York:20250705T213000
DTSTAMP:20260424T150305
CREATED:20250629T114229Z
LAST-MODIFIED:20250629T114229Z
UID:10004600-1751749200-1751751000@lake-sunapee-living.com
SUMMARY:Town of Sunapee Fourth of July Fireworks
DESCRIPTION:Town of Sunapee Fourth of July Fireworks\n\nSat\, Jul 5 2025\, 9 – 9:30pm
URL:https://lake-sunapee-living.com/event/town-of-sunapee-fourth-of-july-fireworks/
LOCATION:Sunapee Harbor\, 67 Main Street\, Sunapee\, NH\, 03782\, United States
CATEGORIES:Fireworks
GEO:43.3856379;-72.0816099
X-APPLE-STRUCTURED-LOCATION;VALUE=URI;X-ADDRESS=Sunapee Harbor 67 Main Street Sunapee NH 03782 United States;X-APPLE-RADIUS=500;X-TITLE=67 Main Street:geo:-72.0816099,43.3856379
END:VEVENT
BEGIN:VEVENT
DTSTART;TZID=America/New_York:20230703T203000
DTEND;TZID=America/New_York:20230703T213000
DTSTAMP:20260424T150305
CREATED:20230701T130809Z
LAST-MODIFIED:20230701T130809Z
UID:10004165-1688416200-1688419800@lake-sunapee-living.com
SUMMARY:Sunapee Yacht Club Fireworks
DESCRIPTION:Show begins at dusk
URL:https://lake-sunapee-living.com/event/sunapee-yacht-club-fireworks/
LOCATION:Lake Sunapee Yacht Club\, 34 Stone End Rd\, Sunapee\, NH\, 03782\, United States
CATEGORIES:Fireworks
GEO:43.3967923;-72.0638618
X-APPLE-STRUCTURED-LOCATION;VALUE=URI;X-ADDRESS=Lake Sunapee Yacht Club 34 Stone End Rd Sunapee NH 03782 United States;X-APPLE-RADIUS=500;X-TITLE=34 Stone End Rd:geo:-72.0638618,43.3967923
END:VEVENT
BEGIN:VEVENT
DTSTART;TZID=America/New_York:20210704T203000
DTEND;TZID=America/New_York:20210704T203000
DTSTAMP:20260424T150305
CREATED:20210612T113257Z
LAST-MODIFIED:20210612T113528Z
UID:10004023-1625430600-1625430600@lake-sunapee-living.com
SUMMARY:Fireworks at the Lake Sunapee Yacht Club
DESCRIPTION:Fireworks at the Lake Sunapee Yacht Club \nDusk. Must be on the water or on the shore to see the fireworks. \n\n4th of July – Fireworks Cruise Tickets are on sale now: \nSunday July 4th – Lake Sunapee Yacht Club\, Saturday July 3rd – Town of Sunapee\n \n The MV Sunapee will sail on both nights at 8pm\, for 2 hours.  \nSunapeeCruises.com
URL:https://lake-sunapee-living.com/event/fireworks-at-the-lake-sunapee-yacht-club/
LOCATION:Lake Sunapee Yacht Club\, 34 Stone End Rd\, Sunapee\, NH\, 03782\, United States
CATEGORIES:Fireworks
GEO:43.3967923;-72.0638618
X-APPLE-STRUCTURED-LOCATION;VALUE=URI;X-ADDRESS=Lake Sunapee Yacht Club 34 Stone End Rd Sunapee NH 03782 United States;X-APPLE-RADIUS=500;X-TITLE=34 Stone End Rd:geo:-72.0638618,43.3967923
END:VEVENT
BEGIN:VEVENT
DTSTART;TZID=America/New_York:20210703T210000
DTEND;TZID=America/New_York:20210703T220000
DTSTAMP:20260424T150305
CREATED:20210524T011134Z
LAST-MODIFIED:20210524T011154Z
UID:10000467-1625346000-1625349600@lake-sunapee-living.com
SUMMARY:Sunapee Harbor Fireworks
DESCRIPTION:Sunapee Harbor Fireworks are scheduled for Saturday\, July 3rd @ dusk. \n$12\,500 is needed for sponsorship for this display.  \nContributions can be made at Sunapee Town hall or online at https://www.town.sunapee.nh.us/sunapee-recreation-dept
URL:https://lake-sunapee-living.com/event/sunapee-harbor-fireworks/
LOCATION:Sunapee Harbor\, 67 Main Street\, Sunapee\, NH\, 03782\, United States
CATEGORIES:Fireworks
GEO:43.3856379;-72.0816099
X-APPLE-STRUCTURED-LOCATION;VALUE=URI;X-ADDRESS=Sunapee Harbor 67 Main Street Sunapee NH 03782 United States;X-APPLE-RADIUS=500;X-TITLE=67 Main Street:geo:-72.0816099,43.3856379
END:VEVENT
BEGIN:VEVENT
DTSTART;TZID=America/New_York:20200912T180000
DTEND;TZID=America/New_York:20200912T210000
DTSTAMP:20260424T150305
CREATED:20200911T115859Z
LAST-MODIFIED:20200911T115929Z
UID:10003981-1599933600-1599944400@lake-sunapee-living.com
SUMMARY:Newport's Drive-In Fireworks!
DESCRIPTION:Hosted by Newport Area Chamber Of Commerce\, Noise “R” Us Fireworks and Parlin Field \nParlin Field and the Newport Area Chamber Of Commerce are pleased to announce that we are hosting the summer fireworks again this year! Due to COVID and to comply with CDC and State regulations\, it’s going to be a bit different this year\, but still fun!! \nThe New Hampshire Pyrotechnics Association will be shooting SATURDAY night from 5-9:30 pm. The gates will open at 6:00PM. All are welcome with a minimal charge of only $5 per car. Please keep in mind this is a drive-in fireworks display\, so please stay in or near your vehicle as much as possible.\nSaturday is open shooting from 5-9:30\, with a 20-minute “Class B” professional GRAND FINALE show at 9:00 to finish the evening out! \nWe will have food vendors there for you to purchase food\, but please be sure to wear your mask while getting your food.\nA BIG thank you to our sponsors: Noise “R” Us Fireworks\, Newport Chevy\, Sugar River Bank\, Pinnacle Sports\, LaValley Building Supply\, Patten’s Auto & Truck Works and Avery Insurance Agency. We greatly appreciate all the support to make this event happen\, especially this year. \nAgain\, to follow CDC and State regulations\, please wear your mask and practice social distancing when not near your car\, and especially when getting food or using the porta potties. Because this event will hold more than 100 people\, we are required to have everyone wearing a mask. \n**As a PSA\, Friday is informal open shooting from 5:00PM -10PM but will NOT be open to the public.** \n*****Please NO glass bottles***** \n***NO fireworks allowed\, let’s leave it up to the Pros 🙂 ***
URL:https://lake-sunapee-living.com/event/newports-drive-in-fireworks/
LOCATION:Parlin Field\, 14 Sunapee Street\, Newport\, NH\, 03773\, United States
CATEGORIES:Fireworks
GEO:43.3652985;-72.1725549
X-APPLE-STRUCTURED-LOCATION;VALUE=URI;X-ADDRESS=Parlin Field 14 Sunapee Street Newport NH 03773 United States;X-APPLE-RADIUS=500;X-TITLE=14 Sunapee Street:geo:-72.1725549,43.3652985
END:VEVENT
BEGIN:VEVENT
DTSTART;TZID=America/New_York:20190707T203000
DTEND;TZID=America/New_York:20190707T210000
DTSTAMP:20260424T150305
CREATED:20190629T192234Z
LAST-MODIFIED:20190705T233806Z
UID:10000331-1562531400-1562533200@lake-sunapee-living.com
SUMMARY:Fireworks at Sunapee Harbor rescheduled to Sunday\, July 7th
DESCRIPTION:Fireworks July 7 at dusk in Sunapee Harbor
URL:https://lake-sunapee-living.com/event/fireworks-at-sunapee-harbor/
LOCATION:Sunapee Harbor\, 67 Main Street\, Sunapee\, NH\, 03782\, United States
CATEGORIES:Fireworks
GEO:43.3856379;-72.0816099
X-APPLE-STRUCTURED-LOCATION;VALUE=URI;X-ADDRESS=Sunapee Harbor 67 Main Street Sunapee NH 03782 United States;X-APPLE-RADIUS=500;X-TITLE=67 Main Street:geo:-72.0816099,43.3856379
END:VEVENT
BEGIN:VEVENT
DTSTART;TZID=America/New_York:20190706T213000
DTEND;TZID=America/New_York:20190706T223000
DTSTAMP:20260424T150305
CREATED:20190629T192430Z
LAST-MODIFIED:20190629T192430Z
UID:10000340-1562448600-1562452200@lake-sunapee-living.com
SUMMARY:Fireworks : In Bradford at Brown Shattuck Field
DESCRIPTION:Fireworks in Bradford July 6 at 9:30 p.m. at Brown Shattuck Field
URL:https://lake-sunapee-living.com/event/fireworks-in-bradford-at-brown-shattuck-field/
LOCATION:Brown Shattuck Field\, 8 Cilley Ln\, Bradford\, NH\, 03221\, United States
CATEGORIES:Fireworks
GEO:43.2678596;-71.9554584
X-APPLE-STRUCTURED-LOCATION;VALUE=URI;X-ADDRESS=Brown Shattuck Field 8 Cilley Ln Bradford NH 03221 United States;X-APPLE-RADIUS=500;X-TITLE=8 Cilley Ln:geo:-71.9554584,43.2678596
END:VEVENT
BEGIN:VEVENT
DTSTART;TZID=America/New_York:20190518T170000
DTEND;TZID=America/New_York:20190518T220000
DTSTAMP:20260424T150306
CREATED:20190505T133612Z
LAST-MODIFIED:20190513T010527Z
UID:10003708-1558198800-1558216800@lake-sunapee-living.com
SUMMARY:Newport’s “Blast” into Summer Fireworks!
DESCRIPTION:FIREWORKS\, Food\, Fun\, Music and more FIREWORKS\, what more can you ask for?! \nParlin Field\, Newport Area Chamber Of Commerceand Noise “R” Us Fireworksare pleased to announce and sponsor the “BLAST” into Summer Fireworks. The New Hampshire Pyrotechnics Associationwill be shooting fireworks FRIDAY night from 5-10 pm AND SATURDAY night from 5-10 pm. All are welcome both nights! Friday is informal open shooting and Saturday is open shooting with a 20-minute “Class B” professional GRAND FINALE show to finish the evening out! \nOn Saturday\, we will have food vendors Farley’s Fries\, Kiwanis of Claremont NHand Dufort’s Bakerythere for you to purchase food and…a band! Noise “R” Us Fireworks is sponsoring the local band About Gladys\, who will play from 6:30-9:30. \nThis is an event you won’t want to miss. Come and go as you want or stay the whole time and enjoy the fireworks\, food and music. Bring a blanket or lawn chair and enjoy the show! Oh\, and did we mention this is a FREE event (donations will gladly be accepted to help cover the cost tho)!? Be sure to bring some $$ for food and drinks. *****Please NO glass bottles***** \nCome early in the day for the Prop Blast at Parlin Field for their open house and fly-in from 8-1! See airplanes from all over New England! Free airplane rides for kids ages 8-17.
URL:https://lake-sunapee-living.com/event/newports-blast-into-summer-fireworks/
LOCATION:Parlin Field\, 14 Sunapee Street\, Newport\, NH\, 03773\, United States
CATEGORIES:Fireworks
GEO:43.3652985;-72.1725549
X-APPLE-STRUCTURED-LOCATION;VALUE=URI;X-ADDRESS=Parlin Field 14 Sunapee Street Newport NH 03773 United States;X-APPLE-RADIUS=500;X-TITLE=14 Sunapee Street:geo:-72.1725549,43.3652985
END:VEVENT
BEGIN:VEVENT
DTSTART;TZID=America/New_York:20190210T190000
DTEND;TZID=America/New_York:20190210T193000
DTSTAMP:20260424T150306
CREATED:20190123T024105Z
LAST-MODIFIED:20190123T024105Z
UID:10003690-1549825200-1549827000@lake-sunapee-living.com
SUMMARY:Newport Winter Carnival Fireworks
DESCRIPTION:Winter Carnival Fireworks are BACK! \nLet’s finish off a great Winter Carnival with some awesome fireworks donated by Noise “R” Us Fireworks\, sponsored by the Newport Area Chamber Of Commerce and hosted by Parlin Field(Newport Airport). Don’t worry about the cold\, you can enjoy them from your car.\nRain/Snow date will be the 17th at 7:00.
URL:https://lake-sunapee-living.com/event/newport-winter-carnival-fireworks/
LOCATION:Parlin Field\, 14 Sunapee Street\, Newport\, NH\, 03773\, United States
CATEGORIES:Fireworks
GEO:43.3652985;-72.1725549
X-APPLE-STRUCTURED-LOCATION;VALUE=URI;X-ADDRESS=Parlin Field 14 Sunapee Street Newport NH 03773 United States;X-APPLE-RADIUS=500;X-TITLE=14 Sunapee Street:geo:-72.1725549,43.3652985
END:VEVENT
BEGIN:VEVENT
DTSTART;TZID=America/New_York:20190209T180000
DTEND;TZID=America/New_York:20190209T190000
DTSTAMP:20260424T150306
CREATED:20181231T002254Z
LAST-MODIFIED:20181231T034755Z
UID:10000249-1549735200-1549738800@lake-sunapee-living.com
SUMMARY:New London Winter Carnival fireworks
DESCRIPTION:Come enjoy this free Winter Carnival fireworks display compliments of New London Recreation Dept and contributing sponsors!! \nfree S’mores starting @ 5pm
URL:https://lake-sunapee-living.com/event/new-london-winter-carnival-fireworks/
LOCATION:Cupola at Cougar Court\, 1 Cougar Court\, New London\, NH\, 03257\, United States
CATEGORIES:Fireworks
GEO:43.4160392;-71.9859116
X-APPLE-STRUCTURED-LOCATION;VALUE=URI;X-ADDRESS=Cupola at Cougar Court 1 Cougar Court New London NH 03257 United States;X-APPLE-RADIUS=500;X-TITLE=1 Cougar Court:geo:-71.9859116,43.4160392
END:VEVENT
BEGIN:VEVENT
DTSTART;TZID=America/New_York:20180818T203000
DTEND;TZID=America/New_York:20180818T220000
DTSTAMP:20260424T150306
CREATED:20180723T013739Z
LAST-MODIFIED:20180817T000905Z
UID:10000220-1534624200-1534629600@lake-sunapee-living.com
SUMMARY:DATE MOVED TO SATURDAY: Sunapee 250th Fireworks in Sunapee Harbor
DESCRIPTION:Fireworks in Sunapee Harbor \nSponsored by Stacies Smoothies \n\n 08:30 pm to 10:00 pm\n\n\n\n\nThis is a free event!\n\n\n\n\nCONTACT the Sunapee Sestercentennial Committee at 603-763-2212 \n\nSunapeeNH250.org
URL:https://lake-sunapee-living.com/event/fireworks-in-sunapee-harbor-2/
LOCATION:Sunapee Harbor\, 67 Main Street\, Sunapee\, NH\, 03782\, United States
CATEGORIES:Fireworks
GEO:43.3856379;-72.0816099
X-APPLE-STRUCTURED-LOCATION;VALUE=URI;X-ADDRESS=Sunapee Harbor 67 Main Street Sunapee NH 03782 United States;X-APPLE-RADIUS=500;X-TITLE=67 Main Street:geo:-72.0816099,43.3856379
END:VEVENT
BEGIN:VEVENT
DTSTART;TZID=America/New_York:20180707T203000
DTEND;TZID=America/New_York:20180707T213000
DTSTAMP:20260424T150306
CREATED:20180604T015205Z
LAST-MODIFIED:20180624T234457Z
UID:10000373-1530995400-1530999000@lake-sunapee-living.com
SUMMARY:Fireworks in Sunapee Harbor
DESCRIPTION:Please Donate to the Firework Funds: We are looking for donations to help make this year’s display spectacular\, $13\,000 is needed\, please consider donating to this festive event!  \nContributions can be made/sent directly to the Town Hall\, 23 Edgemont Rd. Sunapee\, NH 03782 and will have a BOOMING impact!  \nFireworks Cruise aboard the MV MT Sunapee Saturday\, July 7th\nEnjoy a one hour evening cruise to watch the fireworks from the water. Meet at the boat by 8pm.  \nSunapee Rec Fireworks Fundraiser Donated by Sunapee Cruises $25/person. Visit www.sunapeecruises.com to buy tickets. \n 
URL:https://lake-sunapee-living.com/event/fireworks-in-sunapee-harbor/
LOCATION:Sunapee Harbor\, 67 Main Street\, Sunapee\, NH\, 03782\, United States
CATEGORIES:Fireworks
GEO:43.3856379;-72.0816099
X-APPLE-STRUCTURED-LOCATION;VALUE=URI;X-ADDRESS=Sunapee Harbor 67 Main Street Sunapee NH 03782 United States;X-APPLE-RADIUS=500;X-TITLE=67 Main Street:geo:-72.0816099,43.3856379
END:VEVENT
BEGIN:VEVENT
DTSTART;TZID=America/New_York:20180704T213000
DTEND;TZID=America/New_York:20180704T223000
DTSTAMP:20260424T150306
CREATED:20180624T210836Z
LAST-MODIFIED:20180624T210836Z
UID:10000539-1530739800-1530743400@lake-sunapee-living.com
SUMMARY:4th of July Fireworks at Lebanon Storrs Hill Ski Area
DESCRIPTION:4th of July Fireworks at Lebanon Storrs Hill Ski Area \n9:20 p.m. — Lebanon Storrs Hill Ski Area \n60 Spring St\, Lebanon\, NH 03766 \n 
URL:https://lake-sunapee-living.com/event/4th-of-july-fireworks-at-lebanon-storrs-hill-ski-area/
LOCATION:Storrs Hill Ski Area\, 60 Spring St\, Lebanon\, NH\, 03766\, United States
CATEGORIES:Fireworks
GEO:43.635217;-72.2521289
X-APPLE-STRUCTURED-LOCATION;VALUE=URI;X-ADDRESS=Storrs Hill Ski Area 60 Spring St Lebanon NH 03766 United States;X-APPLE-RADIUS=500;X-TITLE=60 Spring St:geo:-72.2521289,43.635217
END:VEVENT
BEGIN:VEVENT
DTSTART;TZID=America/New_York:20180704T213000
DTEND;TZID=America/New_York:20180704T223000
DTSTAMP:20260424T150306
CREATED:20180624T210555Z
LAST-MODIFIED:20180624T210629Z
UID:10000538-1530739800-1530743400@lake-sunapee-living.com
SUMMARY:4th of July Fireworks at Monadnock Park\, Claremont
DESCRIPTION:4th of July Fireworks \nMonadnock Park — July 4 at 9:30 p.m.\n190 Broad St\, Claremont\, NH 03743
URL:https://lake-sunapee-living.com/event/4th-of-july-fireworks-at-monadnock-park-claremont/
LOCATION:Monadnock Park\, 190 Broad Street\, Claremont\, NH\, 03743\, United States
CATEGORIES:Fireworks
GEO:43.3680655;-72.3328958
X-APPLE-STRUCTURED-LOCATION;VALUE=URI;X-ADDRESS=Monadnock Park 190 Broad Street Claremont NH 03743 United States;X-APPLE-RADIUS=500;X-TITLE=190 Broad Street:geo:-72.3328958,43.3680655
END:VEVENT
BEGIN:VEVENT
DTSTART;TZID=America/New_York:20180703T203000
DTEND;TZID=America/New_York:20180703T213000
DTSTAMP:20260424T150306
CREATED:20180604T014242Z
LAST-MODIFIED:20180624T234234Z
UID:10000370-1530649800-1530653400@lake-sunapee-living.com
SUMMARY:Fireworks from Sunapee Yacht Club
DESCRIPTION:Fireworks from Sunapee Yacht Club Friday\, July 3rd  \nBest viewed by boat. Or enjoy a Fireworks Cruise! Visit www.sunapeecruises.com for more information.
URL:https://lake-sunapee-living.com/event/fireworks-from-sunapee-yacht-club/
LOCATION:Sunapee Harbor\, 67 Main Street\, Sunapee\, NH\, 03782\, United States
CATEGORIES:Fireworks
GEO:43.3856379;-72.0816099
X-APPLE-STRUCTURED-LOCATION;VALUE=URI;X-ADDRESS=Sunapee Harbor 67 Main Street Sunapee NH 03782 United States;X-APPLE-RADIUS=500;X-TITLE=67 Main Street:geo:-72.0816099,43.3856379
END:VEVENT
END:VCALENDAR