BEGIN:VCALENDAR
VERSION:2.0
PRODID:-//Lake Sunapee Living - ECPv6.15.13//NONSGML v1.0//EN
CALSCALE:GREGORIAN
METHOD:PUBLISH
X-WR-CALNAME:Lake Sunapee Living
X-ORIGINAL-URL:https://lake-sunapee-living.com
X-WR-CALDESC:Events for Lake Sunapee Living
REFRESH-INTERVAL;VALUE=DURATION:PT1H
X-Robots-Tag:noindex
X-PUBLISHED-TTL:PT1H
BEGIN:VTIMEZONE
TZID:America/New_York
BEGIN:DAYLIGHT
TZOFFSETFROM:-0500
TZOFFSETTO:-0400
TZNAME:EDT
DTSTART:20220313T070000
END:DAYLIGHT
BEGIN:STANDARD
TZOFFSETFROM:-0400
TZOFFSETTO:-0500
TZNAME:EST
DTSTART:20221106T060000
END:STANDARD
BEGIN:DAYLIGHT
TZOFFSETFROM:-0500
TZOFFSETTO:-0400
TZNAME:EDT
DTSTART:20230312T070000
END:DAYLIGHT
BEGIN:STANDARD
TZOFFSETFROM:-0400
TZOFFSETTO:-0500
TZNAME:EST
DTSTART:20231105T060000
END:STANDARD
BEGIN:DAYLIGHT
TZOFFSETFROM:-0500
TZOFFSETTO:-0400
TZNAME:EDT
DTSTART:20240310T070000
END:DAYLIGHT
BEGIN:STANDARD
TZOFFSETFROM:-0400
TZOFFSETTO:-0500
TZNAME:EST
DTSTART:20241103T060000
END:STANDARD
END:VTIMEZONE
BEGIN:VEVENT
DTSTART;TZID=America/New_York:20230720T163000
DTEND;TZID=America/New_York:20230720T210000
DTSTAMP:20260424T215610
CREATED:20230709T215759Z
LAST-MODIFIED:20230709T215759Z
UID:10004171-1689870600-1689886800@lake-sunapee-living.com
SUMMARY:Mount Sunapee Farm to Table Dinner
DESCRIPTION:Enjoy an evening at Mount Sunapee with a fresh and local Farm to Table dinner.\n\nCocktail hour will be held on the Summit Lodge deck\, followed by a dinner service showcasing local farms on the Sunapee lodge patio.\n\nFeaturing live entertainment during the dinner service. Includes a round-trip to the summit on the Sunapee Express Quad chairlift during cocktail hour.\n\nLift access begins at 4:30pm Last chair up is at 5:15. Dinner runs from 6:30pm to 9pm.\nTickets are $95\, including tax and gratuity and can be purchased at: www.mountsunapee.com
URL:https://lake-sunapee-living.com/event/mount-sunapee-farm-to-table-dinner-2/
LOCATION:Mount Sunapee\, 1398 ROUTE 103\, Newbury\, NH\, 03255\, United States
CATEGORIES:Farm to Table
GEO:43.3260437;-72.0644669
X-APPLE-STRUCTURED-LOCATION;VALUE=URI;X-ADDRESS=Mount Sunapee 1398 ROUTE 103 Newbury NH 03255 United States;X-APPLE-RADIUS=500;X-TITLE=1398 ROUTE 103:geo:-72.0644669,43.3260437
END:VEVENT
END:VCALENDAR