BEGIN:VCALENDAR
VERSION:2.0
PRODID:-//Lake Sunapee Living - ECPv6.15.13//NONSGML v1.0//EN
CALSCALE:GREGORIAN
METHOD:PUBLISH
X-ORIGINAL-URL:https://lake-sunapee-living.com
X-WR-CALDESC:Events for Lake Sunapee Living
REFRESH-INTERVAL;VALUE=DURATION:PT1H
X-Robots-Tag:noindex
X-PUBLISHED-TTL:PT1H
BEGIN:VTIMEZONE
TZID:America/New_York
BEGIN:DAYLIGHT
TZOFFSETFROM:-0500
TZOFFSETTO:-0400
TZNAME:EDT
DTSTART:20170312T070000
END:DAYLIGHT
BEGIN:STANDARD
TZOFFSETFROM:-0400
TZOFFSETTO:-0500
TZNAME:EST
DTSTART:20171105T060000
END:STANDARD
BEGIN:DAYLIGHT
TZOFFSETFROM:-0500
TZOFFSETTO:-0400
TZNAME:EDT
DTSTART:20180311T070000
END:DAYLIGHT
BEGIN:STANDARD
TZOFFSETFROM:-0400
TZOFFSETTO:-0500
TZNAME:EST
DTSTART:20181104T060000
END:STANDARD
BEGIN:DAYLIGHT
TZOFFSETFROM:-0500
TZOFFSETTO:-0400
TZNAME:EDT
DTSTART:20190310T070000
END:DAYLIGHT
BEGIN:STANDARD
TZOFFSETFROM:-0400
TZOFFSETTO:-0500
TZNAME:EST
DTSTART:20191103T060000
END:STANDARD
BEGIN:DAYLIGHT
TZOFFSETFROM:-0500
TZOFFSETTO:-0400
TZNAME:EDT
DTSTART:20200308T070000
END:DAYLIGHT
BEGIN:STANDARD
TZOFFSETFROM:-0400
TZOFFSETTO:-0500
TZNAME:EST
DTSTART:20201101T060000
END:STANDARD
BEGIN:DAYLIGHT
TZOFFSETFROM:-0500
TZOFFSETTO:-0400
TZNAME:EDT
DTSTART:20210314T070000
END:DAYLIGHT
BEGIN:STANDARD
TZOFFSETFROM:-0400
TZOFFSETTO:-0500
TZNAME:EST
DTSTART:20211107T060000
END:STANDARD
BEGIN:DAYLIGHT
TZOFFSETFROM:-0500
TZOFFSETTO:-0400
TZNAME:EDT
DTSTART:20220313T070000
END:DAYLIGHT
BEGIN:STANDARD
TZOFFSETFROM:-0400
TZOFFSETTO:-0500
TZNAME:EST
DTSTART:20221106T060000
END:STANDARD
BEGIN:DAYLIGHT
TZOFFSETFROM:-0500
TZOFFSETTO:-0400
TZNAME:EDT
DTSTART:20230312T070000
END:DAYLIGHT
BEGIN:STANDARD
TZOFFSETFROM:-0400
TZOFFSETTO:-0500
TZNAME:EST
DTSTART:20231105T060000
END:STANDARD
BEGIN:DAYLIGHT
TZOFFSETFROM:-0500
TZOFFSETTO:-0400
TZNAME:EDT
DTSTART:20240310T070000
END:DAYLIGHT
BEGIN:STANDARD
TZOFFSETFROM:-0400
TZOFFSETTO:-0500
TZNAME:EST
DTSTART:20241103T060000
END:STANDARD
END:VTIMEZONE
BEGIN:VEVENT
DTSTART;TZID=America/New_York:20181019T180000
DTEND;TZID=America/New_York:20181019T220000
DTSTAMP:20260424T152953
CREATED:20181010T020051Z
LAST-MODIFIED:20181010T020152Z
UID:10003595-1539972000-1539986400@lake-sunapee-living.com
SUMMARY:Fall Community Dinner & Dance At the Livery
DESCRIPTION:FALL COMMUNITY DINNER & DANCE \nAt the Livery – $25 Per Person \nPlease come and enjoy a casual fun evening featuring local foods and great music.\nBring any hot dishes ready to eat and we will keep them warm.\nAttendance  limited to 60 people – buy your tickets now! \nSunapee Heritage Alliance invites you to a Fundraiser to support the Livery in Sunapee Harbor  \nARRIVE 6PM – DINNER 7PM – DANCING 8PM \nTo purchase tickets: sunapeeheritage.org \nWe are providing: Appetizers – Organic Free Range Roast Chicken – Beer & Wine \nNeighbors and friends are bringing Salads – Side Dishes – Desserts to Share \n  \n 
URL:https://lake-sunapee-living.com/event/fall-community-dinner-dance-at-the-livery/
LOCATION:The Livery\, 58 Main St.\, Sunapee\, NH\, 03782\, United States
CATEGORIES:Fall Festival
GEO:43.3860983;-72.0826955
X-APPLE-STRUCTURED-LOCATION;VALUE=URI;X-ADDRESS=The Livery 58 Main St. Sunapee NH 03782 United States;X-APPLE-RADIUS=500;X-TITLE=58 Main St.:geo:-72.0826955,43.3860983
END:VEVENT
BEGIN:VEVENT
DTSTART;TZID=America/New_York:20181028T130000
DTEND;TZID=America/New_York:20181028T153000
DTSTAMP:20260424T152953
CREATED:20180930T123425Z
LAST-MODIFIED:20180930T123552Z
UID:10003589-1540731600-1540740600@lake-sunapee-living.com
SUMMARY:Trunk Or Treat Hosted by Newbury Recreation Department
DESCRIPTION:Newbury Parks and Recreation 2nd Annual Trunk or Treat.\n\nJoin us for an afternoon of family fun\, including\, games\, magic\, and lots of trunk-or-treating!\n\nDon’t miss the 2:00pm Topper’s Kidtastic Magic Show!
URL:https://lake-sunapee-living.com/event/trunk-or-treat-hosted-by-newbury-recreation-department/
LOCATION:Fisherfield Park\, 200 Old Post Rd\, Newbury\, NH\, 03255\, United States
CATEGORIES:Fall Festival
GEO:43.3137118;-72.015913
X-APPLE-STRUCTURED-LOCATION;VALUE=URI;X-ADDRESS=Fisherfield Park 200 Old Post Rd Newbury NH 03255 United States;X-APPLE-RADIUS=500;X-TITLE=200 Old Post Rd:geo:-72.015913,43.3137118
END:VEVENT
BEGIN:VEVENT
DTSTART;TZID=America/New_York:20191005T100000
DTEND;TZID=America/New_York:20191005T150000
DTSTAMP:20260424T152953
CREATED:20190824T164844Z
LAST-MODIFIED:20190824T165010Z
UID:10000347-1570269600-1570287600@lake-sunapee-living.com
SUMMARY:Fall Festival & Chili Cook-Off 2019
DESCRIPTION:The Green at the Claremont Visitor Center \nJoin us for the 22nd Annual Fall Festival & Chili Cook-Off with SERVPRO of Lebanon/Hanover/Littleton 5K Race\, Live Entertainment and Exhibitors. \nExhibitors can register online here: http://bit.ly/2019FallFestivalExhibitorRegistraion \n5K Race Registration online here: https://www.runreg.com/chili-cook-off-5k-road-race \nChili Contest Entries by Category\nIndividual: http://apm.activecommunities.com/claremontparksandrec/Activity_Search/5888
URL:https://lake-sunapee-living.com/event/fall-festival-chili-cook-off-2019/
LOCATION:The Green at the Claremont Visitor Center\, 14 North St\, Claremont\, NH\, 03743\, United States
CATEGORIES:Chowder and Chili Challenge,Fall Festival
GEO:43.3755205;-72.3383972
X-APPLE-STRUCTURED-LOCATION;VALUE=URI;X-ADDRESS=The Green at the Claremont Visitor Center 14 North St Claremont NH 03743 United States;X-APPLE-RADIUS=500;X-TITLE=14 North St:geo:-72.3383972,43.3755205
END:VEVENT
BEGIN:VEVENT
DTSTART;VALUE=DATE:20191011
DTEND;VALUE=DATE:20191014
DTSTAMP:20260424T152953
CREATED:20191006T230023Z
LAST-MODIFIED:20191006T230023Z
UID:10003848-1570752000-1571011199@lake-sunapee-living.com
SUMMARY:72nd Warner Fall Foliage Festival
DESCRIPTION:Join us Oct 11-13 for the 72nd Annual Warner Fall Foliage Festival in Downtown Warner\, NH \nCome celebrate rural life and vibrant foliage at our free\, family-oriented community festival in the village of Warner\, NH. Three days of events include a full lineup of open-air concerts\, 2 parades\, a 5K road race\, kids’ fun run and dance party\, oxen and woodsmen’s contests\, fresh lobster and chicken BBQ\, amusement rides\, street performers\, and a host of artisans\, farmer’s market\, and food vendors. \nVisit wfff.org for more information
URL:https://lake-sunapee-living.com/event/72nd-warner-fall-foliage-festival/
LOCATION:MainStreet Warner Stage\, 16 E Main St\, Warner\, NH\, 03278\, United States
CATEGORIES:Fall Festival
GEO:43.2803256;-71.815822
X-APPLE-STRUCTURED-LOCATION;VALUE=URI;X-ADDRESS=MainStreet Warner Stage 16 E Main St Warner NH 03278 United States;X-APPLE-RADIUS=500;X-TITLE=16 E Main St:geo:-71.815822,43.2803256
END:VEVENT
BEGIN:VEVENT
DTSTART;VALUE=DATE:20191012
DTEND;VALUE=DATE:20191015
DTSTAMP:20260424T152953
CREATED:20190512T144018Z
LAST-MODIFIED:20190512T144227Z
UID:10000266-1570838400-1571097599@lake-sunapee-living.com
SUMMARY:Corbin Covered Bridge Festival
DESCRIPTION:Join us Columbus Day Weekend 2019 to celebrate the 25th anniversary of the the rebuilding of the historic Corbin Covered Bridge. A project of the Newport Historical Society. \nCurrent List of Scheduled Events \nNewmont Military Band-Sponsored by The Cote’s\nTim Kelly- Composer\, Singer\, Songwriter\nThe National Society for the Preservation of Covered Bridges\nNewport Historical Society 50/50 Raffle\nNewport Historical Society – Souvenirs and Memorabilia\nHamburgers & Hot dogs – Newport Fire Dept.\nCivil War Cannon – Newport VFW\nCommemorative Fashion Clutch – Kent Stetson Designer\nPercheron Team & Wagon Ride – Sponsored by the Courthouse Restaurant\nArnold Graton – Rebuilder of the Corbin Covered Bridge\n5K Race – by the Newport Recreation Department\nParlin Field – Airport\nBridge Photo Exhibit – Library Arts Center\nRailroad and Bridge Artifacts and Exhibits\nWoodsman Demonstrations\nCow Patty Bingo – 4-H\nDinner at the Bridge under the Tent \nMore info: \nCorbincoveredbridgefestival.com/schedule/
URL:https://lake-sunapee-living.com/event/corbin-covered-bridge-festival/
LOCATION:Corbin Covered Bridge\, 250 Corbin Rd\, Newport\, NH\, 03773\, United States
CATEGORIES:Fall Festival
GEO:43.3913944;-72.1973489
X-APPLE-STRUCTURED-LOCATION;VALUE=URI;X-ADDRESS=Corbin Covered Bridge 250 Corbin Rd Newport NH 03773 United States;X-APPLE-RADIUS=500;X-TITLE=250 Corbin Rd:geo:-72.1973489,43.3913944
END:VEVENT
BEGIN:VEVENT
DTSTART;TZID=America/New_York:20191013T113000
DTEND;TZID=America/New_York:20191013T153000
DTSTAMP:20260424T152953
CREATED:20190917T034640Z
LAST-MODIFIED:20190917T034640Z
UID:10003845-1570966200-1570980600@lake-sunapee-living.com
SUMMARY:Mount Sunapee 11th Annual Fall Foliage Pig Roast & BBQ
DESCRIPTION:What’s a better way to enjoy the changing of the seasons than with family\, friends\, and food? Come join us Saturday\, October 12 and Sunday\, October 13\, 2019 for the Annual Fall Festival Pig Roast and BBQ. Our Aerial Sky Rides will be running 10:00am – 4:00pm to take in the view of New England fall foliage. Pulled pork\, grilled half chicken\, cornbread\, sides and desserts will be available outdoors from 11:30am – 3:30pm. Beer will be served on the Sunapee Patio. Race around the mountain in our 3rd Annual Run Into Winter 5K on Saturday morning and then take your best shots at targets under the lift during the Duck Drop\, also on Saturday! \nActivities At Event:\nA pumpkin carving contest ($5 per pumpkin)\nFace painting\nAerial sky rides\n3rd Annual Run Into Winter 5K (Saturday only)\n3rd Annual Duck Drop (Saturday only)\nHay wagon rides\nInflatable obstacle course\nLive music\nGames\nJoin us in our Adventure Park with activities for the whole family!
URL:https://lake-sunapee-living.com/event/mount-sunapee-11th-annual-fall-foliage-pig-roast-bbq/
LOCATION:Mount Sunapee\, 1398 ROUTE 103\, Newbury\, NH\, 03255\, United States
CATEGORIES:Fall Festival
GEO:43.3260437;-72.0644669
X-APPLE-STRUCTURED-LOCATION;VALUE=URI;X-ADDRESS=Mount Sunapee 1398 ROUTE 103 Newbury NH 03255 United States;X-APPLE-RADIUS=500;X-TITLE=1398 ROUTE 103:geo:-72.0644669,43.3260437
END:VEVENT
BEGIN:VEVENT
DTSTART;TZID=America/New_York:20221009T080000
DTEND;TZID=America/New_York:20221009T170000
DTSTAMP:20260424T152953
CREATED:20220920T024022Z
LAST-MODIFIED:20220920T024022Z
UID:10000606-1665302400-1665334800@lake-sunapee-living.com
SUMMARY:75th Warner Fall Foliage Festival
DESCRIPTION:Festival 2022 Events\n\nThe theme for the Parade this year is Fantastical Tales of all Time. See you Sunday! \nThe Kids’ Fun Run has been an entertaining part of the Warner Fall Foliage Festival for many years. It is back as we celebrate 75 years of Festival. Please go to the link below to learn more about it and to register. Fun Run is Sunday morning\nClick here to Register \nThe Board of Directors are pleased to share that the following businesses have contributed to the WFFF Kids Fun Run: Woodlawn Pet Resort\, Candletree\, Cafe One East\, Pumpkin Blossom Farm\, and Artisans of New London\nThe Ice Cream Eating Contest will also be back! It will be held on Sunday at noon at the Velvet Moose. Day of event sign ups can occur\, but advanced registration is requested if possible. Please register at the Velvet Moose during operating hours. \nRegistration is OPEN for the 2022 5k on Saturday\, October 8th!\nClick here to Register
URL:https://lake-sunapee-living.com/event/75th-warner-fall-foliage-festival/2022-10-09/
LOCATION:Warner Town Hall\, 5 E. Main St.\, Warner\, NH\, 03278\, United States
CATEGORIES:Fall Festival
GEO:43.281051;-71.815856
X-APPLE-STRUCTURED-LOCATION;VALUE=URI;X-ADDRESS=Warner Town Hall 5 E. Main St. Warner NH 03278 United States;X-APPLE-RADIUS=500;X-TITLE=5 E. Main St.:geo:-71.815856,43.281051
END:VEVENT
BEGIN:VEVENT
DTSTART;TZID=America/New_York:20221023T090000
DTEND;TZID=America/New_York:20221024T210000
DTSTAMP:20260424T152953
CREATED:20180910T001713Z
LAST-MODIFIED:20180910T001713Z
UID:10002106-1666515600-1666645200@lake-sunapee-living.com
SUMMARY:71st Annual Warner Fall Foliage Festival
DESCRIPTION:The 71st Annual Warner Fall Foliage Festival is scheduled during the upcoming Columbus Day Weekend. The festival begins on Friday\, October 5\, when the midway opens from 6 to 9 PM. The DoBros\, a local folkgrass/rock band\, are scheduled to play on the MainStreet Warner Stage from 7:30 to 10 PM. There will be numerous activities and entertainment throughout downtown on Saturday\, October 6\, from 9 AM to 9 PM\, and Sunday\, October 7\, from 9 AM to 5 PM. Parking is $5 and will be at the west end of town\, with free shuttle bus service to and from the festival. \nThe festival’s center will be located downtown Warner around Main Street\, and there will be easy access to the midway\, food tents and outdoors picnicking. As always\, there will be crafters\, a farmers market\, rides\, food\, parades\, road races\, raffles\, music\, country breakfasts and dinners…and much more. \nA renovated location behind The Foothills restaurant will host an Oxen Pull competition on Saturday starting at 9:30 AM. In this same location\, our very popular Woodsmen competition begins on Sunday at 11 AM. \nThe festival is organized by hundreds of local volunteers. All proceeds from the festival go directly back into the community to support the growth and enrichment of local culture\, music\, art\, sports\, town and school programs\, parks and facilities. \nEvent date\n2018-10-05
URL:https://lake-sunapee-living.com/event/71st-annual-warner-fall-foliage-festival/2022-10-23/
LOCATION:Warner Town Hall\, 5 E. Main St.\, Warner\, NH\, 03278\, United States
CATEGORIES:Fall Festival
GEO:43.281051;-71.815856
X-APPLE-STRUCTURED-LOCATION;VALUE=URI;X-ADDRESS=Warner Town Hall 5 E. Main St. Warner NH 03278 United States;X-APPLE-RADIUS=500;X-TITLE=5 E. Main St.:geo:-71.815856,43.281051
END:VEVENT
BEGIN:VEVENT
DTSTART;TZID=America/New_York:20231007T100000
DTEND;TZID=America/New_York:20231007T150000
DTSTAMP:20260424T152953
CREATED:20230703T121535Z
LAST-MODIFIED:20230703T121602Z
UID:10004167-1696672800-1696690800@lake-sunapee-living.com
SUMMARY:Scarecrow Building at the Olive G Pettis Library
DESCRIPTION:
URL:https://lake-sunapee-living.com/event/scarecrow-building-at-the-olive-g-pettis-library/
LOCATION:Olive Pettis Memorial Library\, 36 Mill Village Rd\, Goshen\, NH\, 03752\, United States
CATEGORIES:Fall Festival
GEO:43.3020714;-72.1491336
X-APPLE-STRUCTURED-LOCATION;VALUE=URI;X-ADDRESS=Olive Pettis Memorial Library 36 Mill Village Rd Goshen NH 03752 United States;X-APPLE-RADIUS=500;X-TITLE=36 Mill Village Rd:geo:-72.1491336,43.3020714
END:VEVENT
END:VCALENDAR