BEGIN:VCALENDAR
VERSION:2.0
PRODID:-//Lake Sunapee Living - ECPv6.15.13//NONSGML v1.0//EN
CALSCALE:GREGORIAN
METHOD:PUBLISH
X-ORIGINAL-URL:https://lake-sunapee-living.com
X-WR-CALDESC:Events for Lake Sunapee Living
REFRESH-INTERVAL;VALUE=DURATION:PT1H
X-Robots-Tag:noindex
X-PUBLISHED-TTL:PT1H
BEGIN:VTIMEZONE
TZID:America/New_York
BEGIN:DAYLIGHT
TZOFFSETFROM:-0500
TZOFFSETTO:-0400
TZNAME:EDT
DTSTART:20170312T070000
END:DAYLIGHT
BEGIN:STANDARD
TZOFFSETFROM:-0400
TZOFFSETTO:-0500
TZNAME:EST
DTSTART:20171105T060000
END:STANDARD
BEGIN:DAYLIGHT
TZOFFSETFROM:-0500
TZOFFSETTO:-0400
TZNAME:EDT
DTSTART:20180311T070000
END:DAYLIGHT
BEGIN:STANDARD
TZOFFSETFROM:-0400
TZOFFSETTO:-0500
TZNAME:EST
DTSTART:20181104T060000
END:STANDARD
BEGIN:DAYLIGHT
TZOFFSETFROM:-0500
TZOFFSETTO:-0400
TZNAME:EDT
DTSTART:20190310T070000
END:DAYLIGHT
BEGIN:STANDARD
TZOFFSETFROM:-0400
TZOFFSETTO:-0500
TZNAME:EST
DTSTART:20191103T060000
END:STANDARD
END:VTIMEZONE
BEGIN:VEVENT
DTSTART;TZID=America/New_York:20180812T110000
DTEND;TZID=America/New_York:20180812T180000
DTSTAMP:20260425T101736
CREATED:20180725T000844Z
LAST-MODIFIED:20180728T193933Z
UID:10000223-1534071600-1534096800@lake-sunapee-living.com
SUMMARY:Clark Estate Auction in Washington: Hosted by R. H. Putnam Auctions
DESCRIPTION:Auction: Estate of Russell & Phyllis Clark\nHosted by R. H. Putnam Auctions \nSunday\, August 12 at 11 AM – 6 PM\n2381 East Washington Road\nWashington\, NH 03280 \nCountry Auction liquidating the entire contents of the estate. Furnishings; accessories; pottery; silver; crocks; barn finds; wicker furnishings; license plates; john boat; cement statues; Christmas ornaments; loom; John Deer tractor attachments; vintage clothing and the list goes on and on. Plan on spending your Sunday here!
URL:https://lake-sunapee-living.com/event/clark-estate-auction-in-washington-hosted-by-r-h-putnam-auctions/
LOCATION:Estate of Russell & Phyllis Clark\, 2381 East Washington Rd\, Washington\, NH\, 03280\, United States
CATEGORIES:Estate Auction
GEO:43.1912115;-72.02201
X-APPLE-STRUCTURED-LOCATION;VALUE=URI;X-ADDRESS=Estate of Russell & Phyllis Clark 2381 East Washington Rd Washington NH 03280 United States;X-APPLE-RADIUS=500;X-TITLE=2381 East Washington Rd:geo:-72.02201,43.1912115
END:VEVENT
END:VCALENDAR