BEGIN:VCALENDAR
VERSION:2.0
PRODID:-//Lake Sunapee Living - ECPv6.15.13//NONSGML v1.0//EN
CALSCALE:GREGORIAN
METHOD:PUBLISH
X-ORIGINAL-URL:https://lake-sunapee-living.com
X-WR-CALDESC:Events for Lake Sunapee Living
REFRESH-INTERVAL;VALUE=DURATION:PT1H
X-Robots-Tag:noindex
X-PUBLISHED-TTL:PT1H
BEGIN:VTIMEZONE
TZID:America/New_York
BEGIN:DAYLIGHT
TZOFFSETFROM:-0500
TZOFFSETTO:-0400
TZNAME:EDT
DTSTART:20170312T070000
END:DAYLIGHT
BEGIN:STANDARD
TZOFFSETFROM:-0400
TZOFFSETTO:-0500
TZNAME:EST
DTSTART:20171105T060000
END:STANDARD
BEGIN:DAYLIGHT
TZOFFSETFROM:-0500
TZOFFSETTO:-0400
TZNAME:EDT
DTSTART:20180311T070000
END:DAYLIGHT
BEGIN:STANDARD
TZOFFSETFROM:-0400
TZOFFSETTO:-0500
TZNAME:EST
DTSTART:20181104T060000
END:STANDARD
BEGIN:DAYLIGHT
TZOFFSETFROM:-0500
TZOFFSETTO:-0400
TZNAME:EDT
DTSTART:20190310T070000
END:DAYLIGHT
BEGIN:STANDARD
TZOFFSETFROM:-0400
TZOFFSETTO:-0500
TZNAME:EST
DTSTART:20191103T060000
END:STANDARD
END:VTIMEZONE
BEGIN:VEVENT
DTSTART;TZID=America/New_York:20180220T100000
DTEND;TZID=America/New_York:20180220T110000
DTSTAMP:20260424T163806
CREATED:20180107T193456Z
LAST-MODIFIED:20180107T193456Z
UID:10000204-1519120800-1519124400@lake-sunapee-living.com
SUMMARY:Out and About at The Fells: Snow! Snow! Snow
DESCRIPTION:Let’s take a closer look at the white stuff! We’ll investigate what makes snow so special and the “secret kingdom” where animals live during the harsh cold winter. \nJoin Lake Sunapee Protective Association’s education staff in this program for pre-school age children and their caregivers. Children will love the hands on learning and sensory experiences; guided exploration; creative play; and art and music. \nFree. No reservations necessary. Meets at The Fells Gatehouse. Co-sponsored by The Fells and Lake Sunapee Protective Association.
URL:https://lake-sunapee-living.com/event/fells-snow-snow-snow/
LOCATION:The Fells\, 456 Route 103A\, Newbury\, 03255\, United States
CATEGORIES:Education Program
GEO:43.3526822;-72.0460611
X-APPLE-STRUCTURED-LOCATION;VALUE=URI;X-ADDRESS=The Fells 456 Route 103A Newbury 03255 United States;X-APPLE-RADIUS=500;X-TITLE=456 Route 103A:geo:-72.0460611,43.3526822
END:VEVENT
BEGIN:VEVENT
DTSTART;TZID=America/New_York:20180316T190000
DTEND;TZID=America/New_York:20180316T203000
DTSTAMP:20260424T163806
CREATED:20180107T194104Z
LAST-MODIFIED:20180107T194413Z
UID:10000206-1521226800-1521232200@lake-sunapee-living.com
SUMMARY:Program at The Fells: The Cougar Comes to the East
DESCRIPTION:Join us for a magnificently illustrated introduction to cougar biology and ecology in the broad diversity of habitats where Sue has studied them\, from Alberta to the Arizona/Mexico border. We will also get the low-down regarding the latest confirmations of cougars in the east\, including the recently documented suitability of a substantial amount of wild habitats from Manitoba to Louisiana and Maine to Georgia. It is only a matter of time! \nThis program can be combined with a group hike on the following day for a discounted fee for both events. Presentation only: members; $15\, nonmembers $20. Combined presentation and hike: members $35; nonmembers $45. Advance registration required. To register\, call 603-763-4789 ext. 3. Refreshments served.
URL:https://lake-sunapee-living.com/event/program-fells-cougar-comes-east/
LOCATION:The Fells\, 456 Route 103A\, Newbury\, 03255\, United States
CATEGORIES:Education Program
GEO:43.3526822;-72.0460611
X-APPLE-STRUCTURED-LOCATION;VALUE=URI;X-ADDRESS=The Fells 456 Route 103A Newbury 03255 United States;X-APPLE-RADIUS=500;X-TITLE=456 Route 103A:geo:-72.0460611,43.3526822
END:VEVENT
BEGIN:VEVENT
DTSTART;TZID=America/New_York:20180414T140000
DTEND;TZID=America/New_York:20180414T150000
DTSTAMP:20260424T163806
CREATED:20180402T221751Z
LAST-MODIFIED:20180402T221818Z
UID:10000060-1523714400-1523718000@lake-sunapee-living.com
SUMMARY:Sunapee Abbott Library: Cybersecurity with Mark Flater
DESCRIPTION:Saturday\, April 14 at 2 PM – 3 PM \nMark will share his knowledge about protecting yourself from ransomware\, computer viruses\, and ID theft. \nAbbott Library\n11 Soonipi Cir\, Sunapee\, NH
URL:https://lake-sunapee-living.com/event/sunapee-abbott-library-cybersecurity-with-mark-flater/
LOCATION:Abbott Library\, 11 Soonipi Cir\, Sunapee\, NH\, 03782\, United States
CATEGORIES:Education Program
GEO:43.3918627;-72.0889568
X-APPLE-STRUCTURED-LOCATION;VALUE=URI;X-ADDRESS=Abbott Library 11 Soonipi Cir Sunapee NH 03782 United States;X-APPLE-RADIUS=500;X-TITLE=11 Soonipi Cir:geo:-72.0889568,43.3918627
END:VEVENT
END:VCALENDAR